{"text_format":"1","workbook":"xlsx","n_sheets":208,"sheets":["Herstellerauswahl","BMW","BMW 1er","E81 3-Türer","E82 Coupe","E82 M Coupe","E82 Facelift Coupe","E87 5-Türer","E87 Facelift 5-Türer","E88 Cabrio","E88 Facelift Cabrio","F20 5-Türer","F20 Facelift 5-Türer","F21 3-Türer","F21 Facelift 3-Türer","F40 5-Türer","BMW 2er","F22 Coupe","F22 Facelift Coupe","F23 Cabrio","F23 Facelift Cabrio","F44 Gran Coupe","F45 Active Tourer","F45 Facelift Active Tourer","F46 Gran Tourer","F46 Facelift Gran Tourer","F87 M Coupe","F87 Facelift M Coupe","G42 Coupe","BMW 3er","E90 Limousine","E90 M Limousine","E90 M Coupe","E90 M Cabrio","E90 Facelift Limousine","E91 Touring","E91 Facelift Touring","E92 Coupe","E92 Facelift Coupe","E93 Cabrio","E93 Facelift Cabrio","F30 Limousine","F30 Facelift Limousine","F31 Touring","F31 Facelift Touring","F34 Gran Turismo","F34 Facelift Gran Turismo","F80 M Limousine","G20 Limousine","G21 Touring","G80 M Limousine","BMW 4er","F32 Coupe","F32 Facelift Coupe","F33 Cabrio","F33 Facelift Cabrio","F36 Gran Coupe","F36 Facelift Gran Coupe","F82 M Coupe","F82 Facelift M Coupe","F83 M Cabrio","F83 Facelift M Cabrio","G22 Coupe","G23 Cabrio","G26 Gran Coupe","i4 G26 Gran Coupe","G82 M Coupe","G83 M Cabrio","BMW 5er","E60 Limousine","E60 M Limousine","E60 Facelift Limousine","E61 Touring","E61 M Touring","E61 Facelift Touring","F07 Gran Turismo","F07 Facelift Gran Turismo","F10 Limousine","F10 M Limousine","F10 Facelift Limousine","F11 Touring","F11 Facelift Touring","F90 M Limousine","G30 Limousine","G30 Facelift Limousine","G31 Touring","G31 Facelift Touring","BMW 6er","E63 Coupe","E63 M Coupe","E63 Facelift Coupe","E64 Cabrio","E64 M Cabrio","E64 Facelift Cabrio","F06 Gran Coupe","F06 Facelift Gran Coupe","F06 M Gran Coupe","F12 Cabrio","F12 Facelift Cabrio","F12 M Cabrio","F13 Coupe","F13 Facelift Coupe","F13 M Coupe","G32 Gran Turismo","G32 Facelift Gran Turismo","BMW 7er","E65 Limousine","E65 Facelift Limousine","E66 Limousine","E66 Facelift Limousine","F01 Limousine","F01 Facelift Limousine","F02 Limousine","F02 Facelift Limousine","G11 Limousine","G11 Facelift Limousine","G12 Limousine","G12 Facelift Limousine","BMW 8er","F91 M Cabrio","F92 M Coupe","F93 M Gran Coupe","G14 Cabrio","G15 Coupe","G16 Gran Coupe","BMW X1","E84","E84 Facelift","F48","F48 Facelift","BMW X2","F39","BMW X3","E83","E83 Facelift","F25","F25 Facelift","G01","G01 Facelift","G08","F97 X3M","BMW X4","F26","G02","G02 Facelift","F98 X4M","BMW X5","E53","E53 Facelift","E70","E70 Facelift","E70 X5M","F15","F85 X5M","F95 X5M","G05","BMW X6","E71","E71 X6M","E71 Facelift","E71 Facelift X6M","F16","F86 X6M","F96 X6M","G06","BMW X7","G07","BMW Z4","E85 Roadster","E85 M Roadster","E85 Facelift Roadster","E86 Coupe","E86 M Coupe","E89 Roadster","E89 Facelift Roadster","G29 Roadster","Mini","Mini Clubman","F54","F54 Facelift","R55","R55 Facelift","Mini_1","F55 5-Türer","F55 Facelift 5-Türer","F56 3-Türer","F56 Facelift 3-Türer","R50 3-Türer","R53 3-Türer","R56 3-Türer","R56 Facelift 3-Türer","Mini Cabrio","F57","F57 Facelift","R52","R57","R57 Facelift","Mini Countryman","F60","F60 Facelift","R60","R60 Facelift","Mini Coupé","R58","Mini Roadster","R59","Mini Paceman","R61"],"not_rendered":{"charts":0,"images":1,"macros":1,"external_links":0,"defined_names":0,"comments":0,"pivot_tables":0},"unopened":[],"bounds":{"document_bytes":16777216,"sheet_cells":100000,"rows_first":2000,"rows_last":500,"rows_between":2000,"halvings":0,"cell_chars":16384,"cell_head_chars":4096},"cells_cut":0,"cells_raw":0,"read":"whole","date_system":"1900"}

{"sheet":"Herstellerauswahl","index":0,"n_rows":6,"n_cols":3,"rows_kept":6,"cut":false,"hidden":false,"merged":[]}
[null,"V. 2022_07"]
[]
[null,"Herstellerauswahl"]
[null,null,"pdf"]
[null,"BMW","Auswahl / Select"]
[null,"Mini","Auswahl / Select"]

{"sheet":"BMW","index":1,"n_rows":20,"n_cols":4,"rows_kept":20,"cut":false,"hidden":false,"merged":[]}
[]
[]
[null,"Modellauswahl für BMW","Home","Zurück / back"]
[]
[null,"BMW 1er","Auswahl / Select"]
[null,"BMW 2er","Auswahl / Select"]
[null,"BMW 3er","Auswahl / Select"]
[null,"BMW 4er","Auswahl / Select"]
[null,"BMW 5er","Auswahl / Select"]
[null,"BMW 6er","Auswahl / Select"]
[null,"BMW 7er","Auswahl / Select"]
[null,"BMW 8er","Auswahl / Select"]
[null,"BMW X1","Auswahl / Select"]
[null,"BMW X2","Auswahl / Select"]
[null,"BMW X3","Auswahl / Select"]
[null,"BMW X4","Auswahl / Select"]
[null,"BMW X5","Auswahl / Select"]
[null,"BMW X6","Auswahl / Select"]
[null,"BMW X7","Auswahl / Select"]
[null,"BMW Z4","Auswahl / Select"]

{"sheet":"BMW 1er","index":2,"n_rows":17,"n_cols":4,"rows_kept":17,"cut":false,"hidden":false,"merged":[]}
[]
[]
[null,"Typauswahl für BMW 1er","Home","Zurück / back"]
[]
[null,"E81 3-Türer","Auswahl / Select"]
[null,"E82 Coupe","Auswahl / Select"]
[null,"E82 M Coupe","Auswahl / Select"]
[null,"E82 Facelift Coupe","Auswahl / Select"]
[null,"E87 5-Türer","Auswahl / Select"]
[null,"E87 Facelift 5-Türer","Auswahl / Select"]
[null,"E88 Cabrio","Auswahl / Select"]
[null,"E88 Facelift Cabrio","Auswahl / Select"]
[null,"F20 5-Türer","Auswahl / Select"]
[null,"F20 Facelift 5-Türer","Auswahl / Select"]
[null,"F21 3-Türer","Auswahl / Select"]
[null,"F21 Facelift 3-Türer","Auswahl / Select"]
[null,"F40 5-Türer","Auswahl / Select"]

{"sheet":"E81 3-Türer","index":3,"n_rows":23,"n_cols":4,"rows_kept":23,"cut":false,"hidden":false,"merged":[]}
[]
[]
["TSN/HSN","Motorauswahl für E81 3-Türer","Home","Zurück / back"]
[]
["0005/ABY",{"$f":"HYPERLINK(\"files\\1001.\"&Herstellerauswahl!$C$4,\"BMW 1er 3-Türer, 116d, E81, 116 PS / 85 kW\")","v":"BMW 1er 3-Türer, 116d, E81, 116 PS / 85 kW"},{"$f":"HYPERLINK(\"files\\1001.\"&Herstellerauswahl!$C$4,\"Auswahl / Select 1001\")","v":"Auswahl / Select 1001"}]
["0005/ARN",{"$f":"HYPERLINK(\"files\\1001.\"&Herstellerauswahl!$C$4,\"BMW 1er 3-Türer, 116d, E81, 90 PS / 66 kW\")","v":"BMW 1er 3-Türer, 116d, E81, 90 PS / 66 kW"},{"$f":"HYPERLINK(\"files\\1001.\"&Herstellerauswahl!$C$4,\"Auswahl / Select 1001\")","v":"Auswahl / Select 1001"}]
["0005/AJZ/ARD",{"$f":"HYPERLINK(\"files\\1001.\"&Herstellerauswahl!$C$4,\"BMW 1er 3-Türer, 116i, E81, 122 PS / 90 kW\")","v":"BMW 1er 3-Türer, 116i, E81, 122 PS / 90 kW"},{"$f":"HYPERLINK(\"files\\1001.\"&Herstellerauswahl!$C$4,\"Auswahl / Select 1001\")","v":"Auswahl / Select 1001"}]
["0005/ACW/ARC",{"$f":"HYPERLINK(\"files\\1001.\"&Herstellerauswahl!$C$4,\"BMW 1er 3-Türer, 116i, E81, 116 PS / 85 kW\")","v":"BMW 1er 3-Türer, 116i, E81, 116 PS / 85 kW"},{"$f":"HYPERLINK(\"files\\1001.\"&Herstellerauswahl!$C$4,\"Auswahl / Select 1001\")","v":"Auswahl / Select 1001"}]
["0005/AHX/ARH/ARP",{"$f":"HYPERLINK(\"files\\1001.\"&Herstellerauswahl!$C$4,\"BMW 1er 3-Türer, 118d, E81, 136 PS / 100 kW\")","v":"BMW 1er 3-Türer, 118d, E81, 136 PS / 100 kW"},{"$f":"HYPERLINK(\"files\\1001.\"&Herstellerauswahl!$C$4,\"Auswahl / Select 1001\")","v":"Auswahl / Select 1001"}]
["0005/AHW/ARO",{"$f":"HYPERLINK(\"files\\1001.\"&Herstellerauswahl!$C$4,\"BMW 1er 3-Türer, 118d, E81, 143 PS / 105 kW\")","v":"BMW 1er 3-Türer, 118d, E81, 143 PS / 105 kW"},{"$f":"HYPERLINK(\"files\\1001.\"&Herstellerauswahl!$C$4,\"Auswahl / Select 1001\")","v":"Auswahl / Select 1001"}]
["0005/AAE/ARG",{"$f":"HYPERLINK(\"files\\1001.\"&Herstellerauswahl!$C$4,\"BMW 1er 3-Türer, 118i, E81, 143 PS / 105 kW\")","v":"BMW 1er 3-Türer, 118i, E81, 143 PS / 105 kW"},{"$f":"HYPERLINK(\"files\\1001.\"&Herstellerauswahl!$C$4,\"Auswahl / Select 1001\")","v":"Auswahl / Select 1001"}]
["0005/AJN",{"$f":"HYPERLINK(\"files\\1001.\"&Herstellerauswahl!$C$4,\"BMW 1er 3-Türer, 118i, E81, 136 PS / 100 kW\")","v":"BMW 1er 3-Türer, 118i, E81, 136 PS / 100 kW"},{"$f":"HYPERLINK(\"files\\1001.\"&Herstellerauswahl!$C$4,\"Auswahl / Select 1001\")","v":"Auswahl / Select 1001"}]
["0005/AOH/ARE",{"$f":"HYPERLINK(\"files\\1001.\"&Herstellerauswahl!$C$4,\"BMW 1er 3-Türer, 118i, E81, 122 PS / 90 kW\")","v":"BMW 1er 3-Türer, 118i, E81, 122 PS / 90 kW"},{"$f":"HYPERLINK(\"files\\1001.\"&Herstellerauswahl!$C$4,\"Auswahl / Select 1001\")","v":"Auswahl / Select 1001"}]
["0005/AOR/ARF",{"$f":"HYPERLINK(\"files\\1001.\"&Herstellerauswahl!$C$4,\"BMW 1er 3-Türer, 118i, E81, 121 PS / 89 kW\")","v":"BMW 1er 3-Türer, 118i, E81, 121 PS / 89 kW"},{"$f":"HYPERLINK(\"files\\1001.\"&Herstellerauswahl!$C$4,\"Auswahl / Select 1001\")","v":"Auswahl / Select 1001"}]
["0005/ACP/ARR",{"$f":"HYPERLINK(\"files\\1001.\"&Herstellerauswahl!$C$4,\"BMW 1er 3-Türer, 120d, E81, 163 PS / 120 kW\")","v":"BMW 1er 3-Türer, 120d, E81, 163 PS / 120 kW"},{"$f":"HYPERLINK(\"files\\1001.\"&Herstellerauswahl!$C$4,\"Auswahl / Select 1001\")","v":"Auswahl / Select 1001"}]
["0005/AHY/ARQ",{"$f":"HYPERLINK(\"files\\1001.\"&Herstellerauswahl!$C$4,\"BMW 1er 3-Türer, 120d, E81, 177 PS / 130 kW\")","v":"BMW 1er 3-Türer, 120d, E81, 177 PS / 130 kW"},{"$f":"HYPERLINK(\"files\\1001.\"&Herstellerauswahl!$C$4,\"Auswahl / Select 1001\")","v":"Auswahl / Select 1001"}]
["0005/AZF",{"$f":"HYPERLINK(\"files\\1001.\"&Herstellerauswahl!$C$4,\"BMW 1er 3-Türer, 120d, E81, 197 PS / 145 kW\")","v":"BMW 1er 3-Türer, 120d, E81, 197 PS / 145 kW"},{"$f":"HYPERLINK(\"files\\1001.\"&Herstellerauswahl!$C$4,\"Auswahl / Select 1001\")","v":"Auswahl / Select 1001"}]
["0005/AGJ/ARI",{"$f":"HYPERLINK(\"files\\1001.\"&Herstellerauswahl!$C$4,\"BMW 1er 3-Türer, 120i, E81, 170 PS / 125 kW\")","v":"BMW 1er 3-Türer, 120i, E81, 170 PS / 125 kW"},{"$f":"HYPERLINK(\"files\\1001.\"&Herstellerauswahl!$C$4,\"Auswahl / Select 1001\")","v":"Auswahl / Select 1001"}]
["0005/AGK/ARJ",{"$f":"HYPERLINK(\"files\\1001.\"&Herstellerauswahl!$C$4,\"BMW 1er 3-Türer, 120i, E81, 163 PS / 120 kW\")","v":"BMW 1er 3-Türer, 120i, E81, 163 PS / 120 kW"},{"$f":"HYPERLINK(\"files\\1001.\"&Herstellerauswahl!$C$4,\"Auswahl / Select 1001\")","v":"Auswahl / Select 1001"}]
["0005/AJM/ARK",{"$f":"HYPERLINK(\"files\\1001.\"&Herstellerauswahl!$C$4,\"BMW 1er 3-Türer, 120i, E81, 156 PS / 115 kW\")","v":"BMW 1er 3-Türer, 120i, E81, 156 PS / 115 kW"},{"$f":"HYPERLINK(\"files\\1001.\"&Herstellerauswahl!$C$4,\"Auswahl / Select 1001\")","v":"Auswahl / Select 1001"}]
["0005/AKA/ARS",{"$f":"HYPERLINK(\"files\\1001.\"&Herstellerauswahl!$C$4,\"BMW 1er 3-Türer, 123d, E81, 204 PS / 150 kW\")","v":"BMW 1er 3-Türer, 123d, E81, 204 PS / 150 kW"},{"$f":"HYPERLINK(\"files\\1001.\"&Herstellerauswahl!$C$4,\"Auswahl / Select 1001\")","v":"Auswahl / Select 1001"}]
["0005/ACU",{"$f":"HYPERLINK(\"files\\1001.\"&Herstellerauswahl!$C$4,\"BMW 1er 3-Türer, 130i, E81, 265 PS / 195 kW\")","v":"BMW 1er 3-Türer, 130i, E81, 265 PS / 195 kW"},{"$f":"HYPERLINK(\"files\\1001.\"&Herstellerauswahl!$C$4,\"Auswahl / Select 1001\")","v":"Auswahl / Select 1001"}]
["0005/AQJ",{"$f":"HYPERLINK(\"files\\1001.\"&Herstellerauswahl!$C$4,\"BMW 1er 3-Türer, 130i, E81, 258 PS / 190 kW\")","v":"BMW 1er 3-Türer, 130i, E81, 258 PS / 190 kW"},{"$f":"HYPERLINK(\"files\\1001.\"&Herstellerauswahl!$C$4,\"Auswahl / Select 1001\")","v":"Auswahl / Select 1001"}]

{"sheet":"E82 Coupe","index":4,"n_rows":15,"n_cols":4,"rows_kept":15,"cut":false,"hidden":false,"merged":[]}
[]
[]
["TSN/HSN","Motorauswahl für E82 Coupe","Home","Zurück / back"]
[]
["0005/AQI",{"$f":"HYPERLINK(\"files\\1009.\"&Herstellerauswahl!$C$4,\"BMW 1er Coupe, 118d, E82, 136 PS / 100 kW\")","v":"BMW 1er Coupe, 118d, E82, 136 PS / 100 kW"},{"$f":"HYPERLINK(\"files\\1009.\"&Herstellerauswahl!$C$4,\"Auswahl / Select 1009\")","v":"Auswahl / Select 1009"}]
["0005/AQH",{"$f":"HYPERLINK(\"files\\1009.\"&Herstellerauswahl!$C$4,\"BMW 1er Coupe, 118d, E82, 143 PS / 105 kW\")","v":"BMW 1er Coupe, 118d, E82, 143 PS / 105 kW"},{"$f":"HYPERLINK(\"files\\1009.\"&Herstellerauswahl!$C$4,\"Auswahl / Select 1009\")","v":"Auswahl / Select 1009"}]
["0005/AKD/ASV",{"$f":"HYPERLINK(\"files\\1009.\"&Herstellerauswahl!$C$4,\"BMW 1er Coupe, 120d, E82, 163 PS / 120 kW\")","v":"BMW 1er Coupe, 120d, E82, 163 PS / 120 kW"},{"$f":"HYPERLINK(\"files\\1009.\"&Herstellerauswahl!$C$4,\"Auswahl / Select 1009\")","v":"Auswahl / Select 1009"}]
["0005/AKC/AQX",{"$f":"HYPERLINK(\"files\\1009.\"&Herstellerauswahl!$C$4,\"BMW 1er Coupe, 120d, E82, 177 PS / 130 kW\")","v":"BMW 1er Coupe, 120d, E82, 177 PS / 130 kW"},{"$f":"HYPERLINK(\"files\\1009.\"&Herstellerauswahl!$C$4,\"Auswahl / Select 1009\")","v":"Auswahl / Select 1009"}]
["0005/AZG",{"$f":"HYPERLINK(\"files\\1009.\"&Herstellerauswahl!$C$4,\"BMW 1er Coupe, 120d, E82, 197 PS / 145 kW\")","v":"BMW 1er Coupe, 120d, E82, 197 PS / 145 kW"},{"$f":"HYPERLINK(\"files\\1009.\"&Herstellerauswahl!$C$4,\"Auswahl / Select 1009\")","v":"Auswahl / Select 1009"}]
["0005/AQG",{"$f":"HYPERLINK(\"files\\1009.\"&Herstellerauswahl!$C$4,\"BMW 1er Coupe, 120i, E82, 156 PS / 115 kW\")","v":"BMW 1er Coupe, 120i, E82, 156 PS / 115 kW"},{"$f":"HYPERLINK(\"files\\1009.\"&Herstellerauswahl!$C$4,\"Auswahl / Select 1009\")","v":"Auswahl / Select 1009"}]
["0005/AQF",{"$f":"HYPERLINK(\"files\\1009.\"&Herstellerauswahl!$C$4,\"BMW 1er Coupe, 120i, E82, 170 PS / 125 kW\")","v":"BMW 1er Coupe, 120i, E82, 170 PS / 125 kW"},{"$f":"HYPERLINK(\"files\\1009.\"&Herstellerauswahl!$C$4,\"Auswahl / Select 1009\")","v":"Auswahl / Select 1009"}]
["0005/AKE/ARA",{"$f":"HYPERLINK(\"files\\1009.\"&Herstellerauswahl!$C$4,\"BMW 1er Coupe, 123d, E82, 204 PS / 150 kW\")","v":"BMW 1er Coupe, 123d, E82, 204 PS / 150 kW"},{"$f":"HYPERLINK(\"files\\1009.\"&Herstellerauswahl!$C$4,\"Auswahl / Select 1009\")","v":"Auswahl / Select 1009"}]
["0005/AMS/AQS",{"$f":"HYPERLINK(\"files\\1009.\"&Herstellerauswahl!$C$4,\"BMW 1er Coupe, 125i, E82, 218 PS / 160 kW\")","v":"BMW 1er Coupe, 125i, E82, 218 PS / 160 kW"},{"$f":"HYPERLINK(\"files\\1009.\"&Herstellerauswahl!$C$4,\"Auswahl / Select 1009\")","v":"Auswahl / Select 1009"}]
["0005/AKB/AQU",{"$f":"HYPERLINK(\"files\\1009.\"&Herstellerauswahl!$C$4,\"BMW 1er Coupe, M135i, E82, 306 PS / 225 kW\")","v":"BMW 1er Coupe, M135i, E82, 306 PS / 225 kW"},{"$f":"HYPERLINK(\"files\\1009.\"&Herstellerauswahl!$C$4,\"Auswahl / Select 1009\")","v":"Auswahl / Select 1009"}]
["0005/APD/ASW",{"$f":"HYPERLINK(\"files\\1009.\"&Herstellerauswahl!$C$4,\"BMW 1er Coupe, M135i, E82, 326 PS / 240 kW\")","v":"BMW 1er Coupe, M135i, E82, 326 PS / 240 kW"},{"$f":"HYPERLINK(\"files\\1009.\"&Herstellerauswahl!$C$4,\"Auswahl / Select 1009\")","v":"Auswahl / Select 1009"}]

{"sheet":"E82 M Coupe","index":5,"n_rows":5,"n_cols":4,"rows_kept":5,"cut":false,"hidden":false,"merged":[]}
[]
[]
["TSN/HSN","Motorauswahl für E82 M Coupe","Home","Zurück / back"]
[]
["7909/AAU",{"$f":"HYPERLINK(\"files\\1008.\"&Herstellerauswahl!$C$4,\"BMW 1er M Coupe, M1, E82, 340 PS / 250 kW\")","v":"BMW 1er M Coupe, M1, E82, 340 PS / 250 kW"},{"$f":"HYPERLINK(\"files\\1008.\"&Herstellerauswahl!$C$4,\"Auswahl / Select 1008\")","v":"Auswahl / Select 1008"}]

{"sheet":"E82 Facelift Coupe","index":6,"n_rows":15,"n_cols":4,"rows_kept":15,"cut":false,"hidden":false,"merged":[]}
[]
[]
["TSN/HSN","Motorauswahl für E82 Facelift Coupe","Home","Zurück / back"]
[]
["0005/AQI",{"$f":"HYPERLINK(\"files\\1009.\"&Herstellerauswahl!$C$4,\"BMW 1er Coupe, 118d, E82 (LCI), 136 PS / 100 kW\")","v":"BMW 1er Coupe, 118d, E82 (LCI), 136 PS / 100 kW"},{"$f":"HYPERLINK(\"files\\1009.\"&Herstellerauswahl!$C$4,\"Auswahl / Select 1009\")","v":"Auswahl / Select 1009"}]
["0005/AQH",{"$f":"HYPERLINK(\"files\\1009.\"&Herstellerauswahl!$C$4,\"BMW 1er Coupe, 118d, E82 (LCI), 143 PS / 105 kW\")","v":"BMW 1er Coupe, 118d, E82 (LCI), 143 PS / 105 kW"},{"$f":"HYPERLINK(\"files\\1009.\"&Herstellerauswahl!$C$4,\"Auswahl / Select 1009\")","v":"Auswahl / Select 1009"}]
["0005/ASV",{"$f":"HYPERLINK(\"files\\1009.\"&Herstellerauswahl!$C$4,\"BMW 1er Coupe, 120d, E82 (LCI), 163 PS / 120 kW\")","v":"BMW 1er Coupe, 120d, E82 (LCI), 163 PS / 120 kW"},{"$f":"HYPERLINK(\"files\\1009.\"&Herstellerauswahl!$C$4,\"Auswahl / Select 1009\")","v":"Auswahl / Select 1009"}]
["0005/AQX",{"$f":"HYPERLINK(\"files\\1009.\"&Herstellerauswahl!$C$4,\"BMW 1er Coupe, 120d, E82 (LCI), 177 PS / 130 kW\")","v":"BMW 1er Coupe, 120d, E82 (LCI), 177 PS / 130 kW"},{"$f":"HYPERLINK(\"files\\1009.\"&Herstellerauswahl!$C$4,\"Auswahl / Select 1009\")","v":"Auswahl / Select 1009"}]
["0005/AZG",{"$f":"HYPERLINK(\"files\\1009.\"&Herstellerauswahl!$C$4,\"BMW 1er Coupe, 120d, E82 (LCI), 197 PS / 145 kW\")","v":"BMW 1er Coupe, 120d, E82 (LCI), 197 PS / 145 kW"},{"$f":"HYPERLINK(\"files\\1009.\"&Herstellerauswahl!$C$4,\"Auswahl / Select 1009\")","v":"Auswahl / Select 1009"}]
["0005/AQF",{"$f":"HYPERLINK(\"files\\1009.\"&Herstellerauswahl!$C$4,\"BMW 1er Coupe, 120i, E82 (LCI), 170 PS / 125 kW\")","v":"BMW 1er Coupe, 120i, E82 (LCI), 170 PS / 125 kW"},{"$f":"HYPERLINK(\"files\\1009.\"&Herstellerauswahl!$C$4,\"Auswahl / Select 1009\")","v":"Auswahl / Select 1009"}]
["0005/AQG",{"$f":"HYPERLINK(\"files\\1009.\"&Herstellerauswahl!$C$4,\"BMW 1er Coupe, 120i, E82 (LCI), 156 PS / 115 kW\")","v":"BMW 1er Coupe, 120i, E82 (LCI), 156 PS / 115 kW"},{"$f":"HYPERLINK(\"files\\1009.\"&Herstellerauswahl!$C$4,\"Auswahl / Select 1009\")","v":"Auswahl / Select 1009"}]
["0005/ARA",{"$f":"HYPERLINK(\"files\\1009.\"&Herstellerauswahl!$C$4,\"BMW 1er Coupe, 123d, E82 (LCI), 204 PS / 150 kW\")","v":"BMW 1er Coupe, 123d, E82 (LCI), 204 PS / 150 kW"},{"$f":"HYPERLINK(\"files\\1009.\"&Herstellerauswahl!$C$4,\"Auswahl / Select 1009\")","v":"Auswahl / Select 1009"}]
["0005/AQS",{"$f":"HYPERLINK(\"files\\1009.\"&Herstellerauswahl!$C$4,\"BMW 1er Coupe, 125i, E82 (LCI), 218 PS / 160 kW\")","v":"BMW 1er Coupe, 125i, E82 (LCI), 218 PS / 160 kW"},{"$f":"HYPERLINK(\"files\\1009.\"&Herstellerauswahl!$C$4,\"Auswahl / Select 1009\")","v":"Auswahl / Select 1009"}]
["0005/AQU",{"$f":"HYPERLINK(\"files\\1009.\"&Herstellerauswahl!$C$4,\"BMW 1er Coupe, M135i, E82 (LCI), 306 PS / 225 kW\")","v":"BMW 1er Coupe, M135i, E82 (LCI), 306 PS / 225 kW"},{"$f":"HYPERLINK(\"files\\1009.\"&Herstellerauswahl!$C$4,\"Auswahl / Select 1009\")","v":"Auswahl / Select 1009"}]
["0005/ASW",{"$f":"HYPERLINK(\"files\\1009.\"&Herstellerauswahl!$C$4,\"BMW 1er Coupe, M135i, E82 (LCI), 326 PS / 240 kW\")","v":"BMW 1er Coupe, M135i, E82 (LCI), 326 PS / 240 kW"},{"$f":"HYPERLINK(\"files\\1009.\"&Herstellerauswahl!$C$4,\"Auswahl / Select 1009\")","v":"Auswahl / Select 1009"}]

{"sheet":"E87 5-Türer","index":7,"n_rows":12,"n_cols":4,"rows_kept":12,"cut":false,"hidden":false,"merged":[]}
[]
[]
["TSN/HSN","Motorauswahl für E87 5-Türer","Home","Zurück / back"]
[]
["0005/163/AAM/ACW",{"$f":"HYPERLINK(\"files\\1001.\"&Herstellerauswahl!$C$4,\"BMW 1er 5-Türer, 116i, E87, 116 PS / 85 kW\")","v":"BMW 1er 5-Türer, 116i, E87, 116 PS / 85 kW"},{"$f":"HYPERLINK(\"files\\1001.\"&Herstellerauswahl!$C$4,\"Auswahl / Select 1001\")","v":"Auswahl / Select 1001"}]
["0005/165/AAK/ACR",{"$f":"HYPERLINK(\"files\\1001.\"&Herstellerauswahl!$C$4,\"BMW 1er 5-Türer, 118i, E87, 129 PS / 95 kW\")","v":"BMW 1er 5-Türer, 118i, E87, 129 PS / 95 kW"},{"$f":"HYPERLINK(\"files\\1001.\"&Herstellerauswahl!$C$4,\"Auswahl / Select 1001\")","v":"Auswahl / Select 1001"}]
["0005/164/AAG/ACT",{"$f":"HYPERLINK(\"files\\1001.\"&Herstellerauswahl!$C$4,\"BMW 1er 5-Türer, 118d, E87, 122 PS / 90 kW\")","v":"BMW 1er 5-Türer, 118d, E87, 122 PS / 90 kW"},{"$f":"HYPERLINK(\"files\\1001.\"&Herstellerauswahl!$C$4,\"Auswahl / Select 1001\")","v":"Auswahl / Select 1001"}]
["0005/173/AAN/ACV",{"$f":"HYPERLINK(\"files\\1001.\"&Herstellerauswahl!$C$4,\"BMW 1er 5-Türer, 118d, E87, 121 PS / 89 kW\")","v":"BMW 1er 5-Türer, 118d, E87, 121 PS / 89 kW"},{"$f":"HYPERLINK(\"files\\1001.\"&Herstellerauswahl!$C$4,\"Auswahl / Select 1001\")","v":"Auswahl / Select 1001"}]
["0005/166/182/AAJ/ACS",{"$f":"HYPERLINK(\"files\\1001.\"&Herstellerauswahl!$C$4,\"BMW 1er 5-Türer, 120i, E87, 150 PS / 110 kW\")","v":"BMW 1er 5-Türer, 120i, E87, 150 PS / 110 kW"},{"$f":"HYPERLINK(\"files\\1001.\"&Herstellerauswahl!$C$4,\"Auswahl / Select 1001\")","v":"Auswahl / Select 1001"}]
["0005/AAI/ACQ",{"$f":"HYPERLINK(\"files\\1001.\"&Herstellerauswahl!$C$4,\"BMW 1er 5-Türer, 120d, E87, 150 PS / 110 kW\")","v":"BMW 1er 5-Türer, 120d, E87, 150 PS / 110 kW"},{"$f":"HYPERLINK(\"files\\1001.\"&Herstellerauswahl!$C$4,\"Auswahl / Select 1001\")","v":"Auswahl / Select 1001"}]
["0005/167/AAL/ACP",{"$f":"HYPERLINK(\"files\\1001.\"&Herstellerauswahl!$C$4,\"BMW 1er 5-Türer, 120d, E87, 163 PS / 120 kW\")","v":"BMW 1er 5-Türer, 120d, E87, 163 PS / 120 kW"},{"$f":"HYPERLINK(\"files\\1001.\"&Herstellerauswahl!$C$4,\"Auswahl / Select 1001\")","v":"Auswahl / Select 1001"}]
["0005/843/AAH/ACU",{"$f":"HYPERLINK(\"files\\1001.\"&Herstellerauswahl!$C$4,\"BMW 1er 5-Türer, 130i, E87, 265 PS / 195 kW\")","v":"BMW 1er 5-Türer, 130i, E87, 265 PS / 195 kW"},{"$f":"HYPERLINK(\"files\\1001.\"&Herstellerauswahl!$C$4,\"Auswahl / Select 1001\")","v":"Auswahl / Select 1001"}]

{"sheet":"E87 Facelift 5-Türer","index":8,"n_rows":24,"n_cols":4,"rows_kept":24,"cut":false,"hidden":false,"merged":[]}
[]
[]
["TSN/HSN","Motorauswahl für E87 Facelift 5-Türer","Home","Zurück / back"]
[]
["0005/AOG/ASD",{"$f":"HYPERLINK(\"files\\1001.\"&Herstellerauswahl!$C$4,\"BMW 1er 5-Türer, 116d, E87 (LCI), 116 PS / 85 kW\")","v":"BMW 1er 5-Türer, 116d, E87 (LCI), 116 PS / 85 kW"},{"$f":"HYPERLINK(\"files\\1001.\"&Herstellerauswahl!$C$4,\"Auswahl / Select 1001\")","v":"Auswahl / Select 1001"}]
["0005/AOQ/ASE",{"$f":"HYPERLINK(\"files\\1001.\"&Herstellerauswahl!$C$4,\"BMW 1er 5-Türer, 116d, E87 (LCI), 90 PS / 66 kW\")","v":"BMW 1er 5-Türer, 116d, E87 (LCI), 90 PS / 66 kW"},{"$f":"HYPERLINK(\"files\\1001.\"&Herstellerauswahl!$C$4,\"Auswahl / Select 1001\")","v":"Auswahl / Select 1001"}]
["0005/AJY",{"$f":"HYPERLINK(\"files\\1001.\"&Herstellerauswahl!$C$4,\"BMW 1er 5-Türer, 116i, E87 (LCI), 121 PS / 89 kW\")","v":"BMW 1er 5-Türer, 116i, E87 (LCI), 121 PS / 89 kW"},{"$f":"HYPERLINK(\"files\\1001.\"&Herstellerauswahl!$C$4,\"Auswahl / Select 1001\")","v":"Auswahl / Select 1001"}]
["0005/AJZ/ARU",{"$f":"HYPERLINK(\"files\\1001.\"&Herstellerauswahl!$C$4,\"BMW 1er 5-Türer, 116i, E87 (LCI), 122 PS / 90 kW\")","v":"BMW 1er 5-Türer, 116i, E87 (LCI), 122 PS / 90 kW"},{"$f":"HYPERLINK(\"files\\1001.\"&Herstellerauswahl!$C$4,\"Auswahl / Select 1001\")","v":"Auswahl / Select 1001"}]
["0005/ACW/ART",{"$f":"HYPERLINK(\"files\\1001.\"&Herstellerauswahl!$C$4,\"BMW 1er 5-Türer, 116i, E87 (LCI), 116 PS / 85 kW\")","v":"BMW 1er 5-Türer, 116i, E87 (LCI), 116 PS / 85 kW"},{"$f":"HYPERLINK(\"files\\1001.\"&Herstellerauswahl!$C$4,\"Auswahl / Select 1001\")","v":"Auswahl / Select 1001"}]
["0005/AHX/ASG",{"$f":"HYPERLINK(\"files\\1001.\"&Herstellerauswahl!$C$4,\"BMW 1er 5-Türer, 118d, E87 (LCI), 136 PS / 100 kW\")","v":"BMW 1er 5-Türer, 118d, E87 (LCI), 136 PS / 100 kW"},{"$f":"HYPERLINK(\"files\\1001.\"&Herstellerauswahl!$C$4,\"Auswahl / Select 1001\")","v":"Auswahl / Select 1001"}]
["0005/AHW/ASF",{"$f":"HYPERLINK(\"files\\1001.\"&Herstellerauswahl!$C$4,\"BMW 1er 5-Türer, 118d, E87 (LCI), 143 PS / 105 kW\")","v":"BMW 1er 5-Türer, 118d, E87 (LCI), 143 PS / 105 kW"},{"$f":"HYPERLINK(\"files\\1001.\"&Herstellerauswahl!$C$4,\"Auswahl / Select 1001\")","v":"Auswahl / Select 1001"}]
["0005/AAE/ARX",{"$f":"HYPERLINK(\"files\\1001.\"&Herstellerauswahl!$C$4,\"BMW 1er 5-Türer, 118i, E87 (LCI), 143 PS / 105 kW\")","v":"BMW 1er 5-Türer, 118i, E87 (LCI), 143 PS / 105 kW"},{"$f":"HYPERLINK(\"files\\1001.\"&Herstellerauswahl!$C$4,\"Auswahl / Select 1001\")","v":"Auswahl / Select 1001"}]
["0005/AJN/ARY",{"$f":"HYPERLINK(\"files\\1001.\"&Herstellerauswahl!$C$4,\"BMW 1er 5-Türer, 118i, E87 (LCI), 136 PS / 100 kW\")","v":"BMW 1er 5-Türer, 118i, E87 (LCI), 136 PS / 100 kW"},{"$f":"HYPERLINK(\"files\\1001.\"&Herstellerauswahl!$C$4,\"Auswahl / Select 1001\")","v":"Auswahl / Select 1001"}]
["0005/AOH/ARV",{"$f":"HYPERLINK(\"files\\1001.\"&Herstellerauswahl!$C$4,\"BMW 1er 5-Türer, 118i, E87 (LCI), 122 PS / 90 kW\")","v":"BMW 1er 5-Türer, 118i, E87 (LCI), 122 PS / 90 kW"},{"$f":"HYPERLINK(\"files\\1001.\"&Herstellerauswahl!$C$4,\"Auswahl / Select 1001\")","v":"Auswahl / Select 1001"}]
["0005/AOR/ARW",{"$f":"HYPERLINK(\"files\\1001.\"&Herstellerauswahl!$C$4,\"BMW 1er 5-Türer, 118i, E87 (LCI), 121 PS / 89 kW\")","v":"BMW 1er 5-Türer, 118i, E87 (LCI), 121 PS / 89 kW"},{"$f":"HYPERLINK(\"files\\1001.\"&Herstellerauswahl!$C$4,\"Auswahl / Select 1001\")","v":"Auswahl / Select 1001"}]
["0005/ACP/ASI",{"$f":"HYPERLINK(\"files\\1001.\"&Herstellerauswahl!$C$4,\"BMW 1er 5-Türer, 120d, E87 (LCI), 163 PS / 120 kW\")","v":"BMW 1er 5-Türer, 120d, E87 (LCI), 163 PS / 120 kW"},{"$f":"HYPERLINK(\"files\\1001.\"&Herstellerauswahl!$C$4,\"Auswahl / Select 1001\")","v":"Auswahl / Select 1001"}]
["0005/AHY/ASH",{"$f":"HYPERLINK(\"files\\1001.\"&Herstellerauswahl!$C$4,\"BMW 1er 5-Türer, 120d, E87 (LCI), 177 PS / 130 kW\")","v":"BMW 1er 5-Türer, 120d, E87 (LCI), 177 PS / 130 kW"},{"$f":"HYPERLINK(\"files\\1001.\"&Herstellerauswahl!$C$4,\"Auswahl / Select 1001\")","v":"Auswahl / Select 1001"}]
["0005/AZI",{"$f":"HYPERLINK(\"files\\1001.\"&Herstellerauswahl!$C$4,\"BMW 1er 5-Türer, 120d, E87 (LCI), 197 PS / 145 kW\")","v":"BMW 1er 5-Türer, 120d, E87 (LCI), 197 PS / 145 kW"},{"$f":"HYPERLINK(\"files\\1001.\"&Herstellerauswahl!$C$4,\"Auswahl / Select 1001\")","v":"Auswahl / Select 1001"}]
["0005/AGJ/ARZ",{"$f":"HYPERLINK(\"files\\1001.\"&Herstellerauswahl!$C$4,\"BMW 1er 5-Türer, 120i, E87 (LCI), 170 PS / 125 kW\")","v":"BMW 1er 5-Türer, 120i, E87 (LCI), 170 PS / 125 kW"},{"$f":"HYPERLINK(\"files\\1001.\"&Herstellerauswahl!$C$4,\"Auswahl / Select 1001\")","v":"Auswahl / Select 1001"}]
["0005/AGK/ASA",{"$f":"HYPERLINK(\"files\\1001.\"&Herstellerauswahl!$C$4,\"BMW 1er 5-Türer, 120i, E87 (LCI), 163 PS / 120 kW\")","v":"BMW 1er 5-Türer, 120i, E87 (LCI), 163 PS / 120 kW"},{"$f":"HYPERLINK(\"files\\1001.\"&Herstellerauswahl!$C$4,\"Auswahl / Select 1001\")","v":"Auswahl / Select 1001"}]
["0005/AJM/ASB",{"$f":"HYPERLINK(\"files\\1001.\"&Herstellerauswahl!$C$4,\"BMW 1er 5-Türer, 120i, E87 (LCI), 156 PS / 115 kW\")","v":"BMW 1er 5-Türer, 120i, E87 (LCI), 156 PS / 115 kW"},{"$f":"HYPERLINK(\"files\\1001.\"&Herstellerauswahl!$C$4,\"Auswahl / Select 1001\")","v":"Auswahl / Select 1001"}]
["0005/AKA/ASJ",{"$f":"HYPERLINK(\"files\\1001.\"&Herstellerauswahl!$C$4,\"BMW 1er 5-Türer, 123d, E87 (LCI), 204 PS / 150 kW\")","v":"BMW 1er 5-Türer, 123d, E87 (LCI), 204 PS / 150 kW"},{"$f":"HYPERLINK(\"files\\1001.\"&Herstellerauswahl!$C$4,\"Auswahl / Select 1001\")","v":"Auswahl / Select 1001"}]
["0005/ACU",{"$f":"HYPERLINK(\"files\\1001.\"&Herstellerauswahl!$C$4,\"BMW 1er 5-Türer, 130i, E87 (LCI), 265 PS / 195 kW\")","v":"BMW 1er 5-Türer, 130i, E87 (LCI), 265 PS / 195 kW"},{"$f":"HYPERLINK(\"files\\1001.\"&Herstellerauswahl!$C$4,\"Auswahl / Select 1001\")","v":"Auswahl / Select 1001"}]
["0005/AQK",{"$f":"HYPERLINK(\"files\\1001.\"&Herstellerauswahl!$C$4,\"BMW 1er 5-Türer, 130i, E87 (LCI), 258 PS / 190 kW\")","v":"BMW 1er 5-Türer, 130i, E87 (LCI), 258 PS / 190 kW"},{"$f":"HYPERLINK(\"files\\1001.\"&Herstellerauswahl!$C$4,\"Auswahl / Select 1001\")","v":"Auswahl / Select 1001"}]

{"sheet":"E88 Cabrio","index":9,"n_rows":18,"n_cols":4,"rows_kept":18,"cut":false,"hidden":false,"merged":[]}
[]
[]
["TSN/HSN","Motorauswahl für E88 Cabrio","Home","Zurück / back"]
[]
["0005/ANC/AQV",{"$f":"HYPERLINK(\"files\\1009.\"&Herstellerauswahl!$C$4,\"BMW 1er Cabrio, 118d, E88, 136 PS / 100 kW\")","v":"BMW 1er Cabrio, 118d, E88, 136 PS / 100 kW"},{"$f":"HYPERLINK(\"files\\1009.\"&Herstellerauswahl!$C$4,\"Auswahl / Select 1009\")","v":"Auswahl / Select 1009"}]
["0005/ANB/AQW",{"$f":"HYPERLINK(\"files\\1009.\"&Herstellerauswahl!$C$4,\"BMW 1er Cabrio, 118d, E88, 143 PS / 105 kW\")","v":"BMW 1er Cabrio, 118d, E88, 143 PS / 105 kW"},{"$f":"HYPERLINK(\"files\\1009.\"&Herstellerauswahl!$C$4,\"Auswahl / Select 1009\")","v":"Auswahl / Select 1009"}]
["0005/ANA/AQM",{"$f":"HYPERLINK(\"files\\1009.\"&Herstellerauswahl!$C$4,\"BMW 1er Cabrio, 118i, E88, 136 PS / 100 kW\")","v":"BMW 1er Cabrio, 118i, E88, 136 PS / 100 kW"},{"$f":"HYPERLINK(\"files\\1009.\"&Herstellerauswahl!$C$4,\"Auswahl / Select 1009\")","v":"Auswahl / Select 1009"}]
["0005/AMP/AQN",{"$f":"HYPERLINK(\"files\\1009.\"&Herstellerauswahl!$C$4,\"BMW 1er Cabrio, 118i, E88, 143 PS / 105 kW\")","v":"BMW 1er Cabrio, 118i, E88, 143 PS / 105 kW"},{"$f":"HYPERLINK(\"files\\1009.\"&Herstellerauswahl!$C$4,\"Auswahl / Select 1009\")","v":"Auswahl / Select 1009"}]
["0005/AMU/AQQ",{"$f":"HYPERLINK(\"files\\1009.\"&Herstellerauswahl!$C$4,\"BMW 1er Cabrio, 118i, E88, 156 PS / 115 kW\")","v":"BMW 1er Cabrio, 118i, E88, 156 PS / 115 kW"},{"$f":"HYPERLINK(\"files\\1009.\"&Herstellerauswahl!$C$4,\"Auswahl / Select 1009\")","v":"Auswahl / Select 1009"}]
["0005/AMM/AQZ",{"$f":"HYPERLINK(\"files\\1009.\"&Herstellerauswahl!$C$4,\"BMW 1er Cabrio, 120d, E88, 163 PS / 120 kW\")","v":"BMW 1er Cabrio, 120d, E88, 163 PS / 120 kW"},{"$f":"HYPERLINK(\"files\\1009.\"&Herstellerauswahl!$C$4,\"Auswahl / Select 1009\")","v":"Auswahl / Select 1009"}]
["0005/AMN/AQY",{"$f":"HYPERLINK(\"files\\1009.\"&Herstellerauswahl!$C$4,\"BMW 1er Cabrio, 120d, E88, 177 PS / 130 kW\")","v":"BMW 1er Cabrio, 120d, E88, 177 PS / 130 kW"},{"$f":"HYPERLINK(\"files\\1009.\"&Herstellerauswahl!$C$4,\"Auswahl / Select 1009\")","v":"Auswahl / Select 1009"}]
["0005/AZH",{"$f":"HYPERLINK(\"files\\1009.\"&Herstellerauswahl!$C$4,\"BMW 1er Cabrio, 120d, E88, 197 PS / 145 kW\")","v":"BMW 1er Cabrio, 120d, E88, 197 PS / 145 kW"},{"$f":"HYPERLINK(\"files\\1009.\"&Herstellerauswahl!$C$4,\"Auswahl / Select 1009\")","v":"Auswahl / Select 1009"}]
["0005/AMT/AQP",{"$f":"HYPERLINK(\"files\\1009.\"&Herstellerauswahl!$C$4,\"BMW 1er Cabrio, 120i, E88, 163 PS / 120 kW\")","v":"BMW 1er Cabrio, 120i, E88, 163 PS / 120 kW"},{"$f":"HYPERLINK(\"files\\1009.\"&Herstellerauswahl!$C$4,\"Auswahl / Select 1009\")","v":"Auswahl / Select 1009"}]
["0005/AMQ/AQO",{"$f":"HYPERLINK(\"files\\1009.\"&Herstellerauswahl!$C$4,\"BMW 1er Cabrio, 120i, E88, 170 PS / 125 kW\")","v":"BMW 1er Cabrio, 120i, E88, 170 PS / 125 kW"},{"$f":"HYPERLINK(\"files\\1009.\"&Herstellerauswahl!$C$4,\"Auswahl / Select 1009\")","v":"Auswahl / Select 1009"}]
["0005/AND/ARB",{"$f":"HYPERLINK(\"files\\1009.\"&Herstellerauswahl!$C$4,\"BMW 1er Cabrio, 123d, E88, 204 PS / 150 kW\")","v":"BMW 1er Cabrio, 123d, E88, 204 PS / 150 kW"},{"$f":"HYPERLINK(\"files\\1009.\"&Herstellerauswahl!$C$4,\"Auswahl / Select 1009\")","v":"Auswahl / Select 1009"}]
["0005/AMR/AQR",{"$f":"HYPERLINK(\"files\\1009.\"&Herstellerauswahl!$C$4,\"BMW 1er Cabrio, 125i, E88, 218 PS / 160 kW\")","v":"BMW 1er Cabrio, 125i, E88, 218 PS / 160 kW"},{"$f":"HYPERLINK(\"files\\1009.\"&Herstellerauswahl!$C$4,\"Auswahl / Select 1009\")","v":"Auswahl / Select 1009"}]
["0005/AMO/AQT",{"$f":"HYPERLINK(\"files\\1009.\"&Herstellerauswahl!$C$4,\"BMW 1er Cabrio, M135i, E88, 306 PS / 225 kW\")","v":"BMW 1er Cabrio, M135i, E88, 306 PS / 225 kW"},{"$f":"HYPERLINK(\"files\\1009.\"&Herstellerauswahl!$C$4,\"Auswahl / Select 1009\")","v":"Auswahl / Select 1009"}]
["0005/APC/ASX",{"$f":"HYPERLINK(\"files\\1009.\"&Herstellerauswahl!$C$4,\"BMW 1er Cabrio, M135i, E88, 326 PS / 240 kW\")","v":"BMW 1er Cabrio, M135i, E88, 326 PS / 240 kW"},{"$f":"HYPERLINK(\"files\\1009.\"&Herstellerauswahl!$C$4,\"Auswahl / Select 1009\")","v":"Auswahl / Select 1009"}]

{"sheet":"E88 Facelift Cabrio","index":10,"n_rows":18,"n_cols":4,"rows_kept":18,"cut":false,"hidden":false,"merged":[]}
[]
[]
["TSN/HSN","Motorauswahl für E88 Facelift Cabrio","Home","Zurück / back"]
[]
["0005/AQV",{"$f":"HYPERLINK(\"files\\1009.\"&Herstellerauswahl!$C$4,\"BMW 1er Cabrio, 118d, E88 (LCI), 136 PS / 100 kW\")","v":"BMW 1er Cabrio, 118d, E88 (LCI), 136 PS / 100 kW"},{"$f":"HYPERLINK(\"files\\1009.\"&Herstellerauswahl!$C$4,\"Auswahl / Select 1009\")","v":"Auswahl / Select 1009"}]
["0005/AQW",{"$f":"HYPERLINK(\"files\\1009.\"&Herstellerauswahl!$C$4,\"BMW 1er Cabrio, 118d, E88 (LCI), 143 PS / 105 kW\")","v":"BMW 1er Cabrio, 118d, E88 (LCI), 143 PS / 105 kW"},{"$f":"HYPERLINK(\"files\\1009.\"&Herstellerauswahl!$C$4,\"Auswahl / Select 1009\")","v":"Auswahl / Select 1009"}]
["0005/AQM",{"$f":"HYPERLINK(\"files\\1009.\"&Herstellerauswahl!$C$4,\"BMW 1er Cabrio, 118i, E88 (LCI), 136 PS / 100 kW\")","v":"BMW 1er Cabrio, 118i, E88 (LCI), 136 PS / 100 kW"},{"$f":"HYPERLINK(\"files\\1009.\"&Herstellerauswahl!$C$4,\"Auswahl / Select 1009\")","v":"Auswahl / Select 1009"}]
["0005/AQN",{"$f":"HYPERLINK(\"files\\1009.\"&Herstellerauswahl!$C$4,\"BMW 1er Cabrio, 118i, E88 (LCI), 143 PS / 105 kW\")","v":"BMW 1er Cabrio, 118i, E88 (LCI), 143 PS / 105 kW"},{"$f":"HYPERLINK(\"files\\1009.\"&Herstellerauswahl!$C$4,\"Auswahl / Select 1009\")","v":"Auswahl / Select 1009"}]
["0005/AQZ",{"$f":"HYPERLINK(\"files\\1009.\"&Herstellerauswahl!$C$4,\"BMW 1er Cabrio, 120d, E88 (LCI), 163 PS / 120 kW\")","v":"BMW 1er Cabrio, 120d, E88 (LCI), 163 PS / 120 kW"},{"$f":"HYPERLINK(\"files\\1009.\"&Herstellerauswahl!$C$4,\"Auswahl / Select 1009\")","v":"Auswahl / Select 1009"}]
["0005/AQY",{"$f":"HYPERLINK(\"files\\1009.\"&Herstellerauswahl!$C$4,\"BMW 1er Cabrio, 120d, E88 (LCI), 177 PS / 130 kW\")","v":"BMW 1er Cabrio, 120d, E88 (LCI), 177 PS / 130 kW"},{"$f":"HYPERLINK(\"files\\1009.\"&Herstellerauswahl!$C$4,\"Auswahl / Select 1009\")","v":"Auswahl / Select 1009"}]
["0005/AZH",{"$f":"HYPERLINK(\"files\\1009.\"&Herstellerauswahl!$C$4,\"BMW 1er Cabrio, 120d, E88 (LCI), 197 PS / 145 kW\")","v":"BMW 1er Cabrio, 120d, E88 (LCI), 197 PS / 145 kW"},{"$f":"HYPERLINK(\"files\\1009.\"&Herstellerauswahl!$C$4,\"Auswahl / Select 1009\")","v":"Auswahl / Select 1009"}]
["0005/AQP",{"$f":"HYPERLINK(\"files\\1009.\"&Herstellerauswahl!$C$4,\"BMW 1er Cabrio, 120i, E88 (LCI), 163 PS / 120 kW\")","v":"BMW 1er Cabrio, 120i, E88 (LCI), 163 PS / 120 kW"},{"$f":"HYPERLINK(\"files\\1009.\"&Herstellerauswahl!$C$4,\"Auswahl / Select 1009\")","v":"Auswahl / Select 1009"}]
["0005/AQO",{"$f":"HYPERLINK(\"files\\1009.\"&Herstellerauswahl!$C$4,\"BMW 1er Cabrio, 120i, E88 (LCI), 170 PS / 125 kW\")","v":"BMW 1er Cabrio, 120i, E88 (LCI), 170 PS / 125 kW"},{"$f":"HYPERLINK(\"files\\1009.\"&Herstellerauswahl!$C$4,\"Auswahl / Select 1009\")","v":"Auswahl / Select 1009"}]
["0005/AQQ",{"$f":"HYPERLINK(\"files\\1009.\"&Herstellerauswahl!$C$4,\"BMW 1er Cabrio, 120i, E88 (LCI), 156 PS / 115 kW\")","v":"BMW 1er Cabrio, 120i, E88 (LCI), 156 PS / 115 kW"},{"$f":"HYPERLINK(\"files\\1009.\"&Herstellerauswahl!$C$4,\"Auswahl / Select 1009\")","v":"Auswahl / Select 1009"}]
["0005/ARB",{"$f":"HYPERLINK(\"files\\1009.\"&Herstellerauswahl!$C$4,\"BMW 1er Cabrio, 123d, E88 (LCI), 204 PS / 150 kW\")","v":"BMW 1er Cabrio, 123d, E88 (LCI), 204 PS / 150 kW"},{"$f":"HYPERLINK(\"files\\1009.\"&Herstellerauswahl!$C$4,\"Auswahl / Select 1009\")","v":"Auswahl / Select 1009"}]
["0005/AQR",{"$f":"HYPERLINK(\"files\\1009.\"&Herstellerauswahl!$C$4,\"BMW 1er Cabrio, 125i, E88 (LCI), 218 PS / 160 kW\")","v":"BMW 1er Cabrio, 125i, E88 (LCI), 218 PS / 160 kW"},{"$f":"HYPERLINK(\"files\\1009.\"&Herstellerauswahl!$C$4,\"Auswahl / Select 1009\")","v":"Auswahl / Select 1009"}]
["0005/AQT",{"$f":"HYPERLINK(\"files\\1009.\"&Herstellerauswahl!$C$4,\"BMW 1er Cabrio, 135i, E88 (LCI), 306 PS / 225 kW\")","v":"BMW 1er Cabrio, 135i, E88 (LCI), 306 PS / 225 kW"},{"$f":"HYPERLINK(\"files\\1009.\"&Herstellerauswahl!$C$4,\"Auswahl / Select 1009\")","v":"Auswahl / Select 1009"}]
["0005/ASX",{"$f":"HYPERLINK(\"files\\1009.\"&Herstellerauswahl!$C$4,\"BMW 1er Cabrio, 135i, E88 (LCI), 326 PS / 240 kW\")","v":"BMW 1er Cabrio, 135i, E88 (LCI), 326 PS / 240 kW"},{"$f":"HYPERLINK(\"files\\1009.\"&Herstellerauswahl!$C$4,\"Auswahl / Select 1009\")","v":"Auswahl / Select 1009"}]

{"sheet":"F20 5-Türer","index":11,"n_rows":24,"n_cols":4,"rows_kept":24,"cut":false,"hidden":false,"merged":[]}
[]
[]
["TSN/HSN","Motorauswahl für F20 5-Türer","Home","Zurück / back"]
[]
["0005/BMG",{"$f":"HYPERLINK(\"files\\1004.\"&Herstellerauswahl!$C$4,\"BMW 1er 5-Türer, 114d, F20, 95 PS / 70 kW\")","v":"BMW 1er 5-Türer, 114d, F20, 95 PS / 70 kW"},{"$f":"HYPERLINK(\"files\\1004.\"&Herstellerauswahl!$C$4,\"Auswahl / Select 1004\")","v":"Auswahl / Select 1004"}]
["0005/BLQ",{"$f":"HYPERLINK(\"files\\1004.\"&Herstellerauswahl!$C$4,\"BMW 1er 5-Türer, 114i, F20, 102 PS / 75 kW\")","v":"BMW 1er 5-Türer, 114i, F20, 102 PS / 75 kW"},{"$f":"HYPERLINK(\"files\\1004.\"&Herstellerauswahl!$C$4,\"Auswahl / Select 1004\")","v":"Auswahl / Select 1004"}]
["0005/BGK/BKX",{"$f":"HYPERLINK(\"files\\1004.\"&Herstellerauswahl!$C$4,\"BMW 1er 5-Türer, 116d, F20, 116 PS / 85 kW\")","v":"BMW 1er 5-Türer, 116d, F20, 116 PS / 85 kW"},{"$f":"HYPERLINK(\"files\\1004.\"&Herstellerauswahl!$C$4,\"Auswahl / Select 1004\")","v":"Auswahl / Select 1004"}]
["0005/BIG/BLF",{"$f":"HYPERLINK(\"files\\1004.\"&Herstellerauswahl!$C$4,\"BMW 1er 5-Türer, 116d Efficient Dynamics, F20, 116 PS / 85 kW\")","v":"BMW 1er 5-Türer, 116d Efficient Dynamics, F20, 116 PS / 85 kW"},{"$f":"HYPERLINK(\"files\\1004.\"&Herstellerauswahl!$C$4,\"Auswahl / Select 1004\")","v":"Auswahl / Select 1004"}]
["0005/BGL/BLG",{"$f":"HYPERLINK(\"files\\1004.\"&Herstellerauswahl!$C$4,\"BMW 1er 5-Türer, 116i, F20, 136 PS / 100 kW\")","v":"BMW 1er 5-Türer, 116i, F20, 136 PS / 100 kW"},{"$f":"HYPERLINK(\"files\\1004.\"&Herstellerauswahl!$C$4,\"Auswahl / Select 1004\")","v":"Auswahl / Select 1004"}]
["0005/BGP/BLI",{"$f":"HYPERLINK(\"files\\1004.\"&Herstellerauswahl!$C$4,\"BMW 1er 5-Türer, 118i, F20, 170 PS / 125 kW\")","v":"BMW 1er 5-Türer, 118i, F20, 170 PS / 125 kW"},{"$f":"HYPERLINK(\"files\\1004.\"&Herstellerauswahl!$C$4,\"Auswahl / Select 1004\")","v":"Auswahl / Select 1004"}]
["0005/BGM/BLN",{"$f":"HYPERLINK(\"files\\1004.\"&Herstellerauswahl!$C$4,\"BMW 1er 5-Türer, 118d, F20, 136 PS / 100 kW\")","v":"BMW 1er 5-Türer, 118d, F20, 136 PS / 100 kW"},{"$f":"HYPERLINK(\"files\\1004.\"&Herstellerauswahl!$C$4,\"Auswahl / Select 1004\")","v":"Auswahl / Select 1004"}]
["0005/BGN/BLH",{"$f":"HYPERLINK(\"files\\1004.\"&Herstellerauswahl!$C$4,\"BMW 1er 5-Türer, 118d, F20, 143 PS / 105 kW\")","v":"BMW 1er 5-Türer, 118d, F20, 143 PS / 105 kW"},{"$f":"HYPERLINK(\"files\\1004.\"&Herstellerauswahl!$C$4,\"Auswahl / Select 1004\")","v":"Auswahl / Select 1004"}]
["0005/BQM",{"$f":"HYPERLINK(\"files\\1004.\"&Herstellerauswahl!$C$4,\"BMW 1er 5-Türer, 118d xDrive, F20, 143 PS / 105 kW\")","v":"BMW 1er 5-Türer, 118d xDrive, F20, 143 PS / 105 kW"},{"$f":"HYPERLINK(\"files\\1004.\"&Herstellerauswahl!$C$4,\"Auswahl / Select 1004\")","v":"Auswahl / Select 1004"}]
["0005/BGQ/BLK",{"$f":"HYPERLINK(\"files\\1004.\"&Herstellerauswahl!$C$4,\"BMW 1er 5-Türer, 120d, F20, 184 PS / 135 kW\")","v":"BMW 1er 5-Türer, 120d, F20, 184 PS / 135 kW"},{"$f":"HYPERLINK(\"files\\1004.\"&Herstellerauswahl!$C$4,\"Auswahl / Select 1004\")","v":"Auswahl / Select 1004"}]
["0005/BGO/BLJ",{"$f":"HYPERLINK(\"files\\1004.\"&Herstellerauswahl!$C$4,\"BMW 1er 5-Türer, 120d, F20, 163 PS / 120 kW\")","v":"BMW 1er 5-Türer, 120d, F20, 163 PS / 120 kW"},{"$f":"HYPERLINK(\"files\\1004.\"&Herstellerauswahl!$C$4,\"Auswahl / Select 1004\")","v":"Auswahl / Select 1004"}]
["0005/BIO/BLL",{"$f":"HYPERLINK(\"files\\1004.\"&Herstellerauswahl!$C$4,\"BMW 1er 5-Türer, 120d, F20, 200 PS / 147 kW\")","v":"BMW 1er 5-Türer, 120d, F20, 200 PS / 147 kW"},{"$f":"HYPERLINK(\"files\\1004.\"&Herstellerauswahl!$C$4,\"Auswahl / Select 1004\")","v":"Auswahl / Select 1004"}]
["0005/BMH",{"$f":"HYPERLINK(\"files\\1004.\"&Herstellerauswahl!$C$4,\"BMW 1er 5-Türer, 120d xDrive, F20, 184 PS / 135 kW\")","v":"BMW 1er 5-Türer, 120d xDrive, F20, 184 PS / 135 kW"},{"$f":"HYPERLINK(\"files\\1004.\"&Herstellerauswahl!$C$4,\"Auswahl / Select 1004\")","v":"Auswahl / Select 1004"}]
["0005/BPP",{"$f":"HYPERLINK(\"files\\1004.\"&Herstellerauswahl!$C$4,\"BMW 1er 5-Türer, 120d xDrive, F20, 200 PS / 147 kW\")","v":"BMW 1er 5-Türer, 120d xDrive, F20, 200 PS / 147 kW"},{"$f":"HYPERLINK(\"files\\1004.\"&Herstellerauswahl!$C$4,\"Auswahl / Select 1004\")","v":"Auswahl / Select 1004"}]
["0005/BIF/BLO",{"$f":"HYPERLINK(\"files\\1004.\"&Herstellerauswahl!$C$4,\"BMW 1er 5-Türer, 125d, F20, 218 PS / 160 kW\")","v":"BMW 1er 5-Türer, 125d, F20, 218 PS / 160 kW"},{"$f":"HYPERLINK(\"files\\1004.\"&Herstellerauswahl!$C$4,\"Auswahl / Select 1004\")","v":"Auswahl / Select 1004"}]
["0005/BIH/BLM",{"$f":"HYPERLINK(\"files\\1004.\"&Herstellerauswahl!$C$4,\"BMW 1er 5-Türer, 125d, F20, 211 PS / 155 kW\")","v":"BMW 1er 5-Türer, 125d, F20, 211 PS / 155 kW"},{"$f":"HYPERLINK(\"files\\1004.\"&Herstellerauswahl!$C$4,\"Auswahl / Select 1004\")","v":"Auswahl / Select 1004"}]
["0005/BIE/BLP",{"$f":"HYPERLINK(\"files\\1004.\"&Herstellerauswahl!$C$4,\"BMW 1er 5-Türer, 125i, F20, 218 PS / 160 kW\")","v":"BMW 1er 5-Türer, 125i, F20, 218 PS / 160 kW"},{"$f":"HYPERLINK(\"files\\1004.\"&Herstellerauswahl!$C$4,\"Auswahl / Select 1004\")","v":"Auswahl / Select 1004"}]
["0005/BIN",{"$f":"HYPERLINK(\"files\\1004.\"&Herstellerauswahl!$C$4,\"BMW 1er 5-Türer, 125i, F20, 238 PS / 175 kW\")","v":"BMW 1er 5-Türer, 125i, F20, 238 PS / 175 kW"},{"$f":"HYPERLINK(\"files\\1004.\"&Herstellerauswahl!$C$4,\"Auswahl / Select 1004\")","v":"Auswahl / Select 1004"}]
["0005/BLR",{"$f":"HYPERLINK(\"files\\1006.\"&Herstellerauswahl!$C$4,\"BMW 1er 5-Türer, M135i, F20, 320 PS / 235 kW\")","v":"BMW 1er 5-Türer, M135i, F20, 320 PS / 235 kW"},{"$f":"HYPERLINK(\"files\\1006.\"&Herstellerauswahl!$C$4,\"Auswahl / Select 1006\")","v":"Auswahl / Select 1006"}]
["0005/BMF",{"$f":"HYPERLINK(\"files\\1006.\"&Herstellerauswahl!$C$4,\"BMW 1er 5-Türer, M135i xDrive, F20, 320 PS / 235 kW\")","v":"BMW 1er 5-Türer, M135i xDrive, F20, 320 PS / 235 kW"},{"$f":"HYPERLINK(\"files\\1006.\"&Herstellerauswahl!$C$4,\"Auswahl / Select 1006\")","v":"Auswahl / Select 1006"}]

{"sheet":"F20 Facelift 5-Türer","index":12,"n_rows":21,"n_cols":4,"rows_kept":21,"cut":false,"hidden":false,"merged":[]}
[]
[]
["TSN/HSN","Motorauswahl für F20 Facelift 5-Türer","Home","Zurück / back"]
[]
["0005/CAA",{"$f":"HYPERLINK(\"files\\1004.\"&Herstellerauswahl!$C$4,\"BMW 1er 5-Türer, 116d, F20 (LCI), 116 PS / 85 kW\")","v":"BMW 1er 5-Türer, 116d, F20 (LCI), 116 PS / 85 kW"},{"$f":"HYPERLINK(\"files\\1004.\"&Herstellerauswahl!$C$4,\"Auswahl / Select 1004\")","v":"Auswahl / Select 1004"}]
["0005/BZZ",{"$f":"HYPERLINK(\"files\\1004.\"&Herstellerauswahl!$C$4,\"BMW 1er 5-Türer, 116d Efficient Dynamics, F20 (LCI), 116 PS / 85 kW\")","v":"BMW 1er 5-Türer, 116d Efficient Dynamics, F20 (LCI), 116 PS / 85 kW"},{"$f":"HYPERLINK(\"files\\1004.\"&Herstellerauswahl!$C$4,\"Auswahl / Select 1004\")","v":"Auswahl / Select 1004"}]
["0005/BZS",{"$f":"HYPERLINK(\"files\\1004.\"&Herstellerauswahl!$C$4,\"BMW 1er 5-Türer, 116i, F20 (LCI), 109 PS / 80 kW\")","v":"BMW 1er 5-Türer, 116i, F20 (LCI), 109 PS / 80 kW"},{"$f":"HYPERLINK(\"files\\1004.\"&Herstellerauswahl!$C$4,\"Auswahl / Select 1004\")","v":"Auswahl / Select 1004"}]
["0005/CAB",{"$f":"HYPERLINK(\"files\\1004.\"&Herstellerauswahl!$C$4,\"BMW 1er 5-Türer, 118d, F20 (LCI), 150 PS / 110 kW\")","v":"BMW 1er 5-Türer, 118d, F20 (LCI), 150 PS / 110 kW"},{"$f":"HYPERLINK(\"files\\1004.\"&Herstellerauswahl!$C$4,\"Auswahl / Select 1004\")","v":"Auswahl / Select 1004"}]
["0005/CAF",{"$f":"HYPERLINK(\"files\\1004.\"&Herstellerauswahl!$C$4,\"BMW 1er 5-Türer, 118d xDrive, F20 (LCI), 150 PS / 110 kW\")","v":"BMW 1er 5-Türer, 118d xDrive, F20 (LCI), 150 PS / 110 kW"},{"$f":"HYPERLINK(\"files\\1004.\"&Herstellerauswahl!$C$4,\"Auswahl / Select 1004\")","v":"Auswahl / Select 1004"}]
["0005/BZT/BZU",{"$f":"HYPERLINK(\"files\\1004.\"&Herstellerauswahl!$C$4,\"BMW 1er 5-Türer, 118i, F20 (LCI), 136 PS / 100 kW\")","v":"BMW 1er 5-Türer, 118i, F20 (LCI), 136 PS / 100 kW"},{"$f":"HYPERLINK(\"files\\1004.\"&Herstellerauswahl!$C$4,\"Auswahl / Select 1004\")","v":"Auswahl / Select 1004"}]
["0005/CAC",{"$f":"HYPERLINK(\"files\\1004.\"&Herstellerauswahl!$C$4,\"BMW 1er 5-Türer, 120d, F20 (LCI), 190 PS / 140 kW\")","v":"BMW 1er 5-Türer, 120d, F20 (LCI), 190 PS / 140 kW"},{"$f":"HYPERLINK(\"files\\1004.\"&Herstellerauswahl!$C$4,\"Auswahl / Select 1004\")","v":"Auswahl / Select 1004"}]
["0005/CAG",{"$f":"HYPERLINK(\"files\\1004.\"&Herstellerauswahl!$C$4,\"BMW 1er 5-Türer, 120d xDrive, F20 (LCI), 190 PS / 140 kW\")","v":"BMW 1er 5-Türer, 120d xDrive, F20 (LCI), 190 PS / 140 kW"},{"$f":"HYPERLINK(\"files\\1004.\"&Herstellerauswahl!$C$4,\"Auswahl / Select 1004\")","v":"Auswahl / Select 1004"}]
["0005/BZV",{"$f":"HYPERLINK(\"files\\1004.\"&Herstellerauswahl!$C$4,\"BMW 1er 5-Türer, 120i, F20 (LCI), 177 PS / 130 kW\")","v":"BMW 1er 5-Türer, 120i, F20 (LCI), 177 PS / 130 kW"},{"$f":"HYPERLINK(\"files\\1004.\"&Herstellerauswahl!$C$4,\"Auswahl / Select 1004\")","v":"Auswahl / Select 1004"}]
["0005/CHX",{"$f":"HYPERLINK(\"files\\1004.\"&Herstellerauswahl!$C$4,\"BMW 1er 5-Türer, 120i, F20 (LCI), 184 PS / 135 kW\")","v":"BMW 1er 5-Türer, 120i, F20 (LCI), 184 PS / 135 kW"},{"$f":"HYPERLINK(\"files\\1004.\"&Herstellerauswahl!$C$4,\"Auswahl / Select 1004\")","v":"Auswahl / Select 1004"}]
["0005/CAE",{"$f":"HYPERLINK(\"files\\1004.\"&Herstellerauswahl!$C$4,\"BMW 1er 5-Türer, 125d, F20 (LCI), 224 PS / 165 kW\")","v":"BMW 1er 5-Türer, 125d, F20 (LCI), 224 PS / 165 kW"},{"$f":"HYPERLINK(\"files\\1004.\"&Herstellerauswahl!$C$4,\"Auswahl / Select 1004\")","v":"Auswahl / Select 1004"}]
["0005/BLP",{"$f":"HYPERLINK(\"files\\1004.\"&Herstellerauswahl!$C$4,\"BMW 1er 5-Türer, 125i, F20 (LCI), 218 PS / 160 kW\")","v":"BMW 1er 5-Türer, 125i, F20 (LCI), 218 PS / 160 kW"},{"$f":"HYPERLINK(\"files\\1004.\"&Herstellerauswahl!$C$4,\"Auswahl / Select 1004\")","v":"Auswahl / Select 1004"}]
["0005/CHY",{"$f":"HYPERLINK(\"files\\1004.\"&Herstellerauswahl!$C$4,\"BMW 1er 5-Türer, 125i, F20 (LCI), 224 PS / 165 kW\")","v":"BMW 1er 5-Türer, 125i, F20 (LCI), 224 PS / 165 kW"},{"$f":"HYPERLINK(\"files\\1004.\"&Herstellerauswahl!$C$4,\"Auswahl / Select 1004\")","v":"Auswahl / Select 1004"}]
["0005/BZW",{"$f":"HYPERLINK(\"files\\1006.\"&Herstellerauswahl!$C$4,\"BMW 1er 5-Türer, M135i, F20 (LCI), 326 PS / 240 kW\")","v":"BMW 1er 5-Türer, M135i, F20 (LCI), 326 PS / 240 kW"},{"$f":"HYPERLINK(\"files\\1006.\"&Herstellerauswahl!$C$4,\"Auswahl / Select 1006\")","v":"Auswahl / Select 1006"}]
["0005/BZX",{"$f":"HYPERLINK(\"files\\1006.\"&Herstellerauswahl!$C$4,\"BMW 1er 5-Türer, M135i xDrive, F20 (LCI), 326 PS / 240 kW\")","v":"BMW 1er 5-Türer, M135i xDrive, F20 (LCI), 326 PS / 240 kW"},{"$f":"HYPERLINK(\"files\\1006.\"&Herstellerauswahl!$C$4,\"Auswahl / Select 1006\")","v":"Auswahl / Select 1006"}]
["0005/CHZ",{"$f":"HYPERLINK(\"files\\1006.\"&Herstellerauswahl!$C$4,\"BMW 1er 5-Türer, M140i, F20 (LCI), 340 PS / 250 kW\")","v":"BMW 1er 5-Türer, M140i, F20 (LCI), 340 PS / 250 kW"},{"$f":"HYPERLINK(\"files\\1006.\"&Herstellerauswahl!$C$4,\"Auswahl / Select 1006\")","v":"Auswahl / Select 1006"}]
["0005/CIA",{"$f":"HYPERLINK(\"files\\1006.\"&Herstellerauswahl!$C$4,\"BMW 1er 5-Türer, M140i xDrive, F20 (LCI), 340 PS / 250 kW\")","v":"BMW 1er 5-Türer, M140i xDrive, F20 (LCI), 340 PS / 250 kW"},{"$f":"HYPERLINK(\"files\\1006.\"&Herstellerauswahl!$C$4,\"Auswahl / Select 1006\")","v":"Auswahl / Select 1006"}]

{"sheet":"F21 3-Türer","index":13,"n_rows":17,"n_cols":4,"rows_kept":17,"cut":false,"hidden":false,"merged":[]}
[]
[]
["TSN/HSN","Motorauswahl für F21 3-Türer","Home","Zurück / back"]
[]
["0005/BMK",{"$f":"HYPERLINK(\"files\\1004.\"&Herstellerauswahl!$C$4,\"BMW 1er 3-Türer, 114d, F21, 95 PS / 70 kW\")","v":"BMW 1er 3-Türer, 114d, F21, 95 PS / 70 kW"},{"$f":"HYPERLINK(\"files\\1004.\"&Herstellerauswahl!$C$4,\"Auswahl / Select 1004\")","v":"Auswahl / Select 1004"}]
["0005/BLY",{"$f":"HYPERLINK(\"files\\1004.\"&Herstellerauswahl!$C$4,\"BMW 1er 3-Türer, 114i, F21, 102 PS / 75 kW\")","v":"BMW 1er 3-Türer, 114i, F21, 102 PS / 75 kW"},{"$f":"HYPERLINK(\"files\\1004.\"&Herstellerauswahl!$C$4,\"Auswahl / Select 1004\")","v":"Auswahl / Select 1004"}]
["0005/BLS/BLV",{"$f":"HYPERLINK(\"files\\1004.\"&Herstellerauswahl!$C$4,\"BMW 1er 3-Türer, 116d, F21, 116 PS / 85 kW\")","v":"BMW 1er 3-Türer, 116d, F21, 116 PS / 85 kW"},{"$f":"HYPERLINK(\"files\\1004.\"&Herstellerauswahl!$C$4,\"Auswahl / Select 1004\")","v":"Auswahl / Select 1004"}]
["0005/BLW",{"$f":"HYPERLINK(\"files\\1004.\"&Herstellerauswahl!$C$4,\"BMW 1er 3-Türer, 116i, F21, 136 PS / 100 kW\")","v":"BMW 1er 3-Türer, 116i, F21, 136 PS / 100 kW"},{"$f":"HYPERLINK(\"files\\1004.\"&Herstellerauswahl!$C$4,\"Auswahl / Select 1004\")","v":"Auswahl / Select 1004"}]
["0005/BML",{"$f":"HYPERLINK(\"files\\1004.\"&Herstellerauswahl!$C$4,\"BMW 1er 3-Türer, 118i, F21, 170 PS / 125 kW\")","v":"BMW 1er 3-Türer, 118i, F21, 170 PS / 125 kW"},{"$f":"HYPERLINK(\"files\\1004.\"&Herstellerauswahl!$C$4,\"Auswahl / Select 1004\")","v":"Auswahl / Select 1004"}]
["0005/BLT",{"$f":"HYPERLINK(\"files\\1004.\"&Herstellerauswahl!$C$4,\"BMW 1er 3-Türer, 118d, F21, 143 PS / 105 kW\")","v":"BMW 1er 3-Türer, 118d, F21, 143 PS / 105 kW"},{"$f":"HYPERLINK(\"files\\1004.\"&Herstellerauswahl!$C$4,\"Auswahl / Select 1004\")","v":"Auswahl / Select 1004"}]
["0005/BQL",{"$f":"HYPERLINK(\"files\\1004.\"&Herstellerauswahl!$C$4,\"BMW 1er 3-Türer, 118d xDrive, F21, 143 PS / 105 kW\")","v":"BMW 1er 3-Türer, 118d xDrive, F21, 143 PS / 105 kW"},{"$f":"HYPERLINK(\"files\\1004.\"&Herstellerauswahl!$C$4,\"Auswahl / Select 1004\")","v":"Auswahl / Select 1004"}]
["0005/BNT",{"$f":"HYPERLINK(\"files\\1004.\"&Herstellerauswahl!$C$4,\"BMW 1er 3-Türer, 120d, F21, 184 PS / 135 kW\")","v":"BMW 1er 3-Türer, 120d, F21, 184 PS / 135 kW"},{"$f":"HYPERLINK(\"files\\1004.\"&Herstellerauswahl!$C$4,\"Auswahl / Select 1004\")","v":"Auswahl / Select 1004"}]
["0005/BMI",{"$f":"HYPERLINK(\"files\\1004.\"&Herstellerauswahl!$C$4,\"BMW 1er 3-Türer, 120d xDrive, F21, 184 PS / 135 kW\")","v":"BMW 1er 3-Türer, 120d xDrive, F21, 184 PS / 135 kW"},{"$f":"HYPERLINK(\"files\\1004.\"&Herstellerauswahl!$C$4,\"Auswahl / Select 1004\")","v":"Auswahl / Select 1004"}]
["0005/BLU",{"$f":"HYPERLINK(\"files\\1004.\"&Herstellerauswahl!$C$4,\"BMW 1er 3-Türer, 125d, F21, 218 PS / 160 kW\")","v":"BMW 1er 3-Türer, 125d, F21, 218 PS / 160 kW"},{"$f":"HYPERLINK(\"files\\1004.\"&Herstellerauswahl!$C$4,\"Auswahl / Select 1004\")","v":"Auswahl / Select 1004"}]
["0005/BLX",{"$f":"HYPERLINK(\"files\\1004.\"&Herstellerauswahl!$C$4,\"BMW 1er 3-Türer, 125i, F21, 218 PS / 160 kW\")","v":"BMW 1er 3-Türer, 125i, F21, 218 PS / 160 kW"},{"$f":"HYPERLINK(\"files\\1004.\"&Herstellerauswahl!$C$4,\"Auswahl / Select 1004\")","v":"Auswahl / Select 1004"}]
["0005/BMC",{"$f":"HYPERLINK(\"files\\1006.\"&Herstellerauswahl!$C$4,\"BMW 1er 3-Türer, M135i, F21, 320 PS / 235 kW\")","v":"BMW 1er 3-Türer, M135i, F21, 320 PS / 235 kW"},{"$f":"HYPERLINK(\"files\\1006.\"&Herstellerauswahl!$C$4,\"Auswahl / Select 1006\")","v":"Auswahl / Select 1006"}]
["0005/BMJ",{"$f":"HYPERLINK(\"files\\1006.\"&Herstellerauswahl!$C$4,\"BMW 1er 3-Türer, M135i xDrive, F21, 320 PS / 235 kW\")","v":"BMW 1er 3-Türer, M135i xDrive, F21, 320 PS / 235 kW"},{"$f":"HYPERLINK(\"files\\1006.\"&Herstellerauswahl!$C$4,\"Auswahl / Select 1006\")","v":"Auswahl / Select 1006"}]

{"sheet":"F21 Facelift 3-Türer","index":14,"n_rows":21,"n_cols":4,"rows_kept":21,"cut":false,"hidden":false,"merged":[]}
[]
[]
["TSN/HSN","Motorauswahl für F21 Facelift 3-Türer","Home","Zurück / back"]
[]
["0005/CAR",{"$f":"HYPERLINK(\"files\\1004.\"&Herstellerauswahl!$C$4,\"BMW 1er 3-Türer, 116d, F21 (LCI), 116 PS / 85 kW\")","v":"BMW 1er 3-Türer, 116d, F21 (LCI), 116 PS / 85 kW"},{"$f":"HYPERLINK(\"files\\1004.\"&Herstellerauswahl!$C$4,\"Auswahl / Select 1004\")","v":"Auswahl / Select 1004"}]
["0005/CAQ",{"$f":"HYPERLINK(\"files\\1004.\"&Herstellerauswahl!$C$4,\"BMW 1er 3-Türer, 116d Efficient Dynamics, F21 (LCI), 116 PS / 85 kW\")","v":"BMW 1er 3-Türer, 116d Efficient Dynamics, F21 (LCI), 116 PS / 85 kW"},{"$f":"HYPERLINK(\"files\\1004.\"&Herstellerauswahl!$C$4,\"Auswahl / Select 1004\")","v":"Auswahl / Select 1004"}]
["0005/CAJ",{"$f":"HYPERLINK(\"files\\1004.\"&Herstellerauswahl!$C$4,\"BMW 1er 3-Türer, 116i, F21 (LCI), 109 PS / 80 kW\")","v":"BMW 1er 3-Türer, 116i, F21 (LCI), 109 PS / 80 kW"},{"$f":"HYPERLINK(\"files\\1004.\"&Herstellerauswahl!$C$4,\"Auswahl / Select 1004\")","v":"Auswahl / Select 1004"}]
["0005/CAS",{"$f":"HYPERLINK(\"files\\1004.\"&Herstellerauswahl!$C$4,\"BMW 1er 3-Türer, 118d, F21 (LCI), 150 PS / 110 kW\")","v":"BMW 1er 3-Türer, 118d, F21 (LCI), 150 PS / 110 kW"},{"$f":"HYPERLINK(\"files\\1004.\"&Herstellerauswahl!$C$4,\"Auswahl / Select 1004\")","v":"Auswahl / Select 1004"}]
["0005/CAW",{"$f":"HYPERLINK(\"files\\1004.\"&Herstellerauswahl!$C$4,\"BMW 1er 3-Türer, 118d xDrive, F21 (LCI), 150 PS / 110 kW\")","v":"BMW 1er 3-Türer, 118d xDrive, F21 (LCI), 150 PS / 110 kW"},{"$f":"HYPERLINK(\"files\\1004.\"&Herstellerauswahl!$C$4,\"Auswahl / Select 1004\")","v":"Auswahl / Select 1004"}]
["0005/CAK",{"$f":"HYPERLINK(\"files\\1004.\"&Herstellerauswahl!$C$4,\"BMW 1er 3-Türer, 118i, F21 (LCI), 136 PS / 100 kW\")","v":"BMW 1er 3-Türer, 118i, F21 (LCI), 136 PS / 100 kW"},{"$f":"HYPERLINK(\"files\\1004.\"&Herstellerauswahl!$C$4,\"Auswahl / Select 1004\")","v":"Auswahl / Select 1004"}]
["0005/CAT",{"$f":"HYPERLINK(\"files\\1004.\"&Herstellerauswahl!$C$4,\"BMW 1er 3-Türer, 120d, F21 (LCI), 190 PS / 140 kW\")","v":"BMW 1er 3-Türer, 120d, F21 (LCI), 190 PS / 140 kW"},{"$f":"HYPERLINK(\"files\\1004.\"&Herstellerauswahl!$C$4,\"Auswahl / Select 1004\")","v":"Auswahl / Select 1004"}]
["0005/CAX",{"$f":"HYPERLINK(\"files\\1004.\"&Herstellerauswahl!$C$4,\"BMW 1er 3-Türer, 120d xDrive, F21 (LCI), 190 PS / 140 kW\")","v":"BMW 1er 3-Türer, 120d xDrive, F21 (LCI), 190 PS / 140 kW"},{"$f":"HYPERLINK(\"files\\1004.\"&Herstellerauswahl!$C$4,\"Auswahl / Select 1004\")","v":"Auswahl / Select 1004"}]
["0005/CAM",{"$f":"HYPERLINK(\"files\\1004.\"&Herstellerauswahl!$C$4,\"BMW 1er 3-Türer, 120i, F21 (LCI), 177 PS / 130 kW\")","v":"BMW 1er 3-Türer, 120i, F21 (LCI), 177 PS / 130 kW"},{"$f":"HYPERLINK(\"files\\1004.\"&Herstellerauswahl!$C$4,\"Auswahl / Select 1004\")","v":"Auswahl / Select 1004"}]
["0005/CIB",{"$f":"HYPERLINK(\"files\\1004.\"&Herstellerauswahl!$C$4,\"BMW 1er 3-Türer, 120i, F21 (LCI), 184 PS / 135 kW\")","v":"BMW 1er 3-Türer, 120i, F21 (LCI), 184 PS / 135 kW"},{"$f":"HYPERLINK(\"files\\1004.\"&Herstellerauswahl!$C$4,\"Auswahl / Select 1004\")","v":"Auswahl / Select 1004"}]
["0005/CAV",{"$f":"HYPERLINK(\"files\\1004.\"&Herstellerauswahl!$C$4,\"BMW 1er 3-Türer, 125d, F21 (LCI), 224 PS / 165 kW\")","v":"BMW 1er 3-Türer, 125d, F21 (LCI), 224 PS / 165 kW"},{"$f":"HYPERLINK(\"files\\1004.\"&Herstellerauswahl!$C$4,\"Auswahl / Select 1004\")","v":"Auswahl / Select 1004"}]
["0005/BLX",{"$f":"HYPERLINK(\"files\\1004.\"&Herstellerauswahl!$C$4,\"BMW 1er 3-Türer, 125i, F21 (LCI), 218 PS / 160 kW\")","v":"BMW 1er 3-Türer, 125i, F21 (LCI), 218 PS / 160 kW"},{"$f":"HYPERLINK(\"files\\1004.\"&Herstellerauswahl!$C$4,\"Auswahl / Select 1004\")","v":"Auswahl / Select 1004"}]
["0005/CIC",{"$f":"HYPERLINK(\"files\\1004.\"&Herstellerauswahl!$C$4,\"BMW 1er 3-Türer, 125i, F21 (LCI), 224 PS / 165 kW\")","v":"BMW 1er 3-Türer, 125i, F21 (LCI), 224 PS / 165 kW"},{"$f":"HYPERLINK(\"files\\1004.\"&Herstellerauswahl!$C$4,\"Auswahl / Select 1004\")","v":"Auswahl / Select 1004"}]
["0005/CAN",{"$f":"HYPERLINK(\"files\\1006.\"&Herstellerauswahl!$C$4,\"BMW 1er 3-Türer, M135i, F21 (LCI), 326 PS / 240 kW\")","v":"BMW 1er 3-Türer, M135i, F21 (LCI), 326 PS / 240 kW"},{"$f":"HYPERLINK(\"files\\1006.\"&Herstellerauswahl!$C$4,\"Auswahl / Select 1006\")","v":"Auswahl / Select 1006"}]
["0005/CAO",{"$f":"HYPERLINK(\"files\\1006.\"&Herstellerauswahl!$C$4,\"BMW 1er 3-Türer, M135i xDrive, F21 (LCI), 326 PS / 240 kW\")","v":"BMW 1er 3-Türer, M135i xDrive, F21 (LCI), 326 PS / 240 kW"},{"$f":"HYPERLINK(\"files\\1006.\"&Herstellerauswahl!$C$4,\"Auswahl / Select 1006\")","v":"Auswahl / Select 1006"}]
["0005/CID",{"$f":"HYPERLINK(\"files\\1006.\"&Herstellerauswahl!$C$4,\"BMW 1er 3-Türer, M140i, F21 (LCI), 340 PS / 250 kW\")","v":"BMW 1er 3-Türer, M140i, F21 (LCI), 340 PS / 250 kW"},{"$f":"HYPERLINK(\"files\\1006.\"&Herstellerauswahl!$C$4,\"Auswahl / Select 1006\")","v":"Auswahl / Select 1006"}]
["0005/CIE",{"$f":"HYPERLINK(\"files\\1006.\"&Herstellerauswahl!$C$4,\"BMW 1er 3-Türer, M140i xDrive, F21 (LCI), 340 PS / 250 kW\")","v":"BMW 1er 3-Türer, M140i xDrive, F21 (LCI), 340 PS / 250 kW"},{"$f":"HYPERLINK(\"files\\1006.\"&Herstellerauswahl!$C$4,\"Auswahl / Select 1006\")","v":"Auswahl / Select 1006"}]

{"sheet":"F40 5-Türer","index":15,"n_rows":15,"n_cols":4,"rows_kept":15,"cut":false,"hidden":false,"merged":[]}
[]
[]
["TSN/HSN","Motorauswahl für F40 5-Türer","Home","Zurück / back"]
[]
["0005/CWO",{"$f":"HYPERLINK(\"files\\1010.\"&Herstellerauswahl!$C$4,\"BMW 1er 5-Türer, 116d, F40, 116 PS / 85 kW\")","v":"BMW 1er 5-Türer, 116d, F40, 116 PS / 85 kW"},{"$f":"HYPERLINK(\"files\\1010.\"&Herstellerauswahl!$C$4,\"Auswahl / Select 1010\")","v":"Auswahl / Select 1010"}]
["0005/CWJ",{"$f":"HYPERLINK(\"files\\1010.\"&Herstellerauswahl!$C$4,\"BMW 1er 5-Türer, 116i, F40, 109 PS / 80 kW\")","v":"BMW 1er 5-Türer, 116i, F40, 109 PS / 80 kW"},{"$f":"HYPERLINK(\"files\\1010.\"&Herstellerauswahl!$C$4,\"Auswahl / Select 1010\")","v":"Auswahl / Select 1010"}]
["0005/CWP",{"$f":"HYPERLINK(\"files\\1010.\"&Herstellerauswahl!$C$4,\"BMW 1er 5-Türer, 118d, F40, 150 PS / 110 kW\")","v":"BMW 1er 5-Türer, 118d, F40, 150 PS / 110 kW"},{"$f":"HYPERLINK(\"files\\1010.\"&Herstellerauswahl!$C$4,\"Auswahl / Select 1010\")","v":"Auswahl / Select 1010"}]
["0005/CXP",{"$f":"HYPERLINK(\"files\\1010.\"&Herstellerauswahl!$C$4,\"BMW 1er 5-Türer, 118d, F40, 136 PS / 100 kW\")","v":"BMW 1er 5-Türer, 118d, F40, 136 PS / 100 kW"},{"$f":"HYPERLINK(\"files\\1010.\"&Herstellerauswahl!$C$4,\"Auswahl / Select 1010\")","v":"Auswahl / Select 1010"}]
["0005/CWK",{"$f":"HYPERLINK(\"files\\1010.\"&Herstellerauswahl!$C$4,\"BMW 1er 5-Türer, 118i, F40, 140 PS / 103 kW\")","v":"BMW 1er 5-Türer, 118i, F40, 140 PS / 103 kW"},{"$f":"HYPERLINK(\"files\\1010.\"&Herstellerauswahl!$C$4,\"Auswahl / Select 1010\")","v":"Auswahl / Select 1010"}]
["0005/DCS",{"$f":"HYPERLINK(\"files\\1010.\"&Herstellerauswahl!$C$4,\"BMW 1er 5-Türer, 118i, F40, 136 PS / 100 kW\")","v":"BMW 1er 5-Türer, 118i, F40, 136 PS / 100 kW"},{"$f":"HYPERLINK(\"files\\1010.\"&Herstellerauswahl!$C$4,\"Auswahl / Select 1010\")","v":"Auswahl / Select 1010"}]
["0005/CWQ",{"$f":"HYPERLINK(\"files\\1010.\"&Herstellerauswahl!$C$4,\"BMW 1er 5-Türer, 120d, F40, 190 PS / 140 kW\")","v":"BMW 1er 5-Türer, 120d, F40, 190 PS / 140 kW"},{"$f":"HYPERLINK(\"files\\1010.\"&Herstellerauswahl!$C$4,\"Auswahl / Select 1010\")","v":"Auswahl / Select 1010"}]
["0005/CWS",{"$f":"HYPERLINK(\"files\\1010.\"&Herstellerauswahl!$C$4,\"BMW 1er 5-Türer, 120d xDrive, F40, 190 PS / 140 kW\")","v":"BMW 1er 5-Türer, 120d xDrive, F40, 190 PS / 140 kW"},{"$f":"HYPERLINK(\"files\\1010.\"&Herstellerauswahl!$C$4,\"Auswahl / Select 1010\")","v":"Auswahl / Select 1010"}]
["0005/DCT",{"$f":"HYPERLINK(\"files\\1010.\"&Herstellerauswahl!$C$4,\"BMW 1er 5-Türer, 120i, F40, 178 PS / 131 kW\")","v":"BMW 1er 5-Türer, 120i, F40, 178 PS / 131 kW"},{"$f":"HYPERLINK(\"files\\1010.\"&Herstellerauswahl!$C$4,\"Auswahl / Select 1010\")","v":"Auswahl / Select 1010"}]
["0005/CWN",{"$f":"HYPERLINK(\"files\\1010.\"&Herstellerauswahl!$C$4,\"BMW 1er 5-Türer, 128ti, F40, 265 PS / 195 kW\")","v":"BMW 1er 5-Türer, 128ti, F40, 265 PS / 195 kW"},{"$f":"HYPERLINK(\"files\\1010.\"&Herstellerauswahl!$C$4,\"Auswahl / Select 1010\")","v":"Auswahl / Select 1010"}]
["0005/CWM",{"$f":"HYPERLINK(\"files\\1010.\"&Herstellerauswahl!$C$4,\"BMW 1er 5-Türer, M135i xDrive, F40, 306 PS / 225 kW\")","v":"BMW 1er 5-Türer, M135i xDrive, F40, 306 PS / 225 kW"},{"$f":"HYPERLINK(\"files\\1011.\"&Herstellerauswahl!$C$4,\"Auswahl / Select 1011\")","v":"Auswahl / Select 1011"}]

{"sheet":"BMW 2er","index":16,"n_rows":16,"n_cols":4,"rows_kept":16,"cut":false,"hidden":false,"merged":[]}
[]
[]
[null,"Typauswahl für BMW 2er","Home","Zurück / back"]
[]
[null,"F22 Coupe","Auswahl / Select"]
[null,"F22 Facelift Coupe","Auswahl / Select"]
[null,"F23 Cabrio","Auswahl / Select"]
[null,"F23 Facelift Cabrio","Auswahl / Select"]
[null,"F44 Gran Coupe","Auswahl / Select"]
[null,"F45 Active Tourer","Auswahl / Select"]
[null,"F45 Facelift Active Tourer","Auswahl / Select"]
[null,"F46 Gran Tourer","Auswahl / Select"]
[null,"F46 Facelift Gran Tourer","Auswahl / Select"]
[null,"F87 M Coupe","Auswahl / Select"]
[null,"F87 Facelift M Coupe","Auswahl / Select"]
[null,"G42 Coupe","Auswahl / Select"]

{"sheet":"F22 Coupe","index":17,"n_rows":17,"n_cols":4,"rows_kept":17,"cut":false,"hidden":false,"merged":[]}
[]
[]
["TSN/HSN","Motorauswahl für F22 Coupe","Home","Zurück / back"]
[]
["0005/CCX",{"$f":"HYPERLINK(\"files\\2050.\"&Herstellerauswahl!$C$4,\"BMW 2er Coupe, 218d, F22, 150 PS / 110 kW\")","v":"BMW 2er Coupe, 218d, F22, 150 PS / 110 kW"},{"$f":"HYPERLINK(\"files\\2050.\"&Herstellerauswahl!$C$4,\"Auswahl / Select 2050\")","v":"Auswahl / Select 2050"}]
["0005/BYM",{"$f":"HYPERLINK(\"files\\2050.\"&Herstellerauswahl!$C$4,\"BMW 2er Coupe, 218i, F22, 136 PS / 100 kW\")","v":"BMW 2er Coupe, 218i, F22, 136 PS / 100 kW"},{"$f":"HYPERLINK(\"files\\2050.\"&Herstellerauswahl!$C$4,\"Auswahl / Select 2050\")","v":"Auswahl / Select 2050"}]
["0005/BSM/BSN",{"$f":"HYPERLINK(\"files\\2050.\"&Herstellerauswahl!$C$4,\"BMW 2er Coupe, 220d, F22, 184 PS / 135 kW\")","v":"BMW 2er Coupe, 220d, F22, 184 PS / 135 kW"},{"$f":"HYPERLINK(\"files\\2050.\"&Herstellerauswahl!$C$4,\"Auswahl / Select 2050\")","v":"Auswahl / Select 2050"}]
["0005/BYN",{"$f":"HYPERLINK(\"files\\2050.\"&Herstellerauswahl!$C$4,\"BMW 2er Coupe, 220d, F22, 190 PS / 140 kW\")","v":"BMW 2er Coupe, 220d, F22, 190 PS / 140 kW"},{"$f":"HYPERLINK(\"files\\2050.\"&Herstellerauswahl!$C$4,\"Auswahl / Select 2050\")","v":"Auswahl / Select 2050"}]
["0005/BYP",{"$f":"HYPERLINK(\"files\\2050.\"&Herstellerauswahl!$C$4,\"BMW 2er Coupe, 220d xDrive, F22, 190 PS / 140 kW\")","v":"BMW 2er Coupe, 220d xDrive, F22, 190 PS / 140 kW"},{"$f":"HYPERLINK(\"files\\2050.\"&Herstellerauswahl!$C$4,\"Auswahl / Select 2050\")","v":"Auswahl / Select 2050"}]
["0005/BSM",{"$f":"HYPERLINK(\"files\\2050.\"&Herstellerauswahl!$C$4,\"BMW 2er Coupe, 220i, F22, 184 PS / 135 kW\")","v":"BMW 2er Coupe, 220i, F22, 184 PS / 135 kW"},{"$f":"HYPERLINK(\"files\\2050.\"&Herstellerauswahl!$C$4,\"Auswahl / Select 2050\")","v":"Auswahl / Select 2050"}]
["0005/CCY",{"$f":"HYPERLINK(\"files\\2050.\"&Herstellerauswahl!$C$4,\"BMW 2er Coupe, 225d, F22, 224 PS / 165 kW\")","v":"BMW 2er Coupe, 225d, F22, 224 PS / 165 kW"},{"$f":"HYPERLINK(\"files\\2050.\"&Herstellerauswahl!$C$4,\"Auswahl / Select 2050\")","v":"Auswahl / Select 2050"}]
["0005/BVS",{"$f":"HYPERLINK(\"files\\2050.\"&Herstellerauswahl!$C$4,\"BMW 2er Coupe, 228i, F22, 245 PS / 180 kW\")","v":"BMW 2er Coupe, 228i, F22, 245 PS / 180 kW"},{"$f":"HYPERLINK(\"files\\2050.\"&Herstellerauswahl!$C$4,\"Auswahl / Select 2050\")","v":"Auswahl / Select 2050"}]
["0005/CIF",{"$f":"HYPERLINK(\"files\\2050.\"&Herstellerauswahl!$C$4,\"BMW 2er Coupe, 230i, F22, 252 PS / 185 kW\")","v":"BMW 2er Coupe, 230i, F22, 252 PS / 185 kW"},{"$f":"HYPERLINK(\"files\\2050.\"&Herstellerauswahl!$C$4,\"Auswahl / Select 2050\")","v":"Auswahl / Select 2050"}]
["0005/BTZ",{"$f":"HYPERLINK(\"files\\2050.\"&Herstellerauswahl!$C$4,\"BMW 2er Coupe, M235i, F22, 326 PS / 240 kW\")","v":"BMW 2er Coupe, M235i, F22, 326 PS / 240 kW"},{"$f":"HYPERLINK(\"files\\2050.\"&Herstellerauswahl!$C$4,\"Auswahl / Select 2050\")","v":"Auswahl / Select 2050"}]
["0005/BVU",{"$f":"HYPERLINK(\"files\\2050.\"&Herstellerauswahl!$C$4,\"BMW 2er Coupe, M235i xDrive, F22, 326 PS / 240 kW\")","v":"BMW 2er Coupe, M235i xDrive, F22, 326 PS / 240 kW"},{"$f":"HYPERLINK(\"files\\2050.\"&Herstellerauswahl!$C$4,\"Auswahl / Select 2050\")","v":"Auswahl / Select 2050"}]
["0005/CIG",{"$f":"HYPERLINK(\"files\\2050.\"&Herstellerauswahl!$C$4,\"BMW 2er Coupe, M240i, F22, 340 PS / 250 kW\")","v":"BMW 2er Coupe, M240i, F22, 340 PS / 250 kW"},{"$f":"HYPERLINK(\"files\\2050.\"&Herstellerauswahl!$C$4,\"Auswahl / Select 2050\")","v":"Auswahl / Select 2050"}]
["0005/CIH",{"$f":"HYPERLINK(\"files\\2050.\"&Herstellerauswahl!$C$4,\"BMW 2er Coupe, M240i xDrive, F22, 340 PS / 250 kW\")","v":"BMW 2er Coupe, M240i xDrive, F22, 340 PS / 250 kW"},{"$f":"HYPERLINK(\"files\\2050.\"&Herstellerauswahl!$C$4,\"Auswahl / Select 2050\")","v":"Auswahl / Select 2050"}]

{"sheet":"F22 Facelift Coupe","index":18,"n_rows":13,"n_cols":4,"rows_kept":13,"cut":false,"hidden":false,"merged":[]}
[]
[]
["TSN/HSN","Motorauswahl für F22 Facelift Coupe","Home","Zurück / back"]
[]
["0005/BYM",{"$f":"HYPERLINK(\"files\\2050.\"&Herstellerauswahl!$C$4,\"BMW 2er Coupe, 218i, F22 (LCI), 136 PS / 100 kW\")","v":"BMW 2er Coupe, 218i, F22 (LCI), 136 PS / 100 kW"},{"$f":"HYPERLINK(\"files\\2050.\"&Herstellerauswahl!$C$4,\"Auswahl / Select 2050\")","v":"Auswahl / Select 2050"}]
["0005/CCX",{"$f":"HYPERLINK(\"files\\2050.\"&Herstellerauswahl!$C$4,\"BMW 2er Coupe, 218d, F22 (LCI), 150 PS / 110 kW\")","v":"BMW 2er Coupe, 218d, F22 (LCI), 150 PS / 110 kW"},{"$f":"HYPERLINK(\"files\\2050.\"&Herstellerauswahl!$C$4,\"Auswahl / Select 2050\")","v":"Auswahl / Select 2050"}]
["0005/BSM",{"$f":"HYPERLINK(\"files\\2050.\"&Herstellerauswahl!$C$4,\"BMW 2er Coupe, 220i, F22 (LCI), 184 PS / 135 kW\")","v":"BMW 2er Coupe, 220i, F22 (LCI), 184 PS / 135 kW"},{"$f":"HYPERLINK(\"files\\2050.\"&Herstellerauswahl!$C$4,\"Auswahl / Select 2050\")","v":"Auswahl / Select 2050"}]
["0005/BYM",{"$f":"HYPERLINK(\"files\\2050.\"&Herstellerauswahl!$C$4,\"BMW 2er Coupe, 220d, F22 (LCI), 190 PS / 140 kW\")","v":"BMW 2er Coupe, 220d, F22 (LCI), 190 PS / 140 kW"},{"$f":"HYPERLINK(\"files\\2050.\"&Herstellerauswahl!$C$4,\"Auswahl / Select 2050\")","v":"Auswahl / Select 2050"}]
["0005/BYP",{"$f":"HYPERLINK(\"files\\2050.\"&Herstellerauswahl!$C$4,\"BMW 2er Coupe, 220d xDrive, F22 (LCI), 190 PS / 140 kW\")","v":"BMW 2er Coupe, 220d xDrive, F22 (LCI), 190 PS / 140 kW"},{"$f":"HYPERLINK(\"files\\2050.\"&Herstellerauswahl!$C$4,\"Auswahl / Select 2050\")","v":"Auswahl / Select 2050"}]
["0005/CCY",{"$f":"HYPERLINK(\"files\\2050.\"&Herstellerauswahl!$C$4,\"BMW 2er Coupe, 225d, F22 (LCI), 224 PS / 165 kW\")","v":"BMW 2er Coupe, 225d, F22 (LCI), 224 PS / 165 kW"},{"$f":"HYPERLINK(\"files\\2050.\"&Herstellerauswahl!$C$4,\"Auswahl / Select 2050\")","v":"Auswahl / Select 2050"}]
["0005/CIF",{"$f":"HYPERLINK(\"files\\2050.\"&Herstellerauswahl!$C$4,\"BMW 2er Coupe, 230i, F22 (LCI), 252 PS / 185 kW\")","v":"BMW 2er Coupe, 230i, F22 (LCI), 252 PS / 185 kW"},{"$f":"HYPERLINK(\"files\\2050.\"&Herstellerauswahl!$C$4,\"Auswahl / Select 2050\")","v":"Auswahl / Select 2050"}]
["0005/CIG",{"$f":"HYPERLINK(\"files\\2050.\"&Herstellerauswahl!$C$4,\"BMW 2er Coupe, M240i, F22 (LCI), 340 PS / 250 kW\")","v":"BMW 2er Coupe, M240i, F22 (LCI), 340 PS / 250 kW"},{"$f":"HYPERLINK(\"files\\2050.\"&Herstellerauswahl!$C$4,\"Auswahl / Select 2050\")","v":"Auswahl / Select 2050"}]
["0005/CIH",{"$f":"HYPERLINK(\"files\\2050.\"&Herstellerauswahl!$C$4,\"BMW 2er Coupe, M240i xDrive, F22 (LCI), 340 PS / 250 kW\")","v":"BMW 2er Coupe, M240i xDrive, F22 (LCI), 340 PS / 250 kW"},{"$f":"HYPERLINK(\"files\\2050.\"&Herstellerauswahl!$C$4,\"Auswahl / Select 2050\")","v":"Auswahl / Select 2050"}]

{"sheet":"F23 Cabrio","index":19,"n_rows":15,"n_cols":4,"rows_kept":15,"cut":false,"hidden":false,"merged":[]}
[]
[]
["TSN/HSN","Motorauswahl für F23 Cabrio","Home","Zurück / back"]
[]
["0005/CDA",{"$f":"HYPERLINK(\"files\\2051.\"&Herstellerauswahl!$C$4,\"BMW 2er Cabrio, 218d, F23, 150 PS / 110 kW\")","v":"BMW 2er Cabrio, 218d, F23, 150 PS / 110 kW"},{"$f":"HYPERLINK(\"files\\2051.\"&Herstellerauswahl!$C$4,\"Auswahl / Select 2051\")","v":"Auswahl / Select 2051"}]
["0005/BYS",{"$f":"HYPERLINK(\"files\\2051.\"&Herstellerauswahl!$C$4,\"BMW 2er Cabrio, 218i, F23, 136 PS / 100 kW\")","v":"BMW 2er Cabrio, 218i, F23, 136 PS / 100 kW"},{"$f":"HYPERLINK(\"files\\2051.\"&Herstellerauswahl!$C$4,\"Auswahl / Select 2051\")","v":"Auswahl / Select 2051"}]
["0005/BYW",{"$f":"HYPERLINK(\"files\\2051.\"&Herstellerauswahl!$C$4,\"BMW 2er Cabrio, 220d, F23, 190 PS / 140 kW\")","v":"BMW 2er Cabrio, 220d, F23, 190 PS / 140 kW"},{"$f":"HYPERLINK(\"files\\2051.\"&Herstellerauswahl!$C$4,\"Auswahl / Select 2051\")","v":"Auswahl / Select 2051"}]
["0005/BYT",{"$f":"HYPERLINK(\"files\\2051.\"&Herstellerauswahl!$C$4,\"BMW 2er Cabrio, 220i, F23, 184 PS / 135 kW\")","v":"BMW 2er Cabrio, 220i, F23, 184 PS / 135 kW"},{"$f":"HYPERLINK(\"files\\2051.\"&Herstellerauswahl!$C$4,\"Auswahl / Select 2051\")","v":"Auswahl / Select 2051"}]
["0005/CDC",{"$f":"HYPERLINK(\"files\\2051.\"&Herstellerauswahl!$C$4,\"BMW 2er Cabrio, 225d, F23, 224 PS / 165 kW\")","v":"BMW 2er Cabrio, 225d, F23, 224 PS / 165 kW"},{"$f":"HYPERLINK(\"files\\2051.\"&Herstellerauswahl!$C$4,\"Auswahl / Select 2051\")","v":"Auswahl / Select 2051"}]
["0005/BYU",{"$f":"HYPERLINK(\"files\\2051.\"&Herstellerauswahl!$C$4,\"BMW 2er Cabrio, 228i, F23, 245 PS / 180 kW\")","v":"BMW 2er Cabrio, 228i, F23, 245 PS / 180 kW"},{"$f":"HYPERLINK(\"files\\2051.\"&Herstellerauswahl!$C$4,\"Auswahl / Select 2051\")","v":"Auswahl / Select 2051"}]
["0005/CII",{"$f":"HYPERLINK(\"files\\2051.\"&Herstellerauswahl!$C$4,\"BMW 2er Cabrio, 230i, F23, 252 PS / 185 kW\")","v":"BMW 2er Cabrio, 230i, F23, 252 PS / 185 kW"},{"$f":"HYPERLINK(\"files\\2051.\"&Herstellerauswahl!$C$4,\"Auswahl / Select 2051\")","v":"Auswahl / Select 2051"}]
["0005/BYV",{"$f":"HYPERLINK(\"files\\2051.\"&Herstellerauswahl!$C$4,\"BMW 2er Cabrio, M235i, F23, 326 PS / 240 kW\")","v":"BMW 2er Cabrio, M235i, F23, 326 PS / 240 kW"},{"$f":"HYPERLINK(\"files\\2051.\"&Herstellerauswahl!$C$4,\"Auswahl / Select 2051\")","v":"Auswahl / Select 2051"}]
["0005/CCZ",{"$f":"HYPERLINK(\"files\\2051.\"&Herstellerauswahl!$C$4,\"BMW 2er Cabrio, M235i xDrive, F23, 326 PS / 240 kW\")","v":"BMW 2er Cabrio, M235i xDrive, F23, 326 PS / 240 kW"},{"$f":"HYPERLINK(\"files\\2051.\"&Herstellerauswahl!$C$4,\"Auswahl / Select 2051\")","v":"Auswahl / Select 2051"}]
["0005/CIJ",{"$f":"HYPERLINK(\"files\\2051.\"&Herstellerauswahl!$C$4,\"BMW 2er Cabrio, M240i, F23, 340 PS / 250 kW\")","v":"BMW 2er Cabrio, M240i, F23, 340 PS / 250 kW"},{"$f":"HYPERLINK(\"files\\2051.\"&Herstellerauswahl!$C$4,\"Auswahl / Select 2051\")","v":"Auswahl / Select 2051"}]
["0005/CIK",{"$f":"HYPERLINK(\"files\\2051.\"&Herstellerauswahl!$C$4,\"BMW 2er Cabrio, M240i xDrive, F23, 340 PS / 250 kW\")","v":"BMW 2er Cabrio, M240i xDrive, F23, 340 PS / 250 kW"},{"$f":"HYPERLINK(\"files\\2051.\"&Herstellerauswahl!$C$4,\"Auswahl / Select 2051\")","v":"Auswahl / Select 2051"}]

{"sheet":"F23 Facelift Cabrio","index":20,"n_rows":12,"n_cols":4,"rows_kept":12,"cut":false,"hidden":false,"merged":[]}
[]
[]
["TSN/HSN","Motorauswahl für F23 Facelift Cabrio","Home","Zurück / back"]
[]
["0005/BYS/DFE",{"$f":"HYPERLINK(\"files\\2051.\"&Herstellerauswahl!$C$4,\"BMW 2er Cabrio, 218i, F23 (LCI), 136 PS / 100 kW\")","v":"BMW 2er Cabrio, 218i, F23 (LCI), 136 PS / 100 kW"},{"$f":"HYPERLINK(\"files\\2051.\"&Herstellerauswahl!$C$4,\"Auswahl / Select 2051\")","v":"Auswahl / Select 2051"}]
["0005/CDA",{"$f":"HYPERLINK(\"files\\2051.\"&Herstellerauswahl!$C$4,\"BMW 2er Cabrio, 218d, F23 (LCI), 150 PS / 110 kW\")","v":"BMW 2er Cabrio, 218d, F23 (LCI), 150 PS / 110 kW"},{"$f":"HYPERLINK(\"files\\2051.\"&Herstellerauswahl!$C$4,\"Auswahl / Select 2051\")","v":"Auswahl / Select 2051"}]
["0005/BYT",{"$f":"HYPERLINK(\"files\\2051.\"&Herstellerauswahl!$C$4,\"BMW 2er Cabrio, 220i, F23 (LCI), 184 PS / 135 kW\")","v":"BMW 2er Cabrio, 220i, F23 (LCI), 184 PS / 135 kW"},{"$f":"HYPERLINK(\"files\\2051.\"&Herstellerauswahl!$C$4,\"Auswahl / Select 2051\")","v":"Auswahl / Select 2051"}]
["0005/BYW",{"$f":"HYPERLINK(\"files\\2051.\"&Herstellerauswahl!$C$4,\"BMW 2er Cabrio, 220d, F23 (LCI), 150 PS / 110 kW\")","v":"BMW 2er Cabrio, 220d, F23 (LCI), 150 PS / 110 kW"},{"$f":"HYPERLINK(\"files\\2051.\"&Herstellerauswahl!$C$4,\"Auswahl / Select 2051\")","v":"Auswahl / Select 2051"}]
["0005/CDC",{"$f":"HYPERLINK(\"files\\2051.\"&Herstellerauswahl!$C$4,\"BMW 2er Cabrio, 225d, F23 (LCI), 224 PS / 165 kW\")","v":"BMW 2er Cabrio, 225d, F23 (LCI), 224 PS / 165 kW"},{"$f":"HYPERLINK(\"files\\2051.\"&Herstellerauswahl!$C$4,\"Auswahl / Select 2051\")","v":"Auswahl / Select 2051"}]
["0005/CII",{"$f":"HYPERLINK(\"files\\2051.\"&Herstellerauswahl!$C$4,\"BMW 2er Cabrio, 230i, F23 (LCI), 252 PS / 185 kW\")","v":"BMW 2er Cabrio, 230i, F23 (LCI), 252 PS / 185 kW"},{"$f":"HYPERLINK(\"files\\2051.\"&Herstellerauswahl!$C$4,\"Auswahl / Select 2051\")","v":"Auswahl / Select 2051"}]
["0005/CIJ",{"$f":"HYPERLINK(\"files\\2051.\"&Herstellerauswahl!$C$4,\"BMW 2er Cabrio, M240i, F23 (LCI), 340 PS / 250 kW\")","v":"BMW 2er Cabrio, M240i, F23 (LCI), 340 PS / 250 kW"},{"$f":"HYPERLINK(\"files\\2051.\"&Herstellerauswahl!$C$4,\"Auswahl / Select 2051\")","v":"Auswahl / Select 2051"}]
["0005/CIK",{"$f":"HYPERLINK(\"files\\2051.\"&Herstellerauswahl!$C$4,\"BMW 2er Cabrio, M240i xDrive, F23 (LCI), 340 PS / 250 kW\")","v":"BMW 2er Cabrio, M240i xDrive, F23 (LCI), 340 PS / 250 kW"},{"$f":"HYPERLINK(\"files\\2051.\"&Herstellerauswahl!$C$4,\"Auswahl / Select 2051\")","v":"Auswahl / Select 2051"}]

{"sheet":"F44 Gran Coupe","index":21,"n_rows":15,"n_cols":4,"rows_kept":15,"cut":false,"hidden":false,"merged":[]}
[]
[]
["TSN/HSN","Motorauswahl für F44 Gran Coupe","Home","Zurück / back"]
[]
["0005/CYV",{"$f":"HYPERLINK(\"files\\2057.\"&Herstellerauswahl!$C$4,\"BMW 2er Gran Coupe, 216d, F44, 116 PS / 85 kW\")","v":"BMW 2er Gran Coupe, 216d, F44, 116 PS / 85 kW"},{"$f":"HYPERLINK(\"files\\2057.\"&Herstellerauswahl!$C$4,\"Auswahl / Select 2057\")","v":"Auswahl / Select 2057"}]
["0005/DBA",{"$f":"HYPERLINK(\"files\\2057.\"&Herstellerauswahl!$C$4,\"BMW 2er Gran Coupe, 218d, F44, 136 PS / 100 kW\")","v":"BMW 2er Gran Coupe, 218d, F44, 136 PS / 100 kW"},{"$f":"HYPERLINK(\"files\\2057.\"&Herstellerauswahl!$C$4,\"Auswahl / Select 2057\")","v":"Auswahl / Select 2057"}]
["0005/DAZ",{"$f":"HYPERLINK(\"files\\2057.\"&Herstellerauswahl!$C$4,\"BMW 2er Gran Coupe, 218d, F44, 150 PS / 110 kW\")","v":"BMW 2er Gran Coupe, 218d, F44, 150 PS / 110 kW"},{"$f":"HYPERLINK(\"files\\2057.\"&Herstellerauswahl!$C$4,\"Auswahl / Select 2057\")","v":"Auswahl / Select 2057"}]
["0005/DBD",{"$f":"HYPERLINK(\"files\\2057.\"&Herstellerauswahl!$C$4,\"BMW 2er Gran Coupe, 218i, F44, 136 PS / 100 kW\")","v":"BMW 2er Gran Coupe, 218i, F44, 136 PS / 100 kW"},{"$f":"HYPERLINK(\"files\\2057.\"&Herstellerauswahl!$C$4,\"Auswahl / Select 2057\")","v":"Auswahl / Select 2057"}]
["0005/CYG",{"$f":"HYPERLINK(\"files\\2057.\"&Herstellerauswahl!$C$4,\"BMW 2er Gran Coupe, 218i, F44, 140 PS / 103 kW\")","v":"BMW 2er Gran Coupe, 218i, F44, 140 PS / 103 kW"},{"$f":"HYPERLINK(\"files\\2057.\"&Herstellerauswahl!$C$4,\"Auswahl / Select 2057\")","v":"Auswahl / Select 2057"}]
["0005/CYE",{"$f":"HYPERLINK(\"files\\2057.\"&Herstellerauswahl!$C$4,\"BMW 2er Gran Coupe, 220d, F44, 163 PS / 120 kW\")","v":"BMW 2er Gran Coupe, 220d, F44, 163 PS / 120 kW"},{"$f":"HYPERLINK(\"files\\2057.\"&Herstellerauswahl!$C$4,\"Auswahl / Select 2057\")","v":"Auswahl / Select 2057"}]
["0005/CYD",{"$f":"HYPERLINK(\"files\\2057.\"&Herstellerauswahl!$C$4,\"BMW 2er Gran Coupe, 220d, F44, 190 PS / 140 kW\")","v":"BMW 2er Gran Coupe, 220d, F44, 190 PS / 140 kW"},{"$f":"HYPERLINK(\"files\\2057.\"&Herstellerauswahl!$C$4,\"Auswahl / Select 2057\")","v":"Auswahl / Select 2057"}]
["0005/DBB",{"$f":"HYPERLINK(\"files\\2057.\"&Herstellerauswahl!$C$4,\"BMW 2er Gran Coupe, 220d xDrive, F44, 190 PS / 140 kW\")","v":"BMW 2er Gran Coupe, 220d xDrive, F44, 190 PS / 140 kW"},{"$f":"HYPERLINK(\"files\\2057.\"&Herstellerauswahl!$C$4,\"Auswahl / Select 2057\")","v":"Auswahl / Select 2057"}]
["0005/DBC",{"$f":"HYPERLINK(\"files\\2057.\"&Herstellerauswahl!$C$4,\"BMW 2er Gran Coupe, 220i, F44, 178 PS / 131 kW\")","v":"BMW 2er Gran Coupe, 220i, F44, 178 PS / 131 kW"},{"$f":"HYPERLINK(\"files\\2057.\"&Herstellerauswahl!$C$4,\"Auswahl / Select 2057\")","v":"Auswahl / Select 2057"}]
["0005/DBE",{"$f":"HYPERLINK(\"files\\2057.\"&Herstellerauswahl!$C$4,\"BMW 2er Gran Coupe, 220i xDrive, F44, 178 PS / 131 kW\")","v":"BMW 2er Gran Coupe, 220i xDrive, F44, 178 PS / 131 kW"},{"$f":"HYPERLINK(\"files\\2057.\"&Herstellerauswahl!$C$4,\"Auswahl / Select 2057\")","v":"Auswahl / Select 2057"}]
["0005/CYF",{"$f":"HYPERLINK(\"files\\2057.\"&Herstellerauswahl!$C$4,\"BMW 2er Gran Coupe, M235i xDrive, F44, 306 PS / 225 kW\")","v":"BMW 2er Gran Coupe, M235i xDrive, F44, 306 PS / 225 kW"},{"$f":"HYPERLINK(\"files\\2057.\"&Herstellerauswahl!$C$4,\"Auswahl / Select 2057\")","v":"Auswahl / Select 2057"}]

{"sheet":"F45 Active Tourer","index":22,"n_rows":15,"n_cols":4,"rows_kept":15,"cut":false,"hidden":false,"merged":[]}
[]
[]
["TSN/HSN","Motorauswahl für F45 Active Tourer","Home","Zurück / back"]
[]
["0005/CBW/CJM",{"$f":"HYPERLINK(\"files\\2045.\"&Herstellerauswahl!$C$4,\"BMW 2er Active Tourer, 216i, F45, 102 PS / 75 kW\")","v":"BMW 2er Active Tourer, 216i, F45, 102 PS / 75 kW"},{"$f":"HYPERLINK(\"files\\2045.\"&Herstellerauswahl!$C$4,\"Auswahl / Select 2045\")","v":"Auswahl / Select 2045"}]
["0005/BXS/CJU",{"$f":"HYPERLINK(\"files\\2045.\"&Herstellerauswahl!$C$4,\"BMW 2er Active Tourer, 216d, F45, 116 PS / 85 kW\")","v":"BMW 2er Active Tourer, 216d, F45, 116 PS / 85 kW"},{"$f":"HYPERLINK(\"files\\2045.\"&Herstellerauswahl!$C$4,\"Auswahl / Select 2045\")","v":"Auswahl / Select 2045"}]
["0005/BWN/CJN",{"$f":"HYPERLINK(\"files\\2045.\"&Herstellerauswahl!$C$4,\"BMW 2er Active Tourer, 218i, F45, 136 PS / 100 kW\")","v":"BMW 2er Active Tourer, 218i, F45, 136 PS / 100 kW"},{"$f":"HYPERLINK(\"files\\2045.\"&Herstellerauswahl!$C$4,\"Auswahl / Select 2045\")","v":"Auswahl / Select 2045"}]
["0005/BWP/CJV",{"$f":"HYPERLINK(\"files\\2045.\"&Herstellerauswahl!$C$4,\"BMW 2er Active Tourer, 218d, F45, 150 PS / 110 kW\")","v":"BMW 2er Active Tourer, 218d, F45, 150 PS / 110 kW"},{"$f":"HYPERLINK(\"files\\2045.\"&Herstellerauswahl!$C$4,\"Auswahl / Select 2045\")","v":"Auswahl / Select 2045"}]
["0005/CBX/CJZ",{"$f":"HYPERLINK(\"files\\2045.\"&Herstellerauswahl!$C$4,\"BMW 2er Active Tourer, 218d xDrive, F45, 150 PS / 110 kW\")","v":"BMW 2er Active Tourer, 218d xDrive, F45, 150 PS / 110 kW"},{"$f":"HYPERLINK(\"files\\2045.\"&Herstellerauswahl!$C$4,\"Auswahl / Select 2045\")","v":"Auswahl / Select 2045"}]
["0005/BXU/CJX",{"$f":"HYPERLINK(\"files\\2045.\"&Herstellerauswahl!$C$4,\"BMW 2er Active Tourer, 220d, F45, 190 PS / 140 kW\")","v":"BMW 2er Active Tourer, 220d, F45, 190 PS / 140 kW"},{"$f":"HYPERLINK(\"files\\2045.\"&Herstellerauswahl!$C$4,\"Auswahl / Select 2045\")","v":"Auswahl / Select 2045"}]
["0005/BXW/CKB",{"$f":"HYPERLINK(\"files\\2045.\"&Herstellerauswahl!$C$4,\"BMW 2er Active Tourer, 220d xDrive, F45, 190 PS / 140 kW\")","v":"BMW 2er Active Tourer, 220d xDrive, F45, 190 PS / 140 kW"},{"$f":"HYPERLINK(\"files\\2045.\"&Herstellerauswahl!$C$4,\"Auswahl / Select 2045\")","v":"Auswahl / Select 2045"}]
["0005/BXQ/CJO",{"$f":"HYPERLINK(\"files\\2045.\"&Herstellerauswahl!$C$4,\"BMW 2er Active Tourer, 220i, F45, 192 PS / 141 kW\")","v":"BMW 2er Active Tourer, 220i, F45, 192 PS / 141 kW"},{"$f":"HYPERLINK(\"files\\2045.\"&Herstellerauswahl!$C$4,\"Auswahl / Select 2045\")","v":"Auswahl / Select 2045"}]
["0005/BWO/CJQ",{"$f":"HYPERLINK(\"files\\2045.\"&Herstellerauswahl!$C$4,\"BMW 2er Active Tourer, 225i, F45, 231 PS / 170 kW\")","v":"BMW 2er Active Tourer, 225i, F45, 231 PS / 170 kW"},{"$f":"HYPERLINK(\"files\\2045.\"&Herstellerauswahl!$C$4,\"Auswahl / Select 2045\")","v":"Auswahl / Select 2045"}]
["0005/BXR/CJR",{"$f":"HYPERLINK(\"files\\2045.\"&Herstellerauswahl!$C$4,\"BMW 2er Active Tourer, 225i xDrive, F45, 231 PS / 170 kW\")","v":"BMW 2er Active Tourer, 225i xDrive, F45, 231 PS / 170 kW"},{"$f":"HYPERLINK(\"files\\2045.\"&Herstellerauswahl!$C$4,\"Auswahl / Select 2045\")","v":"Auswahl / Select 2045"}]
["0005/CFA/CIL/CJS",{"$f":"HYPERLINK(\"files\\2045.\"&Herstellerauswahl!$C$4,\"BMW 2er Active Tourer, 225e xDrive, F45, 136 PS / 100 kW\")","v":"BMW 2er Active Tourer, 225e xDrive, F45, 136 PS / 100 kW"},{"$f":"HYPERLINK(\"files\\2045.\"&Herstellerauswahl!$C$4,\"Auswahl / Select 2045\")","v":"Auswahl / Select 2045"}]

{"sheet":"F45 Facelift Active Tourer","index":23,"n_rows":14,"n_cols":4,"rows_kept":14,"cut":false,"hidden":false,"merged":[]}
[]
[]
["TSN/HSN","Motorauswahl für F45 Facelift Active Tourer","Home","Zurück / back"]
[]
["0005/CQW",{"$f":"HYPERLINK(\"files\\2045.\"&Herstellerauswahl!$C$4,\"BMW 2er Active Tourer, 216i, F45 (LCI), 109 PS / 80 kW\")","v":"BMW 2er Active Tourer, 216i, F45 (LCI), 109 PS / 80 kW"},{"$f":"HYPERLINK(\"files\\2045.\"&Herstellerauswahl!$C$4,\"Auswahl / Select 2045\")","v":"Auswahl / Select 2045"}]
["0005/CJU",{"$f":"HYPERLINK(\"files\\2045.\"&Herstellerauswahl!$C$4,\"BMW 2er Active Tourer, 216d, F45 (LCI), 116 PS / 85 kW\")","v":"BMW 2er Active Tourer, 216d, F45 (LCI), 116 PS / 85 kW"},{"$f":"HYPERLINK(\"files\\2045.\"&Herstellerauswahl!$C$4,\"Auswahl / Select 2045\")","v":"Auswahl / Select 2045"}]
["0005/CQX",{"$f":"HYPERLINK(\"files\\2045.\"&Herstellerauswahl!$C$4,\"BMW 2er Active Tourer, 218i, F45 (LCI), 140 PS / 103 kW\")","v":"BMW 2er Active Tourer, 218i, F45 (LCI), 140 PS / 103 kW"},{"$f":"HYPERLINK(\"files\\2045.\"&Herstellerauswahl!$C$4,\"Auswahl / Select 2045\")","v":"Auswahl / Select 2045"}]
["0005/CJV",{"$f":"HYPERLINK(\"files\\2045.\"&Herstellerauswahl!$C$4,\"BMW 2er Active Tourer, 218d, F45 (LCI), 150 PS / 110 kW\")","v":"BMW 2er Active Tourer, 218d, F45 (LCI), 150 PS / 110 kW"},{"$f":"HYPERLINK(\"files\\2045.\"&Herstellerauswahl!$C$4,\"Auswahl / Select 2045\")","v":"Auswahl / Select 2045"}]
["0005/CJZ",{"$f":"HYPERLINK(\"files\\2045.\"&Herstellerauswahl!$C$4,\"BMW 2er Active Tourer, 218d xDrive, F45 (LCI), 150 PS / 110 kW\")","v":"BMW 2er Active Tourer, 218d xDrive, F45 (LCI), 150 PS / 110 kW"},{"$f":"HYPERLINK(\"files\\2045.\"&Herstellerauswahl!$C$4,\"Auswahl / Select 2045\")","v":"Auswahl / Select 2045"}]
["0005/CJO",{"$f":"HYPERLINK(\"files\\2045.\"&Herstellerauswahl!$C$4,\"BMW 2er Active Tourer, 220i, F45 (LCI), 192 PS / 141 kW\")","v":"BMW 2er Active Tourer, 220i, F45 (LCI), 192 PS / 141 kW"},{"$f":"HYPERLINK(\"files\\2045.\"&Herstellerauswahl!$C$4,\"Auswahl / Select 2045\")","v":"Auswahl / Select 2045"}]
["0005/CJX",{"$f":"HYPERLINK(\"files\\2045.\"&Herstellerauswahl!$C$4,\"BMW 2er Active Tourer, 220d, F45 (LCI), 190 PS / 140 kW\")","v":"BMW 2er Active Tourer, 220d, F45 (LCI), 190 PS / 140 kW"},{"$f":"HYPERLINK(\"files\\2045.\"&Herstellerauswahl!$C$4,\"Auswahl / Select 2045\")","v":"Auswahl / Select 2045"}]
["0005/CKB",{"$f":"HYPERLINK(\"files\\2045.\"&Herstellerauswahl!$C$4,\"BMW 2er Active Tourer, 220d xDrive, F45 (LCI), 190 PS / 140 kW\")","v":"BMW 2er Active Tourer, 220d xDrive, F45 (LCI), 190 PS / 140 kW"},{"$f":"HYPERLINK(\"files\\2045.\"&Herstellerauswahl!$C$4,\"Auswahl / Select 2045\")","v":"Auswahl / Select 2045"}]
["0005/CJR",{"$f":"HYPERLINK(\"files\\2045.\"&Herstellerauswahl!$C$4,\"BMW 2er Active Tourer, 225i xDrive, F45 (LCI), 231 PS / 170 kW\")","v":"BMW 2er Active Tourer, 225i xDrive, F45 (LCI), 231 PS / 170 kW"},{"$f":"HYPERLINK(\"files\\2045.\"&Herstellerauswahl!$C$4,\"Auswahl / Select 2045\")","v":"Auswahl / Select 2045"}]
["0005/CJS",{"$f":"HYPERLINK(\"files\\2045.\"&Herstellerauswahl!$C$4,\"BMW 2er Active Tourer, 225e xDrive, F45 (LCI), 136 PS / 100 kW\")","v":"BMW 2er Active Tourer, 225e xDrive, F45 (LCI), 136 PS / 100 kW"},{"$f":"HYPERLINK(\"files\\2045.\"&Herstellerauswahl!$C$4,\"Auswahl / Select 2045\")","v":"Auswahl / Select 2045"}]

{"sheet":"F46 Gran Tourer","index":24,"n_rows":14,"n_cols":4,"rows_kept":14,"cut":false,"hidden":false,"merged":[]}
[]
[]
["TSN/HSN","Motorauswahl für F46 Gran Tourer","Home","Zurück / back"]
[]
["0005/CBT/CKG",{"$f":"HYPERLINK(\"files\\2045.\"&Herstellerauswahl!$C$4,\"BMW 2er Gran Tourer, 214d, F46, 95 PS / 70 kW\")","v":"BMW 2er Gran Tourer, 214d, F46, 95 PS / 70 kW"},{"$f":"HYPERLINK(\"files\\2045.\"&Herstellerauswahl!$C$4,\"Auswahl / Select 2045\")","v":"Auswahl / Select 2045"}]
["0005/CBS/CKD",{"$f":"HYPERLINK(\"files\\2045.\"&Herstellerauswahl!$C$4,\"BMW 2er Gran Tourer, 216i, F46, 102 PS / 75 kW\")","v":"BMW 2er Gran Tourer, 216i, F46, 102 PS / 75 kW"},{"$f":"HYPERLINK(\"files\\2045.\"&Herstellerauswahl!$C$4,\"Auswahl / Select 2045\")","v":"Auswahl / Select 2045"}]
["0005/BZE/CKH",{"$f":"HYPERLINK(\"files\\2045.\"&Herstellerauswahl!$C$4,\"BMW 2er Gran Tourer, 216d, F46, 116 PS / 85 kW\")","v":"BMW 2er Gran Tourer, 216d, F46, 116 PS / 85 kW"},{"$f":"HYPERLINK(\"files\\2045.\"&Herstellerauswahl!$C$4,\"Auswahl / Select 2045\")","v":"Auswahl / Select 2045"}]
["0005/BZG/CKI",{"$f":"HYPERLINK(\"files\\2045.\"&Herstellerauswahl!$C$4,\"BMW 2er Gran Tourer, 218d, F46, 150 PS / 110 kW\")","v":"BMW 2er Gran Tourer, 218d, F46, 150 PS / 110 kW"},{"$f":"HYPERLINK(\"files\\2045.\"&Herstellerauswahl!$C$4,\"Auswahl / Select 2045\")","v":"Auswahl / Select 2045"}]
["0005/CGC/CGD/CKM",{"$f":"HYPERLINK(\"files\\2045.\"&Herstellerauswahl!$C$4,\"BMW 2er Gran Tourer, 218d xDrive, F46, 150 PS / 110 kW\")","v":"BMW 2er Gran Tourer, 218d xDrive, F46, 150 PS / 110 kW"},{"$f":"HYPERLINK(\"files\\2045.\"&Herstellerauswahl!$C$4,\"Auswahl / Select 2045\")","v":"Auswahl / Select 2045"}]
["0005/BZC/CKE",{"$f":"HYPERLINK(\"files\\2045.\"&Herstellerauswahl!$C$4,\"BMW 2er Gran Tourer, 218i, F46, 136 PS / 100 kW\")","v":"BMW 2er Gran Tourer, 218i, F46, 136 PS / 100 kW"},{"$f":"HYPERLINK(\"files\\2045.\"&Herstellerauswahl!$C$4,\"Auswahl / Select 2045\")","v":"Auswahl / Select 2045"}]
["0005/CPB",{"$f":"HYPERLINK(\"files\\2045.\"&Herstellerauswahl!$C$4,\"BMW 2er Gran Tourer, 218i, F46, 140 PS / 103 kW\")","v":"BMW 2er Gran Tourer, 218i, F46, 140 PS / 103 kW"},{"$f":"HYPERLINK(\"files\\2045.\"&Herstellerauswahl!$C$4,\"Auswahl / Select 2045\")","v":"Auswahl / Select 2045"}]
["0005/CBU/CKK",{"$f":"HYPERLINK(\"files\\2045.\"&Herstellerauswahl!$C$4,\"BMW 2er Gran Tourer, 220d, F46, 190 PS / 140 kW\")","v":"BMW 2er Gran Tourer, 220d, F46, 190 PS / 140 kW"},{"$f":"HYPERLINK(\"files\\2045.\"&Herstellerauswahl!$C$4,\"Auswahl / Select 2045\")","v":"Auswahl / Select 2045"}]
["0005/BZI/CKO",{"$f":"HYPERLINK(\"files\\2045.\"&Herstellerauswahl!$C$4,\"BMW 2er Gran Tourer, 220d xDrive, F46, 190 PS / 140 kW\")","v":"BMW 2er Gran Tourer, 220d xDrive, F46, 190 PS / 140 kW"},{"$f":"HYPERLINK(\"files\\2045.\"&Herstellerauswahl!$C$4,\"Auswahl / Select 2045\")","v":"Auswahl / Select 2045"}]
["0005/BZD/CKF",{"$f":"HYPERLINK(\"files\\2045.\"&Herstellerauswahl!$C$4,\"BMW 2er Gran Tourer, 220i, F46, 192 PS / 141 kW\")","v":"BMW 2er Gran Tourer, 220i, F46, 192 PS / 141 kW"},{"$f":"HYPERLINK(\"files\\2045.\"&Herstellerauswahl!$C$4,\"Auswahl / Select 2045\")","v":"Auswahl / Select 2045"}]

{"sheet":"F46 Facelift Gran Tourer","index":25,"n_rows":12,"n_cols":4,"rows_kept":12,"cut":false,"hidden":false,"merged":[]}
[]
[]
["TSN/HSN","Motorauswahl für F46 Facelift Gran Tourer","Home","Zurück / back"]
[]
["0005/CQV",{"$f":"HYPERLINK(\"files\\2045.\"&Herstellerauswahl!$C$4,\"BMW 2er Gran Tourer, 216i, F46 (LCI), 109 PS / 80 kW\")","v":"BMW 2er Gran Tourer, 216i, F46 (LCI), 109 PS / 80 kW"},{"$f":"HYPERLINK(\"files\\2045.\"&Herstellerauswahl!$C$4,\"Auswahl / Select 2045\")","v":"Auswahl / Select 2045"}]
["0005/CKH",{"$f":"HYPERLINK(\"files\\2045.\"&Herstellerauswahl!$C$4,\"BMW 2er Gran Tourer, 216d, F46 (LCI), 116 PS / 85 kW\")","v":"BMW 2er Gran Tourer, 216d, F46 (LCI), 116 PS / 85 kW"},{"$f":"HYPERLINK(\"files\\2045.\"&Herstellerauswahl!$C$4,\"Auswahl / Select 2045\")","v":"Auswahl / Select 2045"}]
["0005/CPB",{"$f":"HYPERLINK(\"files\\2045.\"&Herstellerauswahl!$C$4,\"BMW 2er Gran Tourer, 218i, F46 (LCI), 140 PS / 103 kW\")","v":"BMW 2er Gran Tourer, 218i, F46 (LCI), 140 PS / 103 kW"},{"$f":"HYPERLINK(\"files\\2045.\"&Herstellerauswahl!$C$4,\"Auswahl / Select 2045\")","v":"Auswahl / Select 2045"}]
["0005/CKI",{"$f":"HYPERLINK(\"files\\2045.\"&Herstellerauswahl!$C$4,\"BMW 2er Gran Tourer, 218d, F46 (LCI), 150 PS / 110 kW\")","v":"BMW 2er Gran Tourer, 218d, F46 (LCI), 150 PS / 110 kW"},{"$f":"HYPERLINK(\"files\\2045.\"&Herstellerauswahl!$C$4,\"Auswahl / Select 2045\")","v":"Auswahl / Select 2045"}]
["0005/CKM",{"$f":"HYPERLINK(\"files\\2045.\"&Herstellerauswahl!$C$4,\"BMW 2er Gran Tourer, 218d xDrive, F46 (LCI), 150 PS / 110 kW\")","v":"BMW 2er Gran Tourer, 218d xDrive, F46 (LCI), 150 PS / 110 kW"},{"$f":"HYPERLINK(\"files\\2045.\"&Herstellerauswahl!$C$4,\"Auswahl / Select 2045\")","v":"Auswahl / Select 2045"}]
["0005/CKF",{"$f":"HYPERLINK(\"files\\2045.\"&Herstellerauswahl!$C$4,\"BMW 2er Gran Tourer, 220i, F46 (LCI), 192 PS / 141 kW\")","v":"BMW 2er Gran Tourer, 220i, F46 (LCI), 192 PS / 141 kW"},{"$f":"HYPERLINK(\"files\\2045.\"&Herstellerauswahl!$C$4,\"Auswahl / Select 2045\")","v":"Auswahl / Select 2045"}]
["0005/CKK",{"$f":"HYPERLINK(\"files\\2045.\"&Herstellerauswahl!$C$4,\"BMW 2er Gran Tourer, 220d, F46 (LCI), 190 PS / 140 kW\")","v":"BMW 2er Gran Tourer, 220d, F46 (LCI), 190 PS / 140 kW"},{"$f":"HYPERLINK(\"files\\2045.\"&Herstellerauswahl!$C$4,\"Auswahl / Select 2045\")","v":"Auswahl / Select 2045"}]
["0005/CKO",{"$f":"HYPERLINK(\"files\\2045.\"&Herstellerauswahl!$C$4,\"BMW 2er Gran Tourer, 220d xDrive, F46 (LCI), 190 PS / 140 kW\")","v":"BMW 2er Gran Tourer, 220d xDrive, F46 (LCI), 190 PS / 140 kW"},{"$f":"HYPERLINK(\"files\\2045.\"&Herstellerauswahl!$C$4,\"Auswahl / Select 2045\")","v":"Auswahl / Select 2045"}]

{"sheet":"F87 M Coupe","index":26,"n_rows":6,"n_cols":4,"rows_kept":6,"cut":false,"hidden":false,"merged":[]}
[]
[]
["TSN/HSN","Motorauswahl für F87 M Coupe","Home","Zurück / back"]
[]
["7909/ABP",{"$f":"HYPERLINK(\"files\\2021.\"&Herstellerauswahl!$C$4,\"BMW 2er M Coupe, M2, F87, 370 PS / 272 kW\")","v":"BMW 2er M Coupe, M2, F87, 370 PS / 272 kW"},{"$f":"HYPERLINK(\"files\\2021.\"&Herstellerauswahl!$C$4,\"Auswahl / Select 2021\")","v":"Auswahl / Select 2021"}]
["7909/ABP",{"$f":"HYPERLINK(\"files\\2023.\"&Herstellerauswahl!$C$4,\"BMW 2er M Coupe, M2, F87, 370 PS / 272 kW Keramikbremse\")","v":"BMW 2er M Coupe, M2, F87, 370 PS / 272 kW Keramikbremse"},{"$f":"HYPERLINK(\"files\\2023.\"&Herstellerauswahl!$C$4,\"Auswahl / Select 2023\")","v":"Auswahl / Select 2023"}]

{"sheet":"F87 Facelift M Coupe","index":27,"n_rows":9,"n_cols":4,"rows_kept":9,"cut":false,"hidden":false,"merged":[]}
[]
[]
["TSN/HSN","Motorauswahl für F87 Facelift M Coupe","Home","Zurück / back"]
[]
["7909/ABP",{"$f":"HYPERLINK(\"files\\2021.\"&Herstellerauswahl!$C$4,\"BMW 2er M Coupe, M2, F87 (LCI), 370 PS / 272 kW\")","v":"BMW 2er M Coupe, M2, F87 (LCI), 370 PS / 272 kW"},{"$f":"HYPERLINK(\"files\\2021.\"&Herstellerauswahl!$C$4,\"Auswahl / Select 2021\")","v":"Auswahl / Select 2021"}]
["7909/ABY/ACT",{"$f":"HYPERLINK(\"files\\2021.\"&Herstellerauswahl!$C$4,\"BMW 2er M Coupe, M2 Competition, F87 (LCI), 411 PS / 302 kW\")","v":"BMW 2er M Coupe, M2 Competition, F87 (LCI), 411 PS / 302 kW"},{"$f":"HYPERLINK(\"files\\2021.\"&Herstellerauswahl!$C$4,\"Auswahl / Select 2021\")","v":"Auswahl / Select 2021"}]
["7909/ABP",{"$f":"HYPERLINK(\"files\\2021.\"&Herstellerauswahl!$C$4,\"BMW 2er M Coupe, M2, F87 (LCI), 370 PS / 272 kW Keramikbremse\")","v":"BMW 2er M Coupe, M2, F87 (LCI), 370 PS / 272 kW Keramikbremse"},{"$f":"HYPERLINK(\"files\\2023.\"&Herstellerauswahl!$C$4,\"Auswahl / Select 2023\")","v":"Auswahl / Select 2023"}]
["7909/ABY/ACT",{"$f":"HYPERLINK(\"files\\2021.\"&Herstellerauswahl!$C$4,\"BMW 2er M Coupe, M2 Competition, F87 (LCI), 411 PS / 302 kW Keramikbremse\")","v":"BMW 2er M Coupe, M2 Competition, F87 (LCI), 411 PS / 302 kW Keramikbremse"},{"$f":"HYPERLINK(\"files\\2023.\"&Herstellerauswahl!$C$4,\"Auswahl / Select 2023\")","v":"Auswahl / Select 2023"}]
["7909/ACO","BMW 2er M Coupe, M2 CS, F87 (LCI), 450 PS / 331 kW Keramikbremse"]

{"sheet":"G42 Coupe","index":28,"n_rows":16,"n_cols":4,"rows_kept":16,"cut":false,"hidden":false,"merged":[[13,0,13,2]]}
[]
[]
["TSN/HSN","Motorauswahl für G42 Coupe","Home","Zurück / back"]
[]
["0005/",{"$f":"HYPERLINK(\"files\\2058.\"&Herstellerauswahl!$C$4,\"BMW 2er Coupe, 218i, Typ G42, 156 PS / 115 kW\")","v":"BMW 2er Coupe, 218i, Typ G42, 156 PS / 115 kW"},{"$f":"HYPERLINK(\"files\\2058.\"&Herstellerauswahl!$C$4,\"Auswahl / Select 2058\")","v":"Auswahl / Select 2058"}]
["0005/DFS",{"$f":"HYPERLINK(\"files\\2058.\"&Herstellerauswahl!$C$4,\"BMW 2er Coupe, 220i, Typ G42, 184 PS / 135 kW\")","v":"BMW 2er Coupe, 220i, Typ G42, 184 PS / 135 kW"},{"$f":"HYPERLINK(\"files\\2058.\"&Herstellerauswahl!$C$4,\"Auswahl / Select 2058\")","v":"Auswahl / Select 2058"}]
["0005/DFU",{"$f":"HYPERLINK(\"files\\2058.\"&Herstellerauswahl!$C$4,\"BMW 2er Coupe, 220d, Typ G42, 190 PS / 140 kW\")","v":"BMW 2er Coupe, 220d, Typ G42, 190 PS / 140 kW"},{"$f":"HYPERLINK(\"files\\2058.\"&Herstellerauswahl!$C$4,\"Auswahl / Select 2058\")","v":"Auswahl / Select 2058"}]
["0005/DFW",{"$f":"HYPERLINK(\"files\\2058.\"&Herstellerauswahl!$C$4,\"BMW 2er Coupe, 220d MHy, Typ G42, 163 PS / 120 kW\")","v":"BMW 2er Coupe, 220d MHy, Typ G42, 163 PS / 120 kW"},{"$f":"HYPERLINK(\"files\\2058.\"&Herstellerauswahl!$C$4,\"Auswahl / Select 2058\")","v":"Auswahl / Select 2058"}]
["0005/DFV",{"$f":"HYPERLINK(\"files\\2058.\"&Herstellerauswahl!$C$4,\"BMW 2er Coupe, 220d MHy, Typ G42, 190 PS / 140 kW\")","v":"BMW 2er Coupe, 220d MHy, Typ G42, 190 PS / 140 kW"},{"$f":"HYPERLINK(\"files\\2058.\"&Herstellerauswahl!$C$4,\"Auswahl / Select 2058\")","v":"Auswahl / Select 2058"}]
["0005/DHD",{"$f":"HYPERLINK(\"files\\2058.\"&Herstellerauswahl!$C$4,\"BMW 2er Coupe, 230i, Typ G42, 245 PS / 180 kW\")","v":"BMW 2er Coupe, 230i, Typ G42, 245 PS / 180 kW"},{"$f":"HYPERLINK(\"files\\2058.\"&Herstellerauswahl!$C$4,\"Auswahl / Select 2058\")","v":"Auswahl / Select 2058"}]
["0005/",{"$f":"HYPERLINK(\"files\\2058.\"&Herstellerauswahl!$C$4,\"BMW 2er Coupe, M240i, Typ G42, 374 PS / 275 kW\")","v":"BMW 2er Coupe, M240i, Typ G42, 374 PS / 275 kW"},{"$f":"HYPERLINK(\"files\\2058.\"&Herstellerauswahl!$C$4,\"Auswahl / Select 2058\")","v":"Auswahl / Select 2058"}]
["0005/DGY",{"$f":"HYPERLINK(\"files\\2058.\"&Herstellerauswahl!$C$4,\"BMW 2er Coupe, M240i xDrive, Typ G42, 374 PS / 275 kW\")","v":"BMW 2er Coupe, M240i xDrive, Typ G42, 374 PS / 275 kW"},{"$f":"HYPERLINK(\"files\\2058.\"&Herstellerauswahl!$C$4,\"Auswahl / Select 2058\")","v":"Auswahl / Select 2058"}]
[]
["Mit Werkseitiger Radhausverbreiterung"]
["0005/",{"$f":"HYPERLINK(\"files\\2058.\"&Herstellerauswahl!$C$4,\"BMW 2er Coupe, M240i, Typ G42, 374 PS / 275 kW\")","v":"BMW 2er Coupe, M240i, Typ G42, 374 PS / 275 kW"},{"$f":"HYPERLINK(\"files\\2059.\"&Herstellerauswahl!$C$4,\"Auswahl / Select 2059\")","v":"Auswahl / Select 2059"}]
["0005/DGY",{"$f":"HYPERLINK(\"files\\2059.\"&Herstellerauswahl!$C$4,\"BMW 2er Coupe, M240i xDrive, Typ G42, 374 PS / 275 kW\")","v":"BMW 2er Coupe, M240i xDrive, Typ G42, 374 PS / 275 kW"},{"$f":"HYPERLINK(\"files\\2059.\"&Herstellerauswahl!$C$4,\"Auswahl / Select 2059\")","v":"Auswahl / Select 2059"}]

{"sheet":"BMW 3er","index":29,"n_rows":25,"n_cols":4,"rows_kept":25,"cut":false,"hidden":false,"merged":[]}
[]
[]
[null,"Typauswahl für BMW 3er","Home","Zurück / back"]
[]
[null,"E90 Limousine","Auswahl / Select"]
[null,"E90 Facelift Limousine","Auswahl / Select"]
[null,"E90 M Limousine","Auswahl / Select"]
[null,"E91 Touring","Auswahl / Select"]
[null,"E91 Facelift Touring","Auswahl / Select"]
[null,"E92 Coupe","Auswahl / Select"]
[null,"E92 Facelift Coupe","Auswahl / Select"]
[null,"E92 M Coupe","Auswahl / Select"]
[null,"E93 Cabrio","Auswahl / Select"]
[null,"E93 Facelift Cabrio","Auswahl / Select"]
[null,"E93 M Cabrio","Auswahl / Select"]
[null,"F30 Limousine","Auswahl / Select"]
[null,"F30 Facelift Limousine","Auswahl / Select"]
[null,"F31 Touring","Auswahl / Select"]
[null,"F31 Facelift Touring","Auswahl / Select"]
[null,"F34 Gran Turismo","Auswahl / Select"]
[null,"F34 Facelift Gran Turismo","Auswahl / Select"]
[null,"F80 M Limousine","Auswahl / Select"]
[null,"G20 Limousine","Auswahl / Select"]
[null,"G21 Touring","Auswahl / Select"]
[null,"G80 M Limousine","Auswahl / Select"]

{"sheet":"E90 Limousine","index":30,"n_rows":33,"n_cols":4,"rows_kept":33,"cut":false,"hidden":false,"merged":[]}
[]
[]
["TSN/HSN","Motorauswahl für E90 Limousine","Home","Zurück / back"]
[]
["0005/ADI",{"$f":"HYPERLINK(\"files\\2001.\"&Herstellerauswahl!$C$4,\"BMW 3er Limousine, 316i, E90, 116 PS / 85 kW\")","v":"BMW 3er Limousine, 316i, E90, 116 PS / 85 kW"},{"$f":"HYPERLINK(\"files\\2001.\"&Herstellerauswahl!$C$4,\"Auswahl / Select 2001\")","v":"Auswahl / Select 2001"}]
["0005/871/ALC",{"$f":"HYPERLINK(\"files\\2001.\"&Herstellerauswahl!$C$4,\"BMW 3er Limousine, 316i, E90, 122 PS / 90 kW\")","v":"BMW 3er Limousine, 316i, E90, 122 PS / 90 kW"},{"$f":"HYPERLINK(\"files\\2001.\"&Herstellerauswahl!$C$4,\"Auswahl / Select 2001\")","v":"Auswahl / Select 2001"}]
["",{"$f":"HYPERLINK(\"files\\2001.\"&Herstellerauswahl!$C$4,\"BMW 3er Limousine, 318i, E90, 143 PS / 105 kW\")","v":"BMW 3er Limousine, 318i, E90, 143 PS / 105 kW"},{"$f":"HYPERLINK(\"files\\2001.\"&Herstellerauswahl!$C$4,\"Auswahl / Select 2001\")","v":"Auswahl / Select 2001"}]
["0005/874/ADK",{"$f":"HYPERLINK(\"files\\2001.\"&Herstellerauswahl!$C$4,\"BMW 3er Limousine, 318i, E90, 129 PS / 95 kW\")","v":"BMW 3er Limousine, 318i, E90, 129 PS / 95 kW"},{"$f":"HYPERLINK(\"files\\2001.\"&Herstellerauswahl!$C$4,\"Auswahl / Select 2001\")","v":"Auswahl / Select 2001"}]
["0005/872/ADG",{"$f":"HYPERLINK(\"files\\2001.\"&Herstellerauswahl!$C$4,\"BMW 3er Limousine, 318d, E90, 122 PS / 90 kW\")","v":"BMW 3er Limousine, 318d, E90, 122 PS / 90 kW"},{"$f":"HYPERLINK(\"files\\2001.\"&Herstellerauswahl!$C$4,\"Auswahl / Select 2001\")","v":"Auswahl / Select 2001"}]
["",{"$f":"HYPERLINK(\"files\\2001.\"&Herstellerauswahl!$C$4,\"BMW 3er Limousine, 318d, E90, 143 PS / 105 kW\")","v":"BMW 3er Limousine, 318d, E90, 143 PS / 105 kW"},{"$f":"HYPERLINK(\"files\\2001.\"&Herstellerauswahl!$C$4,\"Auswahl / Select 2001\")","v":"Auswahl / Select 2001"}]
["0005/821/ADS",{"$f":"HYPERLINK(\"files\\2001.\"&Herstellerauswahl!$C$4,\"BMW 3er Limousine, 320d, E90, 163 PS / 120 kW\")","v":"BMW 3er Limousine, 320d, E90, 163 PS / 120 kW"},{"$f":"HYPERLINK(\"files\\2001.\"&Herstellerauswahl!$C$4,\"Auswahl / Select 2001\")","v":"Auswahl / Select 2001"}]
["0005/ALJ",{"$f":"HYPERLINK(\"files\\2001.\"&Herstellerauswahl!$C$4,\"BMW 3er Limousine, 320d, E90, 177 PS / 130 kW\")","v":"BMW 3er Limousine, 320d, E90, 177 PS / 130 kW"},{"$f":"HYPERLINK(\"files\\2001.\"&Herstellerauswahl!$C$4,\"Auswahl / Select 2001\")","v":"Auswahl / Select 2001"}]
["0005/ABY",{"$f":"HYPERLINK(\"files\\2001.\"&Herstellerauswahl!$C$4,\"BMW 3er Limousine, 320si, E90, 173 PS / 127 kW\")","v":"BMW 3er Limousine, 320si, E90, 173 PS / 127 kW"},{"$f":"HYPERLINK(\"files\\2001.\"&Herstellerauswahl!$C$4,\"Auswahl / Select 2001\")","v":"Auswahl / Select 2001"}]
["0005/820/ADN",{"$f":"HYPERLINK(\"files\\2001.\"&Herstellerauswahl!$C$4,\"BMW 3er Limousine, 320i, E90, 150 PS / 110 kW\")","v":"BMW 3er Limousine, 320i, E90, 150 PS / 110 kW"},{"$f":"HYPERLINK(\"files\\2001.\"&Herstellerauswahl!$C$4,\"Auswahl / Select 2001\")","v":"Auswahl / Select 2001"}]
["0005/AMF",{"$f":"HYPERLINK(\"files\\2001.\"&Herstellerauswahl!$C$4,\"BMW 3er Limousine, 320i, E90, 156 PS / 115 kW\")","v":"BMW 3er Limousine, 320i, E90, 156 PS / 115 kW"},{"$f":"HYPERLINK(\"files\\2001.\"&Herstellerauswahl!$C$4,\"Auswahl / Select 2001\")","v":"Auswahl / Select 2001"}]
["0005/ALF",{"$f":"HYPERLINK(\"files\\2001.\"&Herstellerauswahl!$C$4,\"BMW 3er Limousine, 320i, E90, 170 PS / 125 kW\")","v":"BMW 3er Limousine, 320i, E90, 170 PS / 125 kW"},{"$f":"HYPERLINK(\"files\\2001.\"&Herstellerauswahl!$C$4,\"Auswahl / Select 2001\")","v":"Auswahl / Select 2001"}]
["0005/ABY",{"$f":"HYPERLINK(\"files\\2001.\"&Herstellerauswahl!$C$4,\"BMW 3er Limousine, 320i, E90, 173 PS / 127 kW\")","v":"BMW 3er Limousine, 320i, E90, 173 PS / 127 kW"},{"$f":"HYPERLINK(\"files\\2001.\"&Herstellerauswahl!$C$4,\"Auswahl / Select 2001\")","v":"Auswahl / Select 2001"}]
["",{"$f":"HYPERLINK(\"files\\2001.\"&Herstellerauswahl!$C$4,\"BMW 3er Limousine, 323i, E90, 177 PS / 130 kW\")","v":"BMW 3er Limousine, 323i, E90, 177 PS / 130 kW"},{"$f":"HYPERLINK(\"files\\2001.\"&Herstellerauswahl!$C$4,\"Auswahl / Select 2001\")","v":"Auswahl / Select 2001"}]
["",{"$f":"HYPERLINK(\"files\\2001.\"&Herstellerauswahl!$C$4,\"BMW 3er Limousine, 323i, E90, 203 PS / 149 kW\")","v":"BMW 3er Limousine, 323i, E90, 203 PS / 149 kW"},{"$f":"HYPERLINK(\"files\\2001.\"&Herstellerauswahl!$C$4,\"Auswahl / Select 2001\")","v":"Auswahl / Select 2001"}]
["0005/822/ADQ",{"$f":"HYPERLINK(\"files\\2001.\"&Herstellerauswahl!$C$4,\"BMW 3er Limousine, 325i, E90, 218 PS / 160 kW\")","v":"BMW 3er Limousine, 325i, E90, 218 PS / 160 kW"},{"$f":"HYPERLINK(\"files\\2001.\"&Herstellerauswahl!$C$4,\"Auswahl / Select 2001\")","v":"Auswahl / Select 2001"}]
["",{"$f":"HYPERLINK(\"files\\2001.\"&Herstellerauswahl!$C$4,\"BMW 3er Limousine, 325d, E90, 197 PS / 145 kW\")","v":"BMW 3er Limousine, 325d, E90, 197 PS / 145 kW"},{"$f":"HYPERLINK(\"files\\2001.\"&Herstellerauswahl!$C$4,\"Auswahl / Select 2001\")","v":"Auswahl / Select 2001"}]
["",{"$f":"HYPERLINK(\"files\\2001.\"&Herstellerauswahl!$C$4,\"BMW 3er Limousine, 328i, E90, 234 PS / 172 kW\")","v":"BMW 3er Limousine, 328i, E90, 234 PS / 172 kW"},{"$f":"HYPERLINK(\"files\\2001.\"&Herstellerauswahl!$C$4,\"Auswahl / Select 2001\")","v":"Auswahl / Select 2001"}]
["0005/875/ADH",{"$f":"HYPERLINK(\"files\\2001.\"&Herstellerauswahl!$C$4,\"BMW 3er Limousine, 330d, E90, 231 PS / 170 kW\")","v":"BMW 3er Limousine, 330d, E90, 231 PS / 170 kW"},{"$f":"HYPERLINK(\"files\\2001.\"&Herstellerauswahl!$C$4,\"Auswahl / Select 2001\")","v":"Auswahl / Select 2001"}]
["0005/823/ADT",{"$f":"HYPERLINK(\"files\\2001.\"&Herstellerauswahl!$C$4,\"BMW 3er Limousine, 330i, E90, 258 PS / 190 kW\")","v":"BMW 3er Limousine, 330i, E90, 258 PS / 190 kW"},{"$f":"HYPERLINK(\"files\\2001.\"&Herstellerauswahl!$C$4,\"Auswahl / Select 2001\")","v":"Auswahl / Select 2001"}]
["0005/AJU",{"$f":"HYPERLINK(\"files\\2001.\"&Herstellerauswahl!$C$4,\"BMW 3er Limousine, 330i, E90, 272 PS / 200 kW\")","v":"BMW 3er Limousine, 330i, E90, 272 PS / 200 kW"},{"$f":"HYPERLINK(\"files\\2001.\"&Herstellerauswahl!$C$4,\"Auswahl / Select 2001\")","v":"Auswahl / Select 2001"}]
["0005/AFH",{"$f":"HYPERLINK(\"files\\2001.\"&Herstellerauswahl!$C$4,\"BMW 3er Limousine, 335d, E90, 286 PS / 210 kW\")","v":"BMW 3er Limousine, 335d, E90, 286 PS / 210 kW"},{"$f":"HYPERLINK(\"files\\2001.\"&Herstellerauswahl!$C$4,\"Auswahl / Select 2001\")","v":"Auswahl / Select 2001"}]
["0005/AFI",{"$f":"HYPERLINK(\"files\\2001.\"&Herstellerauswahl!$C$4,\"BMW 3er Limousine, 335i, E90, 306 PS / 225 kW\")","v":"BMW 3er Limousine, 335i, E90, 306 PS / 225 kW"},{"$f":"HYPERLINK(\"files\\2001.\"&Herstellerauswahl!$C$4,\"Auswahl / Select 2001\")","v":"Auswahl / Select 2001"}]
["0005/881/AEB",{"$f":"HYPERLINK(\"files\\2001.\"&Herstellerauswahl!$C$4,\"BMW 3er Limousine, 325i xDrive, E90, 218 PS / 160 kW\")","v":"BMW 3er Limousine, 325i xDrive, E90, 218 PS / 160 kW"},{"$f":"HYPERLINK(\"files\\2001.\"&Herstellerauswahl!$C$4,\"Auswahl / Select 2001\")","v":"Auswahl / Select 2001"}]
["0005/882/AEC",{"$f":"HYPERLINK(\"files\\2001.\"&Herstellerauswahl!$C$4,\"BMW 3er Limousine, 330d xDrive, E90, 231 PS / 170 kW\")","v":"BMW 3er Limousine, 330d xDrive, E90, 231 PS / 170 kW"},{"$f":"HYPERLINK(\"files\\2001.\"&Herstellerauswahl!$C$4,\"Auswahl / Select 2001\")","v":"Auswahl / Select 2001"}]
["0005/ALV",{"$f":"HYPERLINK(\"files\\2001.\"&Herstellerauswahl!$C$4,\"BMW 3er Limousine, 330i xDrive, E90, 218 PS / 160 kW\")","v":"BMW 3er Limousine, 330i xDrive, E90, 218 PS / 160 kW"},{"$f":"HYPERLINK(\"files\\2001.\"&Herstellerauswahl!$C$4,\"Auswahl / Select 2001\")","v":"Auswahl / Select 2001"}]
["0005/880/AEF",{"$f":"HYPERLINK(\"files\\2001.\"&Herstellerauswahl!$C$4,\"BMW 3er Limousine, 330i xDrive, E90, 258 PS / 190 kW\")","v":"BMW 3er Limousine, 330i xDrive, E90, 258 PS / 190 kW"},{"$f":"HYPERLINK(\"files\\2001.\"&Herstellerauswahl!$C$4,\"Auswahl / Select 2001\")","v":"Auswahl / Select 2001"}]
["0005/ALW",{"$f":"HYPERLINK(\"files\\2001.\"&Herstellerauswahl!$C$4,\"BMW 3er Limousine, 330i xDrive, E90, 272 PS / 200 kW\")","v":"BMW 3er Limousine, 330i xDrive, E90, 272 PS / 200 kW"},{"$f":"HYPERLINK(\"files\\2001.\"&Herstellerauswahl!$C$4,\"Auswahl / Select 2001\")","v":"Auswahl / Select 2001"}]
["0005/AIU",{"$f":"HYPERLINK(\"files\\2001.\"&Herstellerauswahl!$C$4,\"BMW 3er Limousine, 330i xDrive, E90, 306 PS / 225 kW\")","v":"BMW 3er Limousine, 330i xDrive, E90, 306 PS / 225 kW"},{"$f":"HYPERLINK(\"files\\2001.\"&Herstellerauswahl!$C$4,\"Auswahl / Select 2001\")","v":"Auswahl / Select 2001"}]

{"sheet":"E90 M Limousine","index":31,"n_rows":5,"n_cols":4,"rows_kept":5,"cut":false,"hidden":false,"merged":[]}
[]
[]
["TSN/HSN","Motorauswahl für E90 M Limousine","Home","Zurück / back"]
[]
["7909/AAI/AAL",{"$f":"HYPERLINK(\"files\\2011.\"&Herstellerauswahl!$C$4,\"BMW 3er M Limousine, M3, E90, 420 PS / 309 kW\")","v":"BMW 3er M Limousine, M3, E90, 420 PS / 309 kW"},{"$f":"HYPERLINK(\"files\\2011.\"&Herstellerauswahl!$C$4,\"Auswahl / Select 2011\")","v":"Auswahl / Select 2011"}]

{"sheet":"E90 M Coupe","index":32,"n_rows":5,"n_cols":4,"rows_kept":5,"cut":false,"hidden":false,"merged":[]}
[]
[]
["TSN/HSN","Motorauswahl für E90 M Coupe","Home","Zurück / back"]
[]
["7909/AAH/AAM",{"$f":"HYPERLINK(\"files\\2011.\"&Herstellerauswahl!$C$4,\"BMW 3er M Coupe, M3, E90, 420 PS / 309 kW\")","v":"BMW 3er M Coupe, M3, E90, 420 PS / 309 kW"},{"$f":"HYPERLINK(\"files\\2011.\"&Herstellerauswahl!$C$4,\"Auswahl / Select 2011\")","v":"Auswahl / Select 2011"}]

{"sheet":"E90 M Cabrio","index":33,"n_rows":5,"n_cols":4,"rows_kept":5,"cut":false,"hidden":false,"merged":[]}
[]
[]
["TSN/HSN","Motorauswahl für E90 M Cabrio","Home","Zurück / back"]
[]
["7909/AAJ",{"$f":"HYPERLINK(\"files\\2011.\"&Herstellerauswahl!$C$4,\"BMW 3er M Cabrio, M3, E90, 420 PS / 309 kW\")","v":"BMW 3er M Cabrio, M3, E90, 420 PS / 309 kW"},{"$f":"HYPERLINK(\"files\\2011.\"&Herstellerauswahl!$C$4,\"Auswahl / Select 2011\")","v":"Auswahl / Select 2011"}]

{"sheet":"E90 Facelift Limousine","index":34,"n_rows":28,"n_cols":4,"rows_kept":28,"cut":false,"hidden":false,"merged":[]}
[]
[]
["TSN/HSN","Motorauswahl für E90 Facelift Limousine","Home","Zurück / back"]
[]
["0005/AVU",{"$f":"HYPERLINK(\"files\\2006.\"&Herstellerauswahl!$C$4,\"BMW 3er Limousine, 316d, E90 (LCI), 116 PS / 85 kW\")","v":"BMW 3er Limousine, 316d, E90 (LCI), 116 PS / 85 kW"},{"$f":"HYPERLINK(\"files\\2006.\"&Herstellerauswahl!$C$4,\"Auswahl / Select 2006\")","v":"Auswahl / Select 2006"}]
["0005/AVW",{"$f":"HYPERLINK(\"files\\2006.\"&Herstellerauswahl!$C$4,\"BMW 3er Limousine, 316i, E90 (LCI), 122 PS / 90 kW\")","v":"BMW 3er Limousine, 316i, E90 (LCI), 122 PS / 90 kW"},{"$f":"HYPERLINK(\"files\\2006.\"&Herstellerauswahl!$C$4,\"Auswahl / Select 2006\")","v":"Auswahl / Select 2006"}]
["0005/AVX",{"$f":"HYPERLINK(\"files\\2006.\"&Herstellerauswahl!$C$4,\"BMW 3er Limousine, 318d, E90 (LCI), 143 PS / 105 kW\")","v":"BMW 3er Limousine, 318d, E90 (LCI), 143 PS / 105 kW"},{"$f":"HYPERLINK(\"files\\2006.\"&Herstellerauswahl!$C$4,\"Auswahl / Select 2006\")","v":"Auswahl / Select 2006"}]
["0005/AVY",{"$f":"HYPERLINK(\"files\\2006.\"&Herstellerauswahl!$C$4,\"BMW 3er Limousine, 318i, E90 (LCI), 136 PS / 100 kW\")","v":"BMW 3er Limousine, 318i, E90 (LCI), 136 PS / 100 kW"},{"$f":"HYPERLINK(\"files\\2006.\"&Herstellerauswahl!$C$4,\"Auswahl / Select 2006\")","v":"Auswahl / Select 2006"}]
["",{"$f":"HYPERLINK(\"files\\2006.\"&Herstellerauswahl!$C$4,\"BMW 3er Limousine, 320d xDrive, E90 (LCI), 177 PS / 130 kW\")","v":"BMW 3er Limousine, 320d xDrive, E90 (LCI), 177 PS / 130 kW"},{"$f":"HYPERLINK(\"files\\2006.\"&Herstellerauswahl!$C$4,\"Auswahl / Select 2006\")","v":"Auswahl / Select 2006"}]
["0005/AWS",{"$f":"HYPERLINK(\"files\\2006.\"&Herstellerauswahl!$C$4,\"BMW 3er Limousine, 320d xDrive, E90 (LCI), 184 PS / 135 kW\")","v":"BMW 3er Limousine, 320d xDrive, E90 (LCI), 184 PS / 135 kW"},{"$f":"HYPERLINK(\"files\\2006.\"&Herstellerauswahl!$C$4,\"Auswahl / Select 2006\")","v":"Auswahl / Select 2006"}]
["0005/AWS",{"$f":"HYPERLINK(\"files\\2006.\"&Herstellerauswahl!$C$4,\"BMW 3er Limousine, 320d, E90 (LCI), 184 PS / 135 kW\")","v":"BMW 3er Limousine, 320d, E90 (LCI), 184 PS / 135 kW"},{"$f":"HYPERLINK(\"files\\2006.\"&Herstellerauswahl!$C$4,\"Auswahl / Select 2006\")","v":"Auswahl / Select 2006"}]
["0005/AWB",{"$f":"HYPERLINK(\"files\\2006.\"&Herstellerauswahl!$C$4,\"BMW 3er Limousine, 320d Efficient Dynamics, E90 (LCI), 163 PS / 120 kW\")","v":"BMW 3er Limousine, 320d Efficient Dynamics, E90 (LCI), 163 PS / 120 kW"},{"$f":"HYPERLINK(\"files\\2006.\"&Herstellerauswahl!$C$4,\"Auswahl / Select 2006\")","v":"Auswahl / Select 2006"}]
["",{"$f":"HYPERLINK(\"files\\2006.\"&Herstellerauswahl!$C$4,\"BMW 3er Limousine, 320d, E90 (LCI), 177 PS / 130 kW\")","v":"BMW 3er Limousine, 320d, E90 (LCI), 177 PS / 130 kW"},{"$f":"HYPERLINK(\"files\\2006.\"&Herstellerauswahl!$C$4,\"Auswahl / Select 2006\")","v":"Auswahl / Select 2006"}]
["",{"$f":"HYPERLINK(\"files\\2006.\"&Herstellerauswahl!$C$4,\"BMW 3er Limousine, 320i, E90 (LCI), 156 PS / 115 kW\")","v":"BMW 3er Limousine, 320i, E90 (LCI), 156 PS / 115 kW"},{"$f":"HYPERLINK(\"files\\2006.\"&Herstellerauswahl!$C$4,\"Auswahl / Select 2006\")","v":"Auswahl / Select 2006"}]
["0005/AWE",{"$f":"HYPERLINK(\"files\\2006.\"&Herstellerauswahl!$C$4,\"BMW 3er Limousine, 320i, E90 (LCI), 170 PS / 125 kW\")","v":"BMW 3er Limousine, 320i, E90 (LCI), 170 PS / 125 kW"},{"$f":"HYPERLINK(\"files\\2006.\"&Herstellerauswahl!$C$4,\"Auswahl / Select 2006\")","v":"Auswahl / Select 2006"}]
["0005/AWG",{"$f":"HYPERLINK(\"files\\2006.\"&Herstellerauswahl!$C$4,\"BMW 3er Limousine, 323i, E90 (LCI), 190 PS / 140 kW\")","v":"BMW 3er Limousine, 323i, E90 (LCI), 190 PS / 140 kW"},{"$f":"HYPERLINK(\"files\\2006.\"&Herstellerauswahl!$C$4,\"Auswahl / Select 2006\")","v":"Auswahl / Select 2006"}]
["0005/AWI",{"$f":"HYPERLINK(\"files\\2006.\"&Herstellerauswahl!$C$4,\"BMW 3er Limousine, 325i, E90 (LCI), 218 PS / 160 kW\")","v":"BMW 3er Limousine, 325i, E90 (LCI), 218 PS / 160 kW"},{"$f":"HYPERLINK(\"files\\2006.\"&Herstellerauswahl!$C$4,\"Auswahl / Select 2006\")","v":"Auswahl / Select 2006"}]
["",{"$f":"HYPERLINK(\"files\\2006.\"&Herstellerauswahl!$C$4,\"BMW 3er Limousine, 328i, E90 (LCI), 234 PS / 172 kW\")","v":"BMW 3er Limousine, 328i, E90 (LCI), 234 PS / 172 kW"},{"$f":"HYPERLINK(\"files\\2006.\"&Herstellerauswahl!$C$4,\"Auswahl / Select 2006\")","v":"Auswahl / Select 2006"}]
["0005/AFG",{"$f":"HYPERLINK(\"files\\2006.\"&Herstellerauswahl!$C$4,\"BMW 3er Limousine, 325d, E90 (LCI), 197 PS / 145 kW\")","v":"BMW 3er Limousine, 325d, E90 (LCI), 197 PS / 145 kW"},{"$f":"HYPERLINK(\"files\\2006.\"&Herstellerauswahl!$C$4,\"Auswahl / Select 2006\")","v":"Auswahl / Select 2006"}]
["0005/AWH",{"$f":"HYPERLINK(\"files\\2006.\"&Herstellerauswahl!$C$4,\"BMW 3er Limousine, 325d, E90 (LCI), 204 PS / 150 kW\")","v":"BMW 3er Limousine, 325d, E90 (LCI), 204 PS / 150 kW"},{"$f":"HYPERLINK(\"files\\2006.\"&Herstellerauswahl!$C$4,\"Auswahl / Select 2006\")","v":"Auswahl / Select 2006"}]
["0005/AWL",{"$f":"HYPERLINK(\"files\\2006.\"&Herstellerauswahl!$C$4,\"BMW 3er Limousine, 330d, E90 (LCI), 245 PS / 180 kW\")","v":"BMW 3er Limousine, 330d, E90 (LCI), 245 PS / 180 kW"},{"$f":"HYPERLINK(\"files\\2006.\"&Herstellerauswahl!$C$4,\"Auswahl / Select 2006\")","v":"Auswahl / Select 2006"}]
["0005/ADT/AWN",{"$f":"HYPERLINK(\"files\\2006.\"&Herstellerauswahl!$C$4,\"BMW 3er Limousine, 330i, E90 (LCI), 258 PS / 190 kW\")","v":"BMW 3er Limousine, 330i, E90 (LCI), 258 PS / 190 kW"},{"$f":"HYPERLINK(\"files\\2006.\"&Herstellerauswahl!$C$4,\"Auswahl / Select 2006\")","v":"Auswahl / Select 2006"}]
["0005/AWM",{"$f":"HYPERLINK(\"files\\2006.\"&Herstellerauswahl!$C$4,\"BMW 3er Limousine, 330i, E90 (LCI), 272 PS / 200 kW\")","v":"BMW 3er Limousine, 330i, E90 (LCI), 272 PS / 200 kW"},{"$f":"HYPERLINK(\"files\\2006.\"&Herstellerauswahl!$C$4,\"Auswahl / Select 2006\")","v":"Auswahl / Select 2006"}]
["0005/AWO",{"$f":"HYPERLINK(\"files\\2006.\"&Herstellerauswahl!$C$4,\"BMW 3er Limousine, 335d, E90 (LCI), 286 PS / 210 kW\")","v":"BMW 3er Limousine, 335d, E90 (LCI), 286 PS / 210 kW"},{"$f":"HYPERLINK(\"files\\2006.\"&Herstellerauswahl!$C$4,\"Auswahl / Select 2006\")","v":"Auswahl / Select 2006"}]
["0005/AFI",{"$f":"HYPERLINK(\"files\\2006.\"&Herstellerauswahl!$C$4,\"BMW 3er Limousine, 335i, E90 (LCI), 306 PS / 225 kW\")","v":"BMW 3er Limousine, 335i, E90 (LCI), 306 PS / 225 kW"},{"$f":"HYPERLINK(\"files\\2006.\"&Herstellerauswahl!$C$4,\"Auswahl / Select 2006\")","v":"Auswahl / Select 2006"}]
["0005/AEB",{"$f":"HYPERLINK(\"files\\2006.\"&Herstellerauswahl!$C$4,\"BMW 3er Limousine, 325i xDrive, E90 (LCI), 218 PS / 160 kW\")","v":"BMW 3er Limousine, 325i xDrive, E90 (LCI), 218 PS / 160 kW"},{"$f":"HYPERLINK(\"files\\2006.\"&Herstellerauswahl!$C$4,\"Auswahl / Select 2006\")","v":"Auswahl / Select 2006"}]
["0005/ANH",{"$f":"HYPERLINK(\"files\\2006.\"&Herstellerauswahl!$C$4,\"BMW 3er Limousine, 330d xDrive, E90 (LCI), 245 PS / 180 kW\")","v":"BMW 3er Limousine, 330d xDrive, E90 (LCI), 245 PS / 180 kW"},{"$f":"HYPERLINK(\"files\\2006.\"&Herstellerauswahl!$C$4,\"Auswahl / Select 2006\")","v":"Auswahl / Select 2006"}]
["0005/ALW",{"$f":"HYPERLINK(\"files\\2006.\"&Herstellerauswahl!$C$4,\"BMW 3er Limousine, 330i xDrive, E90 (LCI), 272 PS / 200 kW\")","v":"BMW 3er Limousine, 330i xDrive, E90 (LCI), 272 PS / 200 kW"},{"$f":"HYPERLINK(\"files\\2006.\"&Herstellerauswahl!$C$4,\"Auswahl / Select 2006\")","v":"Auswahl / Select 2006"}]

{"sheet":"E91 Touring","index":35,"n_rows":28,"n_cols":4,"rows_kept":28,"cut":false,"hidden":false,"merged":[]}
[]
[]
["TSN/HSN","Motorauswahl für E91 Touring","Home","Zurück / back"]
[]
["0005/ABX",{"$f":"HYPERLINK(\"files\\2001.\"&Herstellerauswahl!$C$4,\"BMW 3er Touring, 318i, E91, 129 PS / 95 kW\")","v":"BMW 3er Touring, 318i, E91, 129 PS / 95 kW"},{"$f":"HYPERLINK(\"files\\2001.\"&Herstellerauswahl!$C$4,\"Auswahl / Select 2001\")","v":"Auswahl / Select 2001"}]
["",{"$f":"HYPERLINK(\"files\\2001.\"&Herstellerauswahl!$C$4,\"BMW 3er Touring, 318i, E91, 136 PS / 100 kW\")","v":"BMW 3er Touring, 318i, E91, 136 PS / 100 kW"},{"$f":"HYPERLINK(\"files\\2001.\"&Herstellerauswahl!$C$4,\"Auswahl / Select 2001\")","v":"Auswahl / Select 2001"}]
["",{"$f":"HYPERLINK(\"files\\2001.\"&Herstellerauswahl!$C$4,\"BMW 3er Touring, 318i, E91, 143 PS / 105 kW\")","v":"BMW 3er Touring, 318i, E91, 143 PS / 105 kW"},{"$f":"HYPERLINK(\"files\\2001.\"&Herstellerauswahl!$C$4,\"Auswahl / Select 2001\")","v":"Auswahl / Select 2001"}]
["0005/ACA",{"$f":"HYPERLINK(\"files\\2001.\"&Herstellerauswahl!$C$4,\"BMW 3er Touring, 318d, E91, 122 PS / 90 kW\")","v":"BMW 3er Touring, 318d, E91, 122 PS / 90 kW"},{"$f":"HYPERLINK(\"files\\2001.\"&Herstellerauswahl!$C$4,\"Auswahl / Select 2001\")","v":"Auswahl / Select 2001"}]
["",{"$f":"HYPERLINK(\"files\\2001.\"&Herstellerauswahl!$C$4,\"BMW 3er Touring, 318d, E91, 143 PS / 105 kW\")","v":"BMW 3er Touring, 318d, E91, 143 PS / 105 kW"},{"$f":"HYPERLINK(\"files\\2001.\"&Herstellerauswahl!$C$4,\"Auswahl / Select 2001\")","v":"Auswahl / Select 2001"}]
["0005/850/ADP",{"$f":"HYPERLINK(\"files\\2001.\"&Herstellerauswahl!$C$4,\"BMW 3er Touring, 320d, E91, 163 PS / 120 kW\")","v":"BMW 3er Touring, 320d, E91, 163 PS / 120 kW"},{"$f":"HYPERLINK(\"files\\2001.\"&Herstellerauswahl!$C$4,\"Auswahl / Select 2001\")","v":"Auswahl / Select 2001"}]
["0005/ALS",{"$f":"HYPERLINK(\"files\\2001.\"&Herstellerauswahl!$C$4,\"BMW 3er Touring, 320d, E91, 177 PS / 130 kW\")","v":"BMW 3er Touring, 320d, E91, 177 PS / 130 kW"},{"$f":"HYPERLINK(\"files\\2001.\"&Herstellerauswahl!$C$4,\"Auswahl / Select 2001\")","v":"Auswahl / Select 2001"}]
["0005/877/ADX",{"$f":"HYPERLINK(\"files\\2001.\"&Herstellerauswahl!$C$4,\"BMW 3er Touring, 320i, E91, 150 PS / 110 kW\")","v":"BMW 3er Touring, 320i, E91, 150 PS / 110 kW"},{"$f":"HYPERLINK(\"files\\2001.\"&Herstellerauswahl!$C$4,\"Auswahl / Select 2001\")","v":"Auswahl / Select 2001"}]
["0005/AMG",{"$f":"HYPERLINK(\"files\\2001.\"&Herstellerauswahl!$C$4,\"BMW 3er Touring, 320i, E91, 156 PS / 115 kW\")","v":"BMW 3er Touring, 320i, E91, 156 PS / 115 kW"},{"$f":"HYPERLINK(\"files\\2001.\"&Herstellerauswahl!$C$4,\"Auswahl / Select 2001\")","v":"Auswahl / Select 2001"}]
["0005/ALM",{"$f":"HYPERLINK(\"files\\2001.\"&Herstellerauswahl!$C$4,\"BMW 3er Touring, 320i, E91, 170 PS / 125 kW\")","v":"BMW 3er Touring, 320i, E91, 170 PS / 125 kW"},{"$f":"HYPERLINK(\"files\\2001.\"&Herstellerauswahl!$C$4,\"Auswahl / Select 2001\")","v":"Auswahl / Select 2001"}]
["",{"$f":"HYPERLINK(\"files\\2001.\"&Herstellerauswahl!$C$4,\"BMW 3er Touring, 323i, E91, 177 PS / 130 kW\")","v":"BMW 3er Touring, 323i, E91, 177 PS / 130 kW"},{"$f":"HYPERLINK(\"files\\2001.\"&Herstellerauswahl!$C$4,\"Auswahl / Select 2001\")","v":"Auswahl / Select 2001"}]
["0005/849/ADO",{"$f":"HYPERLINK(\"files\\2001.\"&Herstellerauswahl!$C$4,\"BMW 3er Touring, 325i, E91, 218 PS / 160 kW\")","v":"BMW 3er Touring, 325i, E91, 218 PS / 160 kW"},{"$f":"HYPERLINK(\"files\\2001.\"&Herstellerauswahl!$C$4,\"Auswahl / Select 2001\")","v":"Auswahl / Select 2001"}]
["",{"$f":"HYPERLINK(\"files\\2001.\"&Herstellerauswahl!$C$4,\"BMW 3er Touring, 325d, E91, 197 PS / 145 kW\")","v":"BMW 3er Touring, 325d, E91, 197 PS / 145 kW"},{"$f":"HYPERLINK(\"files\\2001.\"&Herstellerauswahl!$C$4,\"Auswahl / Select 2001\")","v":"Auswahl / Select 2001"}]
["0005/AFJ",{"$f":"HYPERLINK(\"files\\2001.\"&Herstellerauswahl!$C$4,\"BMW 3er Touring, 330d, E91, 197 PS / 145 kW\")","v":"BMW 3er Touring, 330d, E91, 197 PS / 145 kW"},{"$f":"HYPERLINK(\"files\\2001.\"&Herstellerauswahl!$C$4,\"Auswahl / Select 2001\")","v":"Auswahl / Select 2001"}]
["0005/878/ADM",{"$f":"HYPERLINK(\"files\\2001.\"&Herstellerauswahl!$C$4,\"BMW 3er Touring, 330d, E91, 231 PS / 170 kW\")","v":"BMW 3er Touring, 330d, E91, 231 PS / 170 kW"},{"$f":"HYPERLINK(\"files\\2001.\"&Herstellerauswahl!$C$4,\"Auswahl / Select 2001\")","v":"Auswahl / Select 2001"}]
["0005/876/ADJ",{"$f":"HYPERLINK(\"files\\2001.\"&Herstellerauswahl!$C$4,\"BMW 3er Touring, 330i, E91, 258 PS / 190 kW\")","v":"BMW 3er Touring, 330i, E91, 258 PS / 190 kW"},{"$f":"HYPERLINK(\"files\\2001.\"&Herstellerauswahl!$C$4,\"Auswahl / Select 2001\")","v":"Auswahl / Select 2001"}]
["0005/AJX",{"$f":"HYPERLINK(\"files\\2001.\"&Herstellerauswahl!$C$4,\"BMW 3er Touring, 330i, E91, 272 PS / 200 kW\")","v":"BMW 3er Touring, 330i, E91, 272 PS / 200 kW"},{"$f":"HYPERLINK(\"files\\2001.\"&Herstellerauswahl!$C$4,\"Auswahl / Select 2001\")","v":"Auswahl / Select 2001"}]
["0005/AFK",{"$f":"HYPERLINK(\"files\\2001.\"&Herstellerauswahl!$C$4,\"BMW 3er Touring, 335d, E91, 286 PS / 210 kW\")","v":"BMW 3er Touring, 335d, E91, 286 PS / 210 kW"},{"$f":"HYPERLINK(\"files\\2001.\"&Herstellerauswahl!$C$4,\"Auswahl / Select 2001\")","v":"Auswahl / Select 2001"}]
["0005/AFL",{"$f":"HYPERLINK(\"files\\2001.\"&Herstellerauswahl!$C$4,\"BMW 3er Touring, 335i, E91, 306 PS / 225 kW\")","v":"BMW 3er Touring, 335i, E91, 306 PS / 225 kW"},{"$f":"HYPERLINK(\"files\\2001.\"&Herstellerauswahl!$C$4,\"Auswahl / Select 2001\")","v":"Auswahl / Select 2001"}]
["0005/884/AEE",{"$f":"HYPERLINK(\"files\\2001.\"&Herstellerauswahl!$C$4,\"BMW 3er Touring, 325i xDrive, E91, 218 PS / 160 kW\")","v":"BMW 3er Touring, 325i xDrive, E91, 218 PS / 160 kW"},{"$f":"HYPERLINK(\"files\\2001.\"&Herstellerauswahl!$C$4,\"Auswahl / Select 2001\")","v":"Auswahl / Select 2001"}]
["0005/885/AED",{"$f":"HYPERLINK(\"files\\2001.\"&Herstellerauswahl!$C$4,\"BMW 3er Touring, 330d xDrive, E91, 231 PS / 170 kW\")","v":"BMW 3er Touring, 330d xDrive, E91, 231 PS / 170 kW"},{"$f":"HYPERLINK(\"files\\2001.\"&Herstellerauswahl!$C$4,\"Auswahl / Select 2001\")","v":"Auswahl / Select 2001"}]
["0005/883/AEA",{"$f":"HYPERLINK(\"files\\2001.\"&Herstellerauswahl!$C$4,\"BMW 3er Touring, 330i xDrive, E91, 258 PS / 190 kW\")","v":"BMW 3er Touring, 330i xDrive, E91, 258 PS / 190 kW"},{"$f":"HYPERLINK(\"files\\2001.\"&Herstellerauswahl!$C$4,\"Auswahl / Select 2001\")","v":"Auswahl / Select 2001"}]
["0005/ALY",{"$f":"HYPERLINK(\"files\\2001.\"&Herstellerauswahl!$C$4,\"BMW 3er Touring, 330i xDrive, E91, 272 PS / 200 kW\")","v":"BMW 3er Touring, 330i xDrive, E91, 272 PS / 200 kW"},{"$f":"HYPERLINK(\"files\\2001.\"&Herstellerauswahl!$C$4,\"Auswahl / Select 2001\")","v":"Auswahl / Select 2001"}]
["",{"$f":"HYPERLINK(\"files\\2001.\"&Herstellerauswahl!$C$4,\"BMW 3er Touring, 335i xDrive, E91, 306 PS / 225 kW\")","v":"BMW 3er Touring, 335i xDrive, E91, 306 PS / 225 kW"},{"$f":"HYPERLINK(\"files\\2001.\"&Herstellerauswahl!$C$4,\"Auswahl / Select 2001\")","v":"Auswahl / Select 2001"}]

{"sheet":"E91 Facelift Touring","index":36,"n_rows":28,"n_cols":4,"rows_kept":28,"cut":false,"hidden":false,"merged":[]}
[]
[]
["TSN/HSN","Motorauswahl für E91 Facelift Touring","Home","Zurück / back"]
[]
["0005/AWY",{"$f":"HYPERLINK(\"files\\2006.\"&Herstellerauswahl!$C$4,\"BMW 3er Touring, 316d, E91 (LCI), 116 PS / 85 kW\")","v":"BMW 3er Touring, 316d, E91 (LCI), 116 PS / 85 kW"},{"$f":"HYPERLINK(\"files\\2006.\"&Herstellerauswahl!$C$4,\"Auswahl / Select 2006\")","v":"Auswahl / Select 2006"}]
["0005/ANK/AWZ",{"$f":"HYPERLINK(\"files\\2006.\"&Herstellerauswahl!$C$4,\"BMW 3er Touring, 316i, E91 (LCI), 122 PS / 90 kW\")","v":"BMW 3er Touring, 316i, E91 (LCI), 122 PS / 90 kW"},{"$f":"HYPERLINK(\"files\\2006.\"&Herstellerauswahl!$C$4,\"Auswahl / Select 2006\")","v":"Auswahl / Select 2006"}]
["",{"$f":"HYPERLINK(\"files\\2006.\"&Herstellerauswahl!$C$4,\"BMW 3er Touring, 318i, E91 (LCI), 136 PS / 100 kW\")","v":"BMW 3er Touring, 318i, E91 (LCI), 136 PS / 100 kW"},{"$f":"HYPERLINK(\"files\\2006.\"&Herstellerauswahl!$C$4,\"Auswahl / Select 2006\")","v":"Auswahl / Select 2006"}]
["",{"$f":"HYPERLINK(\"files\\2006.\"&Herstellerauswahl!$C$4,\"BMW 3er Touring, 318i, E91 (LCI), 143 PS / 105 kW\")","v":"BMW 3er Touring, 318i, E91 (LCI), 143 PS / 105 kW"},{"$f":"HYPERLINK(\"files\\2006.\"&Herstellerauswahl!$C$4,\"Auswahl / Select 2006\")","v":"Auswahl / Select 2006"}]
["0005/ALQ/AXB/BDX",{"$f":"HYPERLINK(\"files\\2006.\"&Herstellerauswahl!$C$4,\"BMW 3er Touring, 318d, E91 (LCI), 143 PS / 105 kW\")","v":"BMW 3er Touring, 318d, E91 (LCI), 143 PS / 105 kW"},{"$f":"HYPERLINK(\"files\\2006.\"&Herstellerauswahl!$C$4,\"Auswahl / Select 2006\")","v":"Auswahl / Select 2006"}]
["0005/ALS",{"$f":"HYPERLINK(\"files\\2006.\"&Herstellerauswahl!$C$4,\"BMW 3er Touring, 320d, E91 (LCI), 177 PS / 130 kW\")","v":"BMW 3er Touring, 320d, E91 (LCI), 177 PS / 130 kW"},{"$f":"HYPERLINK(\"files\\2006.\"&Herstellerauswahl!$C$4,\"Auswahl / Select 2006\")","v":"Auswahl / Select 2006"}]
["",{"$f":"HYPERLINK(\"files\\2006.\"&Herstellerauswahl!$C$4,\"BMW 3er Touring, 320d, E91 (LCI), 143 PS / 105 kW\")","v":"BMW 3er Touring, 320d, E91 (LCI), 143 PS / 105 kW"},{"$f":"HYPERLINK(\"files\\2006.\"&Herstellerauswahl!$C$4,\"Auswahl / Select 2006\")","v":"Auswahl / Select 2006"}]
["",{"$f":"HYPERLINK(\"files\\2006.\"&Herstellerauswahl!$C$4,\"BMW 3er Touring, 320d Efficient Dynamics, E91 (LCI), 163 PS / 120 kW\")","v":"BMW 3er Touring, 320d Efficient Dynamics, E91 (LCI), 163 PS / 120 kW"},{"$f":"HYPERLINK(\"files\\2006.\"&Herstellerauswahl!$C$4,\"Auswahl / Select 2006\")","v":"Auswahl / Select 2006"}]
["0005/AXF/BDW",{"$f":"HYPERLINK(\"files\\2006.\"&Herstellerauswahl!$C$4,\"BMW 3er Touring, 320d, E91 (LCI), 184 PS / 135 kW\")","v":"BMW 3er Touring, 320d, E91 (LCI), 184 PS / 135 kW"},{"$f":"HYPERLINK(\"files\\2006.\"&Herstellerauswahl!$C$4,\"Auswahl / Select 2006\")","v":"Auswahl / Select 2006"}]
["0005/AMG/AXG",{"$f":"HYPERLINK(\"files\\2006.\"&Herstellerauswahl!$C$4,\"BMW 3er Touring, 320i, E91 (LCI), 156 PS / 115 kW\")","v":"BMW 3er Touring, 320i, E91 (LCI), 156 PS / 115 kW"},{"$f":"HYPERLINK(\"files\\2006.\"&Herstellerauswahl!$C$4,\"Auswahl / Select 2006\")","v":"Auswahl / Select 2006"}]
["0005/ALM/AXI",{"$f":"HYPERLINK(\"files\\2006.\"&Herstellerauswahl!$C$4,\"BMW 3er Touring, 320i, E91 (LCI), 170 PS / 125 kW\")","v":"BMW 3er Touring, 320i, E91 (LCI), 170 PS / 125 kW"},{"$f":"HYPERLINK(\"files\\2006.\"&Herstellerauswahl!$C$4,\"Auswahl / Select 2006\")","v":"Auswahl / Select 2006"}]
["",{"$f":"HYPERLINK(\"files\\2006.\"&Herstellerauswahl!$C$4,\"BMW 3er Touring, 323i, E91 (LCI), 190 PS / 140 kW\")","v":"BMW 3er Touring, 323i, E91 (LCI), 190 PS / 140 kW"},{"$f":"HYPERLINK(\"files\\2006.\"&Herstellerauswahl!$C$4,\"Auswahl / Select 2006\")","v":"Auswahl / Select 2006"}]
["",{"$f":"HYPERLINK(\"files\\2006.\"&Herstellerauswahl!$C$4,\"BMW 3er Touring, 325i, E91 (LCI), 204 PS / 150 kW\")","v":"BMW 3er Touring, 325i, E91 (LCI), 204 PS / 150 kW"},{"$f":"HYPERLINK(\"files\\2006.\"&Herstellerauswahl!$C$4,\"Auswahl / Select 2006\")","v":"Auswahl / Select 2006"}]
["0005/ALO/AXM",{"$f":"HYPERLINK(\"files\\2006.\"&Herstellerauswahl!$C$4,\"BMW 3er Touring, 325i, E91 (LCI), 218 PS / 160 kW\")","v":"BMW 3er Touring, 325i, E91 (LCI), 218 PS / 160 kW"},{"$f":"HYPERLINK(\"files\\2006.\"&Herstellerauswahl!$C$4,\"Auswahl / Select 2006\")","v":"Auswahl / Select 2006"}]
["0005/AFJ",{"$f":"HYPERLINK(\"files\\2006.\"&Herstellerauswahl!$C$4,\"BMW 3er Touring, 325d, E91 (LCI), 197 PS / 145 kW\")","v":"BMW 3er Touring, 325d, E91 (LCI), 197 PS / 145 kW"},{"$f":"HYPERLINK(\"files\\2006.\"&Herstellerauswahl!$C$4,\"Auswahl / Select 2006\")","v":"Auswahl / Select 2006"}]
["0005/AXK/BDS",{"$f":"HYPERLINK(\"files\\2006.\"&Herstellerauswahl!$C$4,\"BMW 3er Touring, 325d, E91 (LCI), 204 PS / 150 kW\")","v":"BMW 3er Touring, 325d, E91 (LCI), 204 PS / 150 kW"},{"$f":"HYPERLINK(\"files\\2006.\"&Herstellerauswahl!$C$4,\"Auswahl / Select 2006\")","v":"Auswahl / Select 2006"}]
["0005/ANM/AXO/BDY",{"$f":"HYPERLINK(\"files\\2006.\"&Herstellerauswahl!$C$4,\"BMW 3er Touring, 330d, E91 (LCI), 245 PS / 180 kW\")","v":"BMW 3er Touring, 330d, E91 (LCI), 245 PS / 180 kW"},{"$f":"HYPERLINK(\"files\\2006.\"&Herstellerauswahl!$C$4,\"Auswahl / Select 2006\")","v":"Auswahl / Select 2006"}]
["",{"$f":"HYPERLINK(\"files\\2006.\"&Herstellerauswahl!$C$4,\"BMW 3er Touring, 330i, E91 (LCI), 245 PS / 180 kW\")","v":"BMW 3er Touring, 330i, E91 (LCI), 245 PS / 180 kW"},{"$f":"HYPERLINK(\"files\\2006.\"&Herstellerauswahl!$C$4,\"Auswahl / Select 2006\")","v":"Auswahl / Select 2006"}]
["0005/AJX/AXQ",{"$f":"HYPERLINK(\"files\\2006.\"&Herstellerauswahl!$C$4,\"BMW 3er Touring, 330i, E91 (LCI), 272 PS / 200 kW\")","v":"BMW 3er Touring, 330i, E91 (LCI), 272 PS / 200 kW"},{"$f":"HYPERLINK(\"files\\2006.\"&Herstellerauswahl!$C$4,\"Auswahl / Select 2006\")","v":"Auswahl / Select 2006"}]
["0005/AFK/AXR/BEA",{"$f":"HYPERLINK(\"files\\2006.\"&Herstellerauswahl!$C$4,\"BMW 3er Touring, 335d, E91 (LCI), 286 PS / 210 kW\")","v":"BMW 3er Touring, 335d, E91 (LCI), 286 PS / 210 kW"},{"$f":"HYPERLINK(\"files\\2006.\"&Herstellerauswahl!$C$4,\"Auswahl / Select 2006\")","v":"Auswahl / Select 2006"}]
["0005/AFL/AXS",{"$f":"HYPERLINK(\"files\\2006.\"&Herstellerauswahl!$C$4,\"BMW 3er Touring, 335i, E91 (LCI), 306 PS / 225 kW\")","v":"BMW 3er Touring, 335i, E91 (LCI), 306 PS / 225 kW"},{"$f":"HYPERLINK(\"files\\2006.\"&Herstellerauswahl!$C$4,\"Auswahl / Select 2006\")","v":"Auswahl / Select 2006"}]
["0005/AXV/AXW",{"$f":"HYPERLINK(\"files\\2006.\"&Herstellerauswahl!$C$4,\"BMW 3er Touring, 325i xDrive, E91 (LCI), 218 PS / 160 kW\")","v":"BMW 3er Touring, 325i xDrive, E91 (LCI), 218 PS / 160 kW"},{"$f":"HYPERLINK(\"files\\2006.\"&Herstellerauswahl!$C$4,\"Auswahl / Select 2006\")","v":"Auswahl / Select 2006"}]
["0005/AXX/BDR",{"$f":"HYPERLINK(\"files\\2006.\"&Herstellerauswahl!$C$4,\"BMW 3er Touring, 330d xDrive, E91 (LCI), 245 PS / 180 kW\")","v":"BMW 3er Touring, 330d xDrive, E91 (LCI), 245 PS / 180 kW"},{"$f":"HYPERLINK(\"files\\2006.\"&Herstellerauswahl!$C$4,\"Auswahl / Select 2006\")","v":"Auswahl / Select 2006"}]
["0005/AXY",{"$f":"HYPERLINK(\"files\\2006.\"&Herstellerauswahl!$C$4,\"BMW 3er Touring, 330i xDrive, E91 (LCI), 272 PS / 200 kW\")","v":"BMW 3er Touring, 330i xDrive, E91 (LCI), 272 PS / 200 kW"},{"$f":"HYPERLINK(\"files\\2006.\"&Herstellerauswahl!$C$4,\"Auswahl / Select 2006\")","v":"Auswahl / Select 2006"}]

{"sheet":"E92 Coupe","index":37,"n_rows":22,"n_cols":4,"rows_kept":22,"cut":false,"hidden":false,"merged":[]}
[]
[]
["TSN/HSN","Motorauswahl für E92 Coupe","Home","Zurück / back"]
[]
["0005/AKW",{"$f":"HYPERLINK(\"files\\2005.\"&Herstellerauswahl!$C$4,\"BMW 3er Coupe, 316i, E92, 122 PS / 90 kW\")","v":"BMW 3er Coupe, 316i, E92, 122 PS / 90 kW"},{"$f":"HYPERLINK(\"files\\2005.\"&Herstellerauswahl!$C$4,\"Auswahl / Select 2005\")","v":"Auswahl / Select 2005"}]
["0005/AJP",{"$f":"HYPERLINK(\"files\\2005.\"&Herstellerauswahl!$C$4,\"BMW 3er Coupe, 320d, E92, 177 PS / 130 kW\")","v":"BMW 3er Coupe, 320d, E92, 177 PS / 130 kW"},{"$f":"HYPERLINK(\"files\\2005.\"&Herstellerauswahl!$C$4,\"Auswahl / Select 2005\")","v":"Auswahl / Select 2005"}]
["0005/AJS",{"$f":"HYPERLINK(\"files\\2005.\"&Herstellerauswahl!$C$4,\"BMW 3er Coupe, 320i, E92, 156 PS / 115 kW\")","v":"BMW 3er Coupe, 320i, E92, 156 PS / 115 kW"},{"$f":"HYPERLINK(\"files\\2005.\"&Herstellerauswahl!$C$4,\"Auswahl / Select 2005\")","v":"Auswahl / Select 2005"}]
["0005/AHQ",{"$f":"HYPERLINK(\"files\\2005.\"&Herstellerauswahl!$C$4,\"BMW 3er Coupe, 320i, E92, 170 PS / 125 kW\")","v":"BMW 3er Coupe, 320i, E92, 170 PS / 125 kW"},{"$f":"HYPERLINK(\"files\\2005.\"&Herstellerauswahl!$C$4,\"Auswahl / Select 2005\")","v":"Auswahl / Select 2005"}]
["",{"$f":"HYPERLINK(\"files\\2005.\"&Herstellerauswahl!$C$4,\"BMW 3er Coupe, 323i, E92, 190 PS / 140 kW\")","v":"BMW 3er Coupe, 323i, E92, 190 PS / 140 kW"},{"$f":"HYPERLINK(\"files\\2005.\"&Herstellerauswahl!$C$4,\"Auswahl / Select 2005\")","v":"Auswahl / Select 2005"}]
["0005/895/AFM",{"$f":"HYPERLINK(\"files\\2005.\"&Herstellerauswahl!$C$4,\"BMW 3er Coupe, 325i, E92, 218 PS / 160 kW\")","v":"BMW 3er Coupe, 325i, E92, 218 PS / 160 kW"},{"$f":"HYPERLINK(\"files\\2005.\"&Herstellerauswahl!$C$4,\"Auswahl / Select 2005\")","v":"Auswahl / Select 2005"}]
["",{"$f":"HYPERLINK(\"files\\2005.\"&Herstellerauswahl!$C$4,\"BMW 3er Coupe, 325d, E92, 197 PS / 145 kW\")","v":"BMW 3er Coupe, 325d, E92, 197 PS / 145 kW"},{"$f":"HYPERLINK(\"files\\2005.\"&Herstellerauswahl!$C$4,\"Auswahl / Select 2005\")","v":"Auswahl / Select 2005"}]
["0005/AFN",{"$f":"HYPERLINK(\"files\\2005.\"&Herstellerauswahl!$C$4,\"BMW 3er Coupe, 330d, E92, 231 PS / 170 kW\")","v":"BMW 3er Coupe, 330d, E92, 231 PS / 170 kW"},{"$f":"HYPERLINK(\"files\\2005.\"&Herstellerauswahl!$C$4,\"Auswahl / Select 2005\")","v":"Auswahl / Select 2005"}]
["0005/ANN",{"$f":"HYPERLINK(\"files\\2005.\"&Herstellerauswahl!$C$4,\"BMW 3er Coupe, 330d, E92, 245 PS / 180 kW\")","v":"BMW 3er Coupe, 330d, E92, 245 PS / 180 kW"},{"$f":"HYPERLINK(\"files\\2005.\"&Herstellerauswahl!$C$4,\"Auswahl / Select 2005\")","v":"Auswahl / Select 2005"}]
["0005/AFO",{"$f":"HYPERLINK(\"files\\2005.\"&Herstellerauswahl!$C$4,\"BMW 3er Coupe, 330i, E92, 272 PS / 200 kW\")","v":"BMW 3er Coupe, 330i, E92, 272 PS / 200 kW"},{"$f":"HYPERLINK(\"files\\2005.\"&Herstellerauswahl!$C$4,\"Auswahl / Select 2005\")","v":"Auswahl / Select 2005"}]
["0005/AFP",{"$f":"HYPERLINK(\"files\\2005.\"&Herstellerauswahl!$C$4,\"BMW 3er Coupe, 335d, E92, 286 PS / 210 kW\")","v":"BMW 3er Coupe, 335d, E92, 286 PS / 210 kW"},{"$f":"HYPERLINK(\"files\\2005.\"&Herstellerauswahl!$C$4,\"Auswahl / Select 2005\")","v":"Auswahl / Select 2005"}]
["0005/AFF",{"$f":"HYPERLINK(\"files\\2005.\"&Herstellerauswahl!$C$4,\"BMW 3er Coupe, 335i, E92, 306 PS / 225 kW\")","v":"BMW 3er Coupe, 335i, E92, 306 PS / 225 kW"},{"$f":"HYPERLINK(\"files\\2005.\"&Herstellerauswahl!$C$4,\"Auswahl / Select 2005\")","v":"Auswahl / Select 2005"}]
["",{"$f":"HYPERLINK(\"files\\2005.\"&Herstellerauswahl!$C$4,\"BMW 3er Coupe, 320d xDrive, E92, 177 PS / 130 kW\")","v":"BMW 3er Coupe, 320d xDrive, E92, 177 PS / 130 kW"},{"$f":"HYPERLINK(\"files\\2005.\"&Herstellerauswahl!$C$4,\"Auswahl / Select 2005\")","v":"Auswahl / Select 2005"}]
["0005/AFQ",{"$f":"HYPERLINK(\"files\\2005.\"&Herstellerauswahl!$C$4,\"BMW 3er Coupe, 325i xDrive, E92, 218 PS / 160 kW\")","v":"BMW 3er Coupe, 325i xDrive, E92, 218 PS / 160 kW"},{"$f":"HYPERLINK(\"files\\2005.\"&Herstellerauswahl!$C$4,\"Auswahl / Select 2005\")","v":"Auswahl / Select 2005"}]
["0005/AFR",{"$f":"HYPERLINK(\"files\\2005.\"&Herstellerauswahl!$C$4,\"BMW 3er Coupe, 330d xDrive, E92, 245 PS / 180 kW\")","v":"BMW 3er Coupe, 330d xDrive, E92, 245 PS / 180 kW"},{"$f":"HYPERLINK(\"files\\2005.\"&Herstellerauswahl!$C$4,\"Auswahl / Select 2005\")","v":"Auswahl / Select 2005"}]
["0005/AFS",{"$f":"HYPERLINK(\"files\\2005.\"&Herstellerauswahl!$C$4,\"BMW 3er Coupe, 330i xDrive, E92, 272 PS / 200 kW\")","v":"BMW 3er Coupe, 330i xDrive, E92, 272 PS / 200 kW"},{"$f":"HYPERLINK(\"files\\2005.\"&Herstellerauswahl!$C$4,\"Auswahl / Select 2005\")","v":"Auswahl / Select 2005"}]
["0005/ALU",{"$f":"HYPERLINK(\"files\\2005.\"&Herstellerauswahl!$C$4,\"BMW 3er Coupe, 335i xDrive, E92, 306 PS / 225 kW\")","v":"BMW 3er Coupe, 335i xDrive, E92, 306 PS / 225 kW"},{"$f":"HYPERLINK(\"files\\2005.\"&Herstellerauswahl!$C$4,\"Auswahl / Select 2005\")","v":"Auswahl / Select 2005"}]
["0005/AOV",{"$f":"HYPERLINK(\"files\\2005.\"&Herstellerauswahl!$C$4,\"BMW 3er Coupe, 335i xDrive, E92, 326 PS / 240 kW\")","v":"BMW 3er Coupe, 335i xDrive, E92, 326 PS / 240 kW"},{"$f":"HYPERLINK(\"files\\2005.\"&Herstellerauswahl!$C$4,\"Auswahl / Select 2005\")","v":"Auswahl / Select 2005"}]

{"sheet":"E92 Facelift Coupe","index":38,"n_rows":23,"n_cols":4,"rows_kept":23,"cut":false,"hidden":false,"merged":[]}
[]
[]
["TSN/HSN","Motorauswahl für E92 Facelift Coupe","Home","Zurück / back"]
[]
["0005/AUW",{"$f":"HYPERLINK(\"files\\2008.\"&Herstellerauswahl!$C$4,\"BMW 3er Coupe, 316i, E92 (LCI), 122 PS / 90 kW\")","v":"BMW 3er Coupe, 316i, E92 (LCI), 122 PS / 90 kW"},{"$f":"HYPERLINK(\"files\\2008.\"&Herstellerauswahl!$C$4,\"Auswahl / Select 2008\")","v":"Auswahl / Select 2008"}]
["0005/AUX",{"$f":"HYPERLINK(\"files\\2008.\"&Herstellerauswahl!$C$4,\"BMW 3er Coupe, 318i, E92 (LCI), 143 PS / 105 kW\")","v":"BMW 3er Coupe, 318i, E92 (LCI), 143 PS / 105 kW"},{"$f":"HYPERLINK(\"files\\2008.\"&Herstellerauswahl!$C$4,\"Auswahl / Select 2008\")","v":"Auswahl / Select 2008"}]
["0005/AUZ",{"$f":"HYPERLINK(\"files\\2008.\"&Herstellerauswahl!$C$4,\"BMW 3er Coupe, 320d, E92 (LCI), 184 PS / 135 kW\")","v":"BMW 3er Coupe, 320d, E92 (LCI), 184 PS / 135 kW"},{"$f":"HYPERLINK(\"files\\2008.\"&Herstellerauswahl!$C$4,\"Auswahl / Select 2008\")","v":"Auswahl / Select 2008"}]
["0005/AVA",{"$f":"HYPERLINK(\"files\\2008.\"&Herstellerauswahl!$C$4,\"BMW 3er Coupe, 320i, E92 (LCI), 156 PS / 115 kW\")","v":"BMW 3er Coupe, 320i, E92 (LCI), 156 PS / 115 kW"},{"$f":"HYPERLINK(\"files\\2008.\"&Herstellerauswahl!$C$4,\"Auswahl / Select 2008\")","v":"Auswahl / Select 2008"}]
["0005/AVC",{"$f":"HYPERLINK(\"files\\2008.\"&Herstellerauswahl!$C$4,\"BMW 3er Coupe, 320i, E92 (LCI), 170 PS / 125 kW\")","v":"BMW 3er Coupe, 320i, E92 (LCI), 170 PS / 125 kW"},{"$f":"HYPERLINK(\"files\\2008.\"&Herstellerauswahl!$C$4,\"Auswahl / Select 2008\")","v":"Auswahl / Select 2008"}]
["0005/AVD",{"$f":"HYPERLINK(\"files\\2008.\"&Herstellerauswahl!$C$4,\"BMW 3er Coupe, 323i, E92 (LCI), 190 PS / 140 kW\")","v":"BMW 3er Coupe, 323i, E92 (LCI), 190 PS / 140 kW"},{"$f":"HYPERLINK(\"files\\2008.\"&Herstellerauswahl!$C$4,\"Auswahl / Select 2008\")","v":"Auswahl / Select 2008"}]
["0005/AVG",{"$f":"HYPERLINK(\"files\\2008.\"&Herstellerauswahl!$C$4,\"BMW 3er Coupe, 325i, E92 (LCI), 204 PS / 150 kW\")","v":"BMW 3er Coupe, 325i, E92 (LCI), 204 PS / 150 kW"},{"$f":"HYPERLINK(\"files\\2008.\"&Herstellerauswahl!$C$4,\"Auswahl / Select 2008\")","v":"Auswahl / Select 2008"}]
["0005/AVE",{"$f":"HYPERLINK(\"files\\2008.\"&Herstellerauswahl!$C$4,\"BMW 3er Coupe, 325d, E92 (LCI), 204 PS / 150 kW\")","v":"BMW 3er Coupe, 325d, E92 (LCI), 204 PS / 150 kW"},{"$f":"HYPERLINK(\"files\\2008.\"&Herstellerauswahl!$C$4,\"Auswahl / Select 2008\")","v":"Auswahl / Select 2008"}]
["0005/AVH",{"$f":"HYPERLINK(\"files\\2008.\"&Herstellerauswahl!$C$4,\"BMW 3er Coupe, 325i, E92 (LCI), 218 PS / 160 kW\")","v":"BMW 3er Coupe, 325i, E92 (LCI), 218 PS / 160 kW"},{"$f":"HYPERLINK(\"files\\2008.\"&Herstellerauswahl!$C$4,\"Auswahl / Select 2008\")","v":"Auswahl / Select 2008"}]
["0005/AVI",{"$f":"HYPERLINK(\"files\\2008.\"&Herstellerauswahl!$C$4,\"BMW 3er Coupe, 330d, E92 (LCI), 245 PS / 180 kW\")","v":"BMW 3er Coupe, 330d, E92 (LCI), 245 PS / 180 kW"},{"$f":"HYPERLINK(\"files\\2008.\"&Herstellerauswahl!$C$4,\"Auswahl / Select 2008\")","v":"Auswahl / Select 2008"}]
["0005/AVJ",{"$f":"HYPERLINK(\"files\\2008.\"&Herstellerauswahl!$C$4,\"BMW 3er Coupe, 330i, E92 (LCI), 258 PS / 190 kW\")","v":"BMW 3er Coupe, 330i, E92 (LCI), 258 PS / 190 kW"},{"$f":"HYPERLINK(\"files\\2008.\"&Herstellerauswahl!$C$4,\"Auswahl / Select 2008\")","v":"Auswahl / Select 2008"}]
["0005/AVK",{"$f":"HYPERLINK(\"files\\2008.\"&Herstellerauswahl!$C$4,\"BMW 3er Coupe, 330i, E92 (LCI), 272 PS / 200 kW\")","v":"BMW 3er Coupe, 330i, E92 (LCI), 272 PS / 200 kW"},{"$f":"HYPERLINK(\"files\\2008.\"&Herstellerauswahl!$C$4,\"Auswahl / Select 2008\")","v":"Auswahl / Select 2008"}]
["0005/AVL",{"$f":"HYPERLINK(\"files\\2008.\"&Herstellerauswahl!$C$4,\"BMW 3er Coupe, 335d, E92 (LCI), 286 PS / 210 kW\")","v":"BMW 3er Coupe, 335d, E92 (LCI), 286 PS / 210 kW"},{"$f":"HYPERLINK(\"files\\2008.\"&Herstellerauswahl!$C$4,\"Auswahl / Select 2008\")","v":"Auswahl / Select 2008"}]
["0005/AVM",{"$f":"HYPERLINK(\"files\\2008.\"&Herstellerauswahl!$C$4,\"BMW 3er Coupe, 335i, E92 (LCI), 306 PS / 225 kW\")","v":"BMW 3er Coupe, 335i, E92 (LCI), 306 PS / 225 kW"},{"$f":"HYPERLINK(\"files\\2008.\"&Herstellerauswahl!$C$4,\"Auswahl / Select 2008\")","v":"Auswahl / Select 2008"}]
["",{"$f":"HYPERLINK(\"files\\2008.\"&Herstellerauswahl!$C$4,\"BMW 3er Coupe, 320d xDrive, E92 (LCI), 184 PS / 135 kW\")","v":"BMW 3er Coupe, 320d xDrive, E92 (LCI), 184 PS / 135 kW"},{"$f":"HYPERLINK(\"files\\2008.\"&Herstellerauswahl!$C$4,\"Auswahl / Select 2008\")","v":"Auswahl / Select 2008"}]
["0005/AFQ/ALT",{"$f":"HYPERLINK(\"files\\2008.\"&Herstellerauswahl!$C$4,\"BMW 3er Coupe, 325i xDrive, E92 (LCI), 218 PS / 160 kW\")","v":"BMW 3er Coupe, 325i xDrive, E92 (LCI), 218 PS / 160 kW"},{"$f":"HYPERLINK(\"files\\2008.\"&Herstellerauswahl!$C$4,\"Auswahl / Select 2008\")","v":"Auswahl / Select 2008"}]
["0005/ANJ",{"$f":"HYPERLINK(\"files\\2008.\"&Herstellerauswahl!$C$4,\"BMW 3er Coupe, 330d xDrive, E92 (LCI), 245 PS / 180 kW\")","v":"BMW 3er Coupe, 330d xDrive, E92 (LCI), 245 PS / 180 kW"},{"$f":"HYPERLINK(\"files\\2008.\"&Herstellerauswahl!$C$4,\"Auswahl / Select 2008\")","v":"Auswahl / Select 2008"}]
["0005/AFS",{"$f":"HYPERLINK(\"files\\2008.\"&Herstellerauswahl!$C$4,\"BMW 3er Coupe, 330i xDrive, E92 (LCI), 272 PS / 200 kW\")","v":"BMW 3er Coupe, 330i xDrive, E92 (LCI), 272 PS / 200 kW"},{"$f":"HYPERLINK(\"files\\2008.\"&Herstellerauswahl!$C$4,\"Auswahl / Select 2008\")","v":"Auswahl / Select 2008"}]
["0005/ALU",{"$f":"HYPERLINK(\"files\\2008.\"&Herstellerauswahl!$C$4,\"BMW 3er Coupe, 335i xDrive, E92 (LCI), 306 PS / 225 kW\")","v":"BMW 3er Coupe, 335i xDrive, E92 (LCI), 306 PS / 225 kW"},{"$f":"HYPERLINK(\"files\\2008.\"&Herstellerauswahl!$C$4,\"Auswahl / Select 2008\")","v":"Auswahl / Select 2008"}]

{"sheet":"E93 Cabrio","index":39,"n_rows":15,"n_cols":4,"rows_kept":15,"cut":false,"hidden":false,"merged":[]}
[]
[]
["TSN/HSN","Motorauswahl für E93 Cabrio","Home","Zurück / back"]
[]
["",{"$f":"HYPERLINK(\"files\\2005.\"&Herstellerauswahl!$C$4,\"BMW 3er Cabrio, 320i, E93, 156 PS / 115 kW\")","v":"BMW 3er Cabrio, 320i, E93, 156 PS / 115 kW"},{"$f":"HYPERLINK(\"files\\2005.\"&Herstellerauswahl!$C$4,\"Auswahl / Select 2005\")","v":"Auswahl / Select 2005"}]
["0005/AHL",{"$f":"HYPERLINK(\"files\\2005.\"&Herstellerauswahl!$C$4,\"BMW 3er Cabrio, 320i, E93, 170 PS / 125 kW\")","v":"BMW 3er Cabrio, 320i, E93, 170 PS / 125 kW"},{"$f":"HYPERLINK(\"files\\2005.\"&Herstellerauswahl!$C$4,\"Auswahl / Select 2005\")","v":"Auswahl / Select 2005"}]
["0005/AKY",{"$f":"HYPERLINK(\"files\\2005.\"&Herstellerauswahl!$C$4,\"BMW 3er Cabrio, 320d, E93, 177 PS / 130 kW\")","v":"BMW 3er Cabrio, 320d, E93, 177 PS / 130 kW"},{"$f":"HYPERLINK(\"files\\2005.\"&Herstellerauswahl!$C$4,\"Auswahl / Select 2005\")","v":"Auswahl / Select 2005"}]
["",{"$f":"HYPERLINK(\"files\\2005.\"&Herstellerauswahl!$C$4,\"BMW 3er Cabrio, 323i, E93, 190 PS / 140 kW\")","v":"BMW 3er Cabrio, 323i, E93, 190 PS / 140 kW"},{"$f":"HYPERLINK(\"files\\2005.\"&Herstellerauswahl!$C$4,\"Auswahl / Select 2005\")","v":"Auswahl / Select 2005"}]
["0005/AKX",{"$f":"HYPERLINK(\"files\\2005.\"&Herstellerauswahl!$C$4,\"BMW 3er Cabrio, 325d, E93, 197 PS / 145 kW\")","v":"BMW 3er Cabrio, 325d, E93, 197 PS / 145 kW"},{"$f":"HYPERLINK(\"files\\2005.\"&Herstellerauswahl!$C$4,\"Auswahl / Select 2005\")","v":"Auswahl / Select 2005"}]
["0005/AIX/AHI",{"$f":"HYPERLINK(\"files\\2005.\"&Herstellerauswahl!$C$4,\"BMW 3er Cabrio, 325i, E93, 218 PS / 160 kW\")","v":"BMW 3er Cabrio, 325i, E93, 218 PS / 160 kW"},{"$f":"HYPERLINK(\"files\\2005.\"&Herstellerauswahl!$C$4,\"Auswahl / Select 2005\")","v":"Auswahl / Select 2005"}]
["",{"$f":"HYPERLINK(\"files\\2005.\"&Herstellerauswahl!$C$4,\"BMW 3er Cabrio, 328i, E93, 234 PS / 172 kW\")","v":"BMW 3er Cabrio, 328i, E93, 234 PS / 172 kW"},{"$f":"HYPERLINK(\"files\\2005.\"&Herstellerauswahl!$C$4,\"Auswahl / Select 2005\")","v":"Auswahl / Select 2005"}]
["0005/AOU",{"$f":"HYPERLINK(\"files\\2005.\"&Herstellerauswahl!$C$4,\"BMW 3er Cabrio, 330d, E93, 245 PS / 180 kW\")","v":"BMW 3er Cabrio, 330d, E93, 245 PS / 180 kW"},{"$f":"HYPERLINK(\"files\\2005.\"&Herstellerauswahl!$C$4,\"Auswahl / Select 2005\")","v":"Auswahl / Select 2005"}]
["0005/AHN",{"$f":"HYPERLINK(\"files\\2005.\"&Herstellerauswahl!$C$4,\"BMW 3er Cabrio, 330i, E93, 272 PS / 200 kW\")","v":"BMW 3er Cabrio, 330i, E93, 272 PS / 200 kW"},{"$f":"HYPERLINK(\"files\\2005.\"&Herstellerauswahl!$C$4,\"Auswahl / Select 2005\")","v":"Auswahl / Select 2005"}]
["0005/AHK",{"$f":"HYPERLINK(\"files\\2005.\"&Herstellerauswahl!$C$4,\"BMW 3er Cabrio, 335i, E93, 306 PS / 225 kW\")","v":"BMW 3er Cabrio, 335i, E93, 306 PS / 225 kW"},{"$f":"HYPERLINK(\"files\\2005.\"&Herstellerauswahl!$C$4,\"Auswahl / Select 2005\")","v":"Auswahl / Select 2005"}]
["0005/AOW",{"$f":"HYPERLINK(\"files\\2005.\"&Herstellerauswahl!$C$4,\"BMW 3er Cabrio, 335i, E93, 326 PS / 240 kW\")","v":"BMW 3er Cabrio, 335i, E93, 326 PS / 240 kW"},{"$f":"HYPERLINK(\"files\\2005.\"&Herstellerauswahl!$C$4,\"Auswahl / Select 2005\")","v":"Auswahl / Select 2005"}]

{"sheet":"E93 Facelift Cabrio","index":40,"n_rows":18,"n_cols":4,"rows_kept":18,"cut":false,"hidden":false,"merged":[]}
[]
[]
["TSN/HSN","Motorauswahl für E93 Facelift Cabrio","Home","Zurück / back"]
[]
["0005/AUH",{"$f":"HYPERLINK(\"files\\2008.\"&Herstellerauswahl!$C$4,\"BMW 3er Cabrio, 318i, E93 (LCI), 143 PS / 105 kW\")","v":"BMW 3er Cabrio, 318i, E93 (LCI), 143 PS / 105 kW"},{"$f":"HYPERLINK(\"files\\2008.\"&Herstellerauswahl!$C$4,\"Auswahl / Select 2008\")","v":"Auswahl / Select 2008"}]
["0005/AUJ",{"$f":"HYPERLINK(\"files\\2008.\"&Herstellerauswahl!$C$4,\"BMW 3er Cabrio, 320d, E93 (LCI), 184 PS / 135 kW\")","v":"BMW 3er Cabrio, 320d, E93 (LCI), 184 PS / 135 kW"},{"$f":"HYPERLINK(\"files\\2008.\"&Herstellerauswahl!$C$4,\"Auswahl / Select 2008\")","v":"Auswahl / Select 2008"}]
["0005/AUN",{"$f":"HYPERLINK(\"files\\2008.\"&Herstellerauswahl!$C$4,\"BMW 3er Cabrio, 323i, E93 (LCI), 190 PS / 140 kW\")","v":"BMW 3er Cabrio, 323i, E93 (LCI), 190 PS / 140 kW"},{"$f":"HYPERLINK(\"files\\2008.\"&Herstellerauswahl!$C$4,\"Auswahl / Select 2008\")","v":"Auswahl / Select 2008"}]
["0005/AUK",{"$f":"HYPERLINK(\"files\\2008.\"&Herstellerauswahl!$C$4,\"BMW 3er Cabrio, 320i, E93 (LCI), 156 PS / 115 kW\")","v":"BMW 3er Cabrio, 320i, E93 (LCI), 156 PS / 115 kW"},{"$f":"HYPERLINK(\"files\\2008.\"&Herstellerauswahl!$C$4,\"Auswahl / Select 2008\")","v":"Auswahl / Select 2008"}]
["0005/AUM",{"$f":"HYPERLINK(\"files\\2008.\"&Herstellerauswahl!$C$4,\"BMW 3er Cabrio, 320i, E93 (LCI), 170 PS / 125 kW\")","v":"BMW 3er Cabrio, 320i, E93 (LCI), 170 PS / 125 kW"},{"$f":"HYPERLINK(\"files\\2008.\"&Herstellerauswahl!$C$4,\"Auswahl / Select 2008\")","v":"Auswahl / Select 2008"}]
["0005/AUO",{"$f":"HYPERLINK(\"files\\2008.\"&Herstellerauswahl!$C$4,\"BMW 3er Cabrio, 325d, E93 (LCI), 204 PS / 150 kW\")","v":"BMW 3er Cabrio, 325d, E93 (LCI), 204 PS / 150 kW"},{"$f":"HYPERLINK(\"files\\2008.\"&Herstellerauswahl!$C$4,\"Auswahl / Select 2008\")","v":"Auswahl / Select 2008"}]
["0005/BMP",{"$f":"HYPERLINK(\"files\\2008.\"&Herstellerauswahl!$C$4,\"BMW 3er Cabrio, 325i, E93 (LCI), 204 PS / 150 kW\")","v":"BMW 3er Cabrio, 325i, E93 (LCI), 204 PS / 150 kW"},{"$f":"HYPERLINK(\"files\\2008.\"&Herstellerauswahl!$C$4,\"Auswahl / Select 2008\")","v":"Auswahl / Select 2008"}]
["0005/AUR/AUP",{"$f":"HYPERLINK(\"files\\2008.\"&Herstellerauswahl!$C$4,\"BMW 3er Cabrio, 325i, E93 (LCI), 218 PS / 160 kW\")","v":"BMW 3er Cabrio, 325i, E93 (LCI), 218 PS / 160 kW"},{"$f":"HYPERLINK(\"files\\2008.\"&Herstellerauswahl!$C$4,\"Auswahl / Select 2008\")","v":"Auswahl / Select 2008"}]
["",{"$f":"HYPERLINK(\"files\\2008.\"&Herstellerauswahl!$C$4,\"BMW 3er Cabrio, 328i, E93 (LCI), 234 PS / 172 kW\")","v":"BMW 3er Cabrio, 328i, E93 (LCI), 234 PS / 172 kW"},{"$f":"HYPERLINK(\"files\\2008.\"&Herstellerauswahl!$C$4,\"Auswahl / Select 2008\")","v":"Auswahl / Select 2008"}]
["0005/AUS",{"$f":"HYPERLINK(\"files\\2008.\"&Herstellerauswahl!$C$4,\"BMW 3er Cabrio, 330d, E93 (LCI), 245 PS / 180 kW\")","v":"BMW 3er Cabrio, 330d, E93 (LCI), 245 PS / 180 kW"},{"$f":"HYPERLINK(\"files\\2008.\"&Herstellerauswahl!$C$4,\"Auswahl / Select 2008\")","v":"Auswahl / Select 2008"}]
["0005/AUT",{"$f":"HYPERLINK(\"files\\2008.\"&Herstellerauswahl!$C$4,\"BMW 3er Cabrio, 330i, E93 (LCI), 258 PS / 190 kW\")","v":"BMW 3er Cabrio, 330i, E93 (LCI), 258 PS / 190 kW"},{"$f":"HYPERLINK(\"files\\2008.\"&Herstellerauswahl!$C$4,\"Auswahl / Select 2008\")","v":"Auswahl / Select 2008"}]
["0005/AUU",{"$f":"HYPERLINK(\"files\\2008.\"&Herstellerauswahl!$C$4,\"BMW 3er Cabrio, 330i, E93 (LCI), 272 PS / 200 kW\")","v":"BMW 3er Cabrio, 330i, E93 (LCI), 272 PS / 200 kW"},{"$f":"HYPERLINK(\"files\\2008.\"&Herstellerauswahl!$C$4,\"Auswahl / Select 2008\")","v":"Auswahl / Select 2008"}]
["0005/AUV",{"$f":"HYPERLINK(\"files\\2008.\"&Herstellerauswahl!$C$4,\"BMW 3er Cabrio, 335i, E93 (LCI), 306 PS / 225 kW\")","v":"BMW 3er Cabrio, 335i, E93 (LCI), 306 PS / 225 kW"},{"$f":"HYPERLINK(\"files\\2008.\"&Herstellerauswahl!$C$4,\"Auswahl / Select 2008\")","v":"Auswahl / Select 2008"}]
["0005/BCA",{"$f":"HYPERLINK(\"files\\2008.\"&Herstellerauswahl!$C$4,\"BMW 3er Cabrio, 335i, E93 (LCI), 326 PS / 240 kW\")","v":"BMW 3er Cabrio, 335i, E93 (LCI), 326 PS / 240 kW"},{"$f":"HYPERLINK(\"files\\2008.\"&Herstellerauswahl!$C$4,\"Auswahl / Select 2008\")","v":"Auswahl / Select 2008"}]

{"sheet":"F30 Limousine","index":41,"n_rows":22,"n_cols":4,"rows_kept":22,"cut":false,"hidden":false,"merged":[]}
[]
[]
["TSN/HSN","Motorauswahl für F30 Limousine","Home","Zurück / back"]
[]
["0005/BII/BKN",{"$f":"HYPERLINK(\"files\\2010.\"&Herstellerauswahl!$C$4,\"BMW 3er Limousine, 316d, F30, 116 PS / 85 kW\")","v":"BMW 3er Limousine, 316d, F30, 116 PS / 85 kW"},{"$f":"HYPERLINK(\"files\\2010.\"&Herstellerauswahl!$C$4,\"Auswahl / Select 2010\")","v":"Auswahl / Select 2010"}]
["0005/BKH",{"$f":"HYPERLINK(\"files\\2010.\"&Herstellerauswahl!$C$4,\"BMW 3er Limousine, 316i, F30, 136 PS / 100 kW\")","v":"BMW 3er Limousine, 316i, F30, 136 PS / 100 kW"},{"$f":"HYPERLINK(\"files\\2010.\"&Herstellerauswahl!$C$4,\"Auswahl / Select 2010\")","v":"Auswahl / Select 2010"}]
["0005/BIJ/BKP",{"$f":"HYPERLINK(\"files\\2010.\"&Herstellerauswahl!$C$4,\"BMW 3er Limousine, 318d, F30, 143 PS / 105 kW\")","v":"BMW 3er Limousine, 318d, F30, 143 PS / 105 kW"},{"$f":"HYPERLINK(\"files\\2010.\"&Herstellerauswahl!$C$4,\"Auswahl / Select 2010\")","v":"Auswahl / Select 2010"}]
["0005/BKQ",{"$f":"HYPERLINK(\"files\\2010.\"&Herstellerauswahl!$C$4,\"BMW 3er Limousine, 320d, F30, 184 PS / 135 kW\")","v":"BMW 3er Limousine, 320d, F30, 184 PS / 135 kW"},{"$f":"HYPERLINK(\"files\\2010.\"&Herstellerauswahl!$C$4,\"Auswahl / Select 2010\")","v":"Auswahl / Select 2010"}]
["0005/BHK",{"$f":"HYPERLINK(\"files\\2010.\"&Herstellerauswahl!$C$4,\"BMW 3er Limousine, 320d Efficient Dynamics, F30, 163 PS / 120 kW\")","v":"BMW 3er Limousine, 320d Efficient Dynamics, F30, 163 PS / 120 kW"},{"$f":"HYPERLINK(\"files\\2010.\"&Herstellerauswahl!$C$4,\"Auswahl / Select 2010\")","v":"Auswahl / Select 2010"}]
["0005/BMO",{"$f":"HYPERLINK(\"files\\2010.\"&Herstellerauswahl!$C$4,\"BMW 3er Limousine, 320i Efficient Dynamics, F30, 170 PS / 125 kW\")","v":"BMW 3er Limousine, 320i Efficient Dynamics, F30, 170 PS / 125 kW"},{"$f":"HYPERLINK(\"files\\2010.\"&Herstellerauswahl!$C$4,\"Auswahl / Select 2010\")","v":"Auswahl / Select 2010"}]
["0005/BIK/BKU",{"$f":"HYPERLINK(\"files\\2010.\"&Herstellerauswahl!$C$4,\"BMW 3er Limousine, 320i, F30, 184 PS / 135 kW\")","v":"BMW 3er Limousine, 320i, F30, 184 PS / 135 kW"},{"$f":"HYPERLINK(\"files\\2010.\"&Herstellerauswahl!$C$4,\"Auswahl / Select 2010\")","v":"Auswahl / Select 2010"}]
["0005/BOT",{"$f":"HYPERLINK(\"files\\2010.\"&Herstellerauswahl!$C$4,\"BMW 3er Limousine, 325d, F30, 218 PS / 160 kW\")","v":"BMW 3er Limousine, 325d, F30, 218 PS / 160 kW"},{"$f":"HYPERLINK(\"files\\2010.\"&Herstellerauswahl!$C$4,\"Auswahl / Select 2010\")","v":"Auswahl / Select 2010"}]
["0005/BHH/BKV",{"$f":"HYPERLINK(\"files\\2010.\"&Herstellerauswahl!$C$4,\"BMW 3er Limousine, 328i, F30, 245 PS / 180 kW\")","v":"BMW 3er Limousine, 328i, F30, 245 PS / 180 kW"},{"$f":"HYPERLINK(\"files\\2010.\"&Herstellerauswahl!$C$4,\"Auswahl / Select 2010\")","v":"Auswahl / Select 2010"}]
["0005/BKI",{"$f":"HYPERLINK(\"files\\2010.\"&Herstellerauswahl!$C$4,\"BMW 3er Limousine, 330d, F30, 258 PS / 190 kW\")","v":"BMW 3er Limousine, 330d, F30, 258 PS / 190 kW"},{"$f":"HYPERLINK(\"files\\2010.\"&Herstellerauswahl!$C$4,\"Auswahl / Select 2010\")","v":"Auswahl / Select 2010"}]
["0005/BHI/BKW",{"$f":"HYPERLINK(\"files\\2018.\"&Herstellerauswahl!$C$4,\"BMW 3er Limousine, 335i, F30, 306 PS / 225 kW\")","v":"BMW 3er Limousine, 335i, F30, 306 PS / 225 kW"},{"$f":"HYPERLINK(\"files\\2018.\"&Herstellerauswahl!$C$4,\"Auswahl / Select 2018\")","v":"Auswahl / Select 2018"}]
["0005/BQN",{"$f":"HYPERLINK(\"files\\2010.\"&Herstellerauswahl!$C$4,\"BMW 3er Limousine, 318d xDrive, F30, 143 PS / 105 kW\")","v":"BMW 3er Limousine, 318d xDrive, F30, 143 PS / 105 kW"},{"$f":"HYPERLINK(\"files\\2010.\"&Herstellerauswahl!$C$4,\"Auswahl / Select 2010\")","v":"Auswahl / Select 2010"}]
["0005/BKM",{"$f":"HYPERLINK(\"files\\2010.\"&Herstellerauswahl!$C$4,\"BMW 3er Limousine, 320i xDrive, F30, 184 PS / 135 kW\")","v":"BMW 3er Limousine, 320i xDrive, F30, 184 PS / 135 kW"},{"$f":"HYPERLINK(\"files\\2010.\"&Herstellerauswahl!$C$4,\"Auswahl / Select 2010\")","v":"Auswahl / Select 2010"}]
["0005/BKJ",{"$f":"HYPERLINK(\"files\\2010.\"&Herstellerauswahl!$C$4,\"BMW 3er Limousine, 320d xDrive, F30, 184 PS / 135 kW\")","v":"BMW 3er Limousine, 320d xDrive, F30, 184 PS / 135 kW"},{"$f":"HYPERLINK(\"files\\2010.\"&Herstellerauswahl!$C$4,\"Auswahl / Select 2010\")","v":"Auswahl / Select 2010"}]
["0005/BKK",{"$f":"HYPERLINK(\"files\\2010.\"&Herstellerauswahl!$C$4,\"BMW 3er Limousine, 328i xDrive, F30, 245 PS / 180 kW\")","v":"BMW 3er Limousine, 328i xDrive, F30, 245 PS / 180 kW"},{"$f":"HYPERLINK(\"files\\2010.\"&Herstellerauswahl!$C$4,\"Auswahl / Select 2010\")","v":"Auswahl / Select 2010"}]
["0005/BOV",{"$f":"HYPERLINK(\"files\\2010.\"&Herstellerauswahl!$C$4,\"BMW 3er Limousine, 330d xDrive, F30, 258 PS / 190 kW\")","v":"BMW 3er Limousine, 330d xDrive, F30, 258 PS / 190 kW"},{"$f":"HYPERLINK(\"files\\2010.\"&Herstellerauswahl!$C$4,\"Auswahl / Select 2010\")","v":"Auswahl / Select 2010"}]
["0005/BQO",{"$f":"HYPERLINK(\"files\\2018.\"&Herstellerauswahl!$C$4,\"BMW 3er Limousine, 335d xDrive, F30, 313 PS / 230 kW\")","v":"BMW 3er Limousine, 335d xDrive, F30, 313 PS / 230 kW"},{"$f":"HYPERLINK(\"files\\2018.\"&Herstellerauswahl!$C$4,\"Auswahl / Select 2018\")","v":"Auswahl / Select 2018"}]
["0005/BKL",{"$f":"HYPERLINK(\"files\\2018.\"&Herstellerauswahl!$C$4,\"BMW 3er Limousine, 335i xDrive, F30, 306 PS / 225 kW\")","v":"BMW 3er Limousine, 335i xDrive, F30, 306 PS / 225 kW"},{"$f":"HYPERLINK(\"files\\2018.\"&Herstellerauswahl!$C$4,\"Auswahl / Select 2018\")","v":"Auswahl / Select 2018"}]

{"sheet":"F30 Facelift Limousine","index":42,"n_rows":27,"n_cols":4,"rows_kept":27,"cut":false,"hidden":false,"merged":[]}
[]
[]
["TSN/HSN","Motorauswahl für F30 Facelift Limousine","Home","Zurück / back"]
[]
["0005/BKN",{"$f":"HYPERLINK(\"files\\2010.\"&Herstellerauswahl!$C$4,\"BMW 3er Limousine, 316d, F30 (LCI), 116 PS / 85 kW\")","v":"BMW 3er Limousine, 316d, F30 (LCI), 116 PS / 85 kW"},{"$f":"HYPERLINK(\"files\\2010.\"&Herstellerauswahl!$C$4,\"Auswahl / Select 2010\")","v":"Auswahl / Select 2010"}]
["0005/CDV",{"$f":"HYPERLINK(\"files\\2010.\"&Herstellerauswahl!$C$4,\"BMW 3er Limousine, 318d, F30 (LCI), 150 PS / 110 kW\")","v":"BMW 3er Limousine, 318d, F30 (LCI), 150 PS / 110 kW"},{"$f":"HYPERLINK(\"files\\2010.\"&Herstellerauswahl!$C$4,\"Auswahl / Select 2010\")","v":"Auswahl / Select 2010"}]
["0005/CEB",{"$f":"HYPERLINK(\"files\\2010.\"&Herstellerauswahl!$C$4,\"BMW 3er Limousine, 318d xDrive, F30 (LCI), 150 PS / 110 kW\")","v":"BMW 3er Limousine, 318d xDrive, F30 (LCI), 150 PS / 110 kW"},{"$f":"HYPERLINK(\"files\\2010.\"&Herstellerauswahl!$C$4,\"Auswahl / Select 2010\")","v":"Auswahl / Select 2010"}]
["0005/BZQ",{"$f":"HYPERLINK(\"files\\2010.\"&Herstellerauswahl!$C$4,\"BMW 3er Limousine, 318i, F30 (LCI), 136 PS / 100 kW\")","v":"BMW 3er Limousine, 318i, F30 (LCI), 136 PS / 100 kW"},{"$f":"HYPERLINK(\"files\\2010.\"&Herstellerauswahl!$C$4,\"Auswahl / Select 2010\")","v":"Auswahl / Select 2010"}]
["0005/CDX",{"$f":"HYPERLINK(\"files\\2010.\"&Herstellerauswahl!$C$4,\"BMW 3er Limousine, 320d, F30 (LCI), 190 PS / 140 kW\")","v":"BMW 3er Limousine, 320d, F30 (LCI), 190 PS / 140 kW"},{"$f":"HYPERLINK(\"files\\2010.\"&Herstellerauswahl!$C$4,\"Auswahl / Select 2010\")","v":"Auswahl / Select 2010"}]
["0005/CDY",{"$f":"HYPERLINK(\"files\\2010.\"&Herstellerauswahl!$C$4,\"BMW 3er Limousine, 320d, F30 (LCI), 205 PS / 151 kW\")","v":"BMW 3er Limousine, 320d, F30 (LCI), 205 PS / 151 kW"},{"$f":"HYPERLINK(\"files\\2010.\"&Herstellerauswahl!$C$4,\"Auswahl / Select 2010\")","v":"Auswahl / Select 2010"}]
["0005/CDW",{"$f":"HYPERLINK(\"files\\2010.\"&Herstellerauswahl!$C$4,\"BMW 3er Limousine, 320d Efficient Dynamics, F30 (LCI), 163 PS / 120 kW\")","v":"BMW 3er Limousine, 320d Efficient Dynamics, F30 (LCI), 163 PS / 120 kW"},{"$f":"HYPERLINK(\"files\\2010.\"&Herstellerauswahl!$C$4,\"Auswahl / Select 2010\")","v":"Auswahl / Select 2010"}]
["0005/CEC",{"$f":"HYPERLINK(\"files\\2010.\"&Herstellerauswahl!$C$4,\"BMW 3er Limousine, 320d xDrive, F30 (LCI), 190 PS / 140 kW\")","v":"BMW 3er Limousine, 320d xDrive, F30 (LCI), 190 PS / 140 kW"},{"$f":"HYPERLINK(\"files\\2010.\"&Herstellerauswahl!$C$4,\"Auswahl / Select 2010\")","v":"Auswahl / Select 2010"}]
["0005/CED",{"$f":"HYPERLINK(\"files\\2010.\"&Herstellerauswahl!$C$4,\"BMW 3er Limousine, 320d xDrive, F30 (LCI), 205 PS / 151 kW\")","v":"BMW 3er Limousine, 320d xDrive, F30 (LCI), 205 PS / 151 kW"},{"$f":"HYPERLINK(\"files\\2010.\"&Herstellerauswahl!$C$4,\"Auswahl / Select 2010\")","v":"Auswahl / Select 2010"}]
["0005/BKU",{"$f":"HYPERLINK(\"files\\2010.\"&Herstellerauswahl!$C$4,\"BMW 3er Limousine, 320i, F30 (LCI), 184 PS / 135 kW\")","v":"BMW 3er Limousine, 320i, F30 (LCI), 184 PS / 135 kW"},{"$f":"HYPERLINK(\"files\\2010.\"&Herstellerauswahl!$C$4,\"Auswahl / Select 2010\")","v":"Auswahl / Select 2010"}]
["0005/CDR",{"$f":"HYPERLINK(\"files\\2010.\"&Herstellerauswahl!$C$4,\"BMW 3er Limousine, 320i Efficient Dynamics, F30 (LCI), 170 PS / 125 kW\")","v":"BMW 3er Limousine, 320i Efficient Dynamics, F30 (LCI), 170 PS / 125 kW"},{"$f":"HYPERLINK(\"files\\2010.\"&Herstellerauswahl!$C$4,\"Auswahl / Select 2010\")","v":"Auswahl / Select 2010"}]
["0005/BKM",{"$f":"HYPERLINK(\"files\\2010.\"&Herstellerauswahl!$C$4,\"BMW 3er Limousine, 320i xDrive, F30 (LCI), 184 PS / 135 kW\")","v":"BMW 3er Limousine, 320i xDrive, F30 (LCI), 184 PS / 135 kW"},{"$f":"HYPERLINK(\"files\\2010.\"&Herstellerauswahl!$C$4,\"Auswahl / Select 2010\")","v":"Auswahl / Select 2010"}]
["0005/BOU",{"$f":"HYPERLINK(\"files\\2010.\"&Herstellerauswahl!$C$4,\"BMW 3er Limousine, 325d, F30 (LCI), 218 PS / 160 kW\")","v":"BMW 3er Limousine, 325d, F30 (LCI), 218 PS / 160 kW"},{"$f":"HYPERLINK(\"files\\2010.\"&Herstellerauswahl!$C$4,\"Auswahl / Select 2010\")","v":"Auswahl / Select 2010"}]
["0005/BOT",{"$f":"HYPERLINK(\"files\\2010.\"&Herstellerauswahl!$C$4,\"BMW 3er Limousine, 325d, F30 (LCI), 224 PS / 165 kW\")","v":"BMW 3er Limousine, 325d, F30 (LCI), 224 PS / 165 kW"},{"$f":"HYPERLINK(\"files\\2010.\"&Herstellerauswahl!$C$4,\"Auswahl / Select 2010\")","v":"Auswahl / Select 2010"}]
["0005/BKI",{"$f":"HYPERLINK(\"files\\2010.\"&Herstellerauswahl!$C$4,\"BMW 3er Limousine, 330d, F30 (LCI), 258 PS / 190 kW\")","v":"BMW 3er Limousine, 330d, F30 (LCI), 258 PS / 190 kW"},{"$f":"HYPERLINK(\"files\\2010.\"&Herstellerauswahl!$C$4,\"Auswahl / Select 2010\")","v":"Auswahl / Select 2010"}]
["0005/BKI",{"$f":"HYPERLINK(\"files\\2010.\"&Herstellerauswahl!$C$4,\"BMW 3er Limousine, 330d xDrive, F30 (LCI), 258 PS / 190 kW\")","v":"BMW 3er Limousine, 330d xDrive, F30 (LCI), 258 PS / 190 kW"},{"$f":"HYPERLINK(\"files\\2010.\"&Herstellerauswahl!$C$4,\"Auswahl / Select 2010\")","v":"Auswahl / Select 2010"}]
["0005/CDS",{"$f":"HYPERLINK(\"files\\2010.\"&Herstellerauswahl!$C$4,\"BMW 3er Limousine, 330i, F30 (LCI), 252 PS / 185 kW\")","v":"BMW 3er Limousine, 330i, F30 (LCI), 252 PS / 185 kW"},{"$f":"HYPERLINK(\"files\\2010.\"&Herstellerauswahl!$C$4,\"Auswahl / Select 2010\")","v":"Auswahl / Select 2010"}]
["0005/CDZ",{"$f":"HYPERLINK(\"files\\2010.\"&Herstellerauswahl!$C$4,\"BMW 3er Limousine, 330i xDrive, F30 (LCI), 252 PS / 185 kW\")","v":"BMW 3er Limousine, 330i xDrive, F30 (LCI), 252 PS / 185 kW"},{"$f":"HYPERLINK(\"files\\2010.\"&Herstellerauswahl!$C$4,\"Auswahl / Select 2010\")","v":"Auswahl / Select 2010"}]
["0005/BQO",{"$f":"HYPERLINK(\"files\\2018.\"&Herstellerauswahl!$C$4,\"BMW 3er Limousine, 335d xDrive, F30 (LCI), 313 PS / 230 kW\")","v":"BMW 3er Limousine, 335d xDrive, F30 (LCI), 313 PS / 230 kW"},{"$f":"HYPERLINK(\"files\\2018.\"&Herstellerauswahl!$C$4,\"Auswahl / Select 2018\")","v":"Auswahl / Select 2018"}]
["0005/CDT",{"$f":"HYPERLINK(\"files\\2018.\"&Herstellerauswahl!$C$4,\"BMW 3er Limousine, 340i, F30 (LCI), 326 PS / 240 kW\")","v":"BMW 3er Limousine, 340i, F30 (LCI), 326 PS / 240 kW"},{"$f":"HYPERLINK(\"files\\2018.\"&Herstellerauswahl!$C$4,\"Auswahl / Select 2018\")","v":"Auswahl / Select 2018"}]
["0005/CFD",{"$f":"HYPERLINK(\"files\\2018.\"&Herstellerauswahl!$C$4,\"BMW 3er Limousine, 340i, F30 (LCI), 360 PS / 265 kW\")","v":"BMW 3er Limousine, 340i, F30 (LCI), 360 PS / 265 kW"},{"$f":"HYPERLINK(\"files\\2018.\"&Herstellerauswahl!$C$4,\"Auswahl / Select 2018\")","v":"Auswahl / Select 2018"}]
["0005/CEA",{"$f":"HYPERLINK(\"files\\2018.\"&Herstellerauswahl!$C$4,\"BMW 3er Limousine, 340i xDrive, F30 (LCI), 326 PS / 240 kW\")","v":"BMW 3er Limousine, 340i xDrive, F30 (LCI), 326 PS / 240 kW"},{"$f":"HYPERLINK(\"files\\2018.\"&Herstellerauswahl!$C$4,\"Auswahl / Select 2018\")","v":"Auswahl / Select 2018"}]
["0005/CFE",{"$f":"HYPERLINK(\"files\\2018.\"&Herstellerauswahl!$C$4,\"BMW 3er Limousine, 340i xDrive, F30 (LCI), 360 PS / 265 kW\")","v":"BMW 3er Limousine, 340i xDrive, F30 (LCI), 360 PS / 265 kW"},{"$f":"HYPERLINK(\"files\\2018.\"&Herstellerauswahl!$C$4,\"Auswahl / Select 2018\")","v":"Auswahl / Select 2018"}]

{"sheet":"F31 Touring","index":43,"n_rows":21,"n_cols":4,"rows_kept":21,"cut":false,"hidden":false,"merged":[]}
[]
[]
["TSN/HSN","Motorauswahl für F31 Touring","Home","Zurück / back"]
[]
["0005/BMM/BPR",{"$f":"HYPERLINK(\"files\\2010.\"&Herstellerauswahl!$C$4,\"BMW 3er Touring, 316d, F31, 116 PS / 85 kW\")","v":"BMW 3er Touring, 316d, F31, 116 PS / 85 kW"},{"$f":"HYPERLINK(\"files\\2010.\"&Herstellerauswahl!$C$4,\"Auswahl / Select 2010\")","v":"Auswahl / Select 2010"}]
["0005/BOY",{"$f":"HYPERLINK(\"files\\2010.\"&Herstellerauswahl!$C$4,\"BMW 3er Touring, 316i, F31, 136 PS / 100 kW\")","v":"BMW 3er Touring, 316i, F31, 136 PS / 100 kW"},{"$f":"HYPERLINK(\"files\\2010.\"&Herstellerauswahl!$C$4,\"Auswahl / Select 2010\")","v":"Auswahl / Select 2010"}]
["0005/BDX/BMN",{"$f":"HYPERLINK(\"files\\2010.\"&Herstellerauswahl!$C$4,\"BMW 3er Touring, 318d, F31, 143 PS / 105 kW\")","v":"BMW 3er Touring, 318d, F31, 143 PS / 105 kW"},{"$f":"HYPERLINK(\"files\\2010.\"&Herstellerauswahl!$C$4,\"Auswahl / Select 2010\")","v":"Auswahl / Select 2010"}]
["0005/BDW/BLC",{"$f":"HYPERLINK(\"files\\2010.\"&Herstellerauswahl!$C$4,\"BMW 3er Touring, 320d, F31, 184 PS / 135 kW\")","v":"BMW 3er Touring, 320d, F31, 184 PS / 135 kW"},{"$f":"HYPERLINK(\"files\\2010.\"&Herstellerauswahl!$C$4,\"Auswahl / Select 2010\")","v":"Auswahl / Select 2010"}]
["0005/BPC",{"$f":"HYPERLINK(\"files\\2010.\"&Herstellerauswahl!$C$4,\"BMW 3er Touring, 325d, F31, 218 PS / 160 kW\")","v":"BMW 3er Touring, 325d, F31, 218 PS / 160 kW"},{"$f":"HYPERLINK(\"files\\2010.\"&Herstellerauswahl!$C$4,\"Auswahl / Select 2010\")","v":"Auswahl / Select 2010"}]
["0005/BDT/BLD/BPB",{"$f":"HYPERLINK(\"files\\2010.\"&Herstellerauswahl!$C$4,\"BMW 3er Touring, 320d Efficient Dynamics, F31, 163 PS / 120 kW\")","v":"BMW 3er Touring, 320d Efficient Dynamics, F31, 163 PS / 120 kW"},{"$f":"HYPERLINK(\"files\\2010.\"&Herstellerauswahl!$C$4,\"Auswahl / Select 2010\")","v":"Auswahl / Select 2010"}]
["0005/BLA",{"$f":"HYPERLINK(\"files\\2010.\"&Herstellerauswahl!$C$4,\"BMW 3er Touring, 320i, F31, 184 PS / 135 kW\")","v":"BMW 3er Touring, 320i, F31, 184 PS / 135 kW"},{"$f":"HYPERLINK(\"files\\2010.\"&Herstellerauswahl!$C$4,\"Auswahl / Select 2010\")","v":"Auswahl / Select 2010"}]
["0005/BKZ",{"$f":"HYPERLINK(\"files\\2010.\"&Herstellerauswahl!$C$4,\"BMW 3er Touring, 328i, F31, 245 PS / 180 kW\")","v":"BMW 3er Touring, 328i, F31, 245 PS / 180 kW"},{"$f":"HYPERLINK(\"files\\2010.\"&Herstellerauswahl!$C$4,\"Auswahl / Select 2010\")","v":"Auswahl / Select 2010"}]
["0005/BLB",{"$f":"HYPERLINK(\"files\\2010.\"&Herstellerauswahl!$C$4,\"BMW 3er Touring, 330d, F31, 258 PS / 190 kW\")","v":"BMW 3er Touring, 330d, F31, 258 PS / 190 kW"},{"$f":"HYPERLINK(\"files\\2010.\"&Herstellerauswahl!$C$4,\"Auswahl / Select 2010\")","v":"Auswahl / Select 2010"}]
["0005/BOZ",{"$f":"HYPERLINK(\"files\\2018.\"&Herstellerauswahl!$C$4,\"BMW 3er Touring, 335i, F31, 306 PS / 225 kW\")","v":"BMW 3er Touring, 335i, F31, 306 PS / 225 kW"},{"$f":"HYPERLINK(\"files\\2018.\"&Herstellerauswahl!$C$4,\"Auswahl / Select 2018\")","v":"Auswahl / Select 2018"}]
["0005/BQP/BSH",{"$f":"HYPERLINK(\"files\\2010.\"&Herstellerauswahl!$C$4,\"BMW 3er Touring, 318d xDrive, F31, 143 PS / 105 kW\")","v":"BMW 3er Touring, 318d xDrive, F31, 143 PS / 105 kW"},{"$f":"HYPERLINK(\"files\\2010.\"&Herstellerauswahl!$C$4,\"Auswahl / Select 2010\")","v":"Auswahl / Select 2010"}]
["0005/BPE",{"$f":"HYPERLINK(\"files\\2010.\"&Herstellerauswahl!$C$4,\"BMW 3er Touring, 320i xDrive, F31, 184 PS / 135 kW\")","v":"BMW 3er Touring, 320i xDrive, F31, 184 PS / 135 kW"},{"$f":"HYPERLINK(\"files\\2010.\"&Herstellerauswahl!$C$4,\"Auswahl / Select 2010\")","v":"Auswahl / Select 2010"}]
["0005/BDU/BPI",{"$f":"HYPERLINK(\"files\\2010.\"&Herstellerauswahl!$C$4,\"BMW 3er Touring, 320d xDrive, F31, 184 PS / 135 kW\")","v":"BMW 3er Touring, 320d xDrive, F31, 184 PS / 135 kW"},{"$f":"HYPERLINK(\"files\\2010.\"&Herstellerauswahl!$C$4,\"Auswahl / Select 2010\")","v":"Auswahl / Select 2010"}]
["0005/BPF",{"$f":"HYPERLINK(\"files\\2010.\"&Herstellerauswahl!$C$4,\"BMW 3er Touring, 328i xDrive, F31, 245 PS / 180 kW\")","v":"BMW 3er Touring, 328i xDrive, F31, 245 PS / 180 kW"},{"$f":"HYPERLINK(\"files\\2010.\"&Herstellerauswahl!$C$4,\"Auswahl / Select 2010\")","v":"Auswahl / Select 2010"}]
["0005/BPK",{"$f":"HYPERLINK(\"files\\2010.\"&Herstellerauswahl!$C$4,\"BMW 3er Touring, 330d xDrive, F31, 258 PS / 190 kW\")","v":"BMW 3er Touring, 330d xDrive, F31, 258 PS / 190 kW"},{"$f":"HYPERLINK(\"files\\2010.\"&Herstellerauswahl!$C$4,\"Auswahl / Select 2010\")","v":"Auswahl / Select 2010"}]
["0005/BSL",{"$f":"HYPERLINK(\"files\\2018.\"&Herstellerauswahl!$C$4,\"BMW 3er Touring, 335d xDrive, F31, 313 PS / 230 kW\")","v":"BMW 3er Touring, 335d xDrive, F31, 313 PS / 230 kW"},{"$f":"HYPERLINK(\"files\\2018.\"&Herstellerauswahl!$C$4,\"Auswahl / Select 2018\")","v":"Auswahl / Select 2018"}]
["0005/BPG",{"$f":"HYPERLINK(\"files\\2018.\"&Herstellerauswahl!$C$4,\"BMW 3er Touring, 335i xDrive, F31, 306 PS / 225 kW\")","v":"BMW 3er Touring, 335i xDrive, F31, 306 PS / 225 kW"},{"$f":"HYPERLINK(\"files\\2018.\"&Herstellerauswahl!$C$4,\"Auswahl / Select 2018\")","v":"Auswahl / Select 2018"}]

{"sheet":"F31 Facelift Touring","index":44,"n_rows":26,"n_cols":4,"rows_kept":26,"cut":false,"hidden":false,"merged":[]}
[]
[]
["TSN/HSN","Motorauswahl für F31 Facelift Touring","Home","Zurück / back"]
[]
["0005/BMM",{"$f":"HYPERLINK(\"files\\2010.\"&Herstellerauswahl!$C$4,\"BMW 3er Touring, 316d, F31 (LCI), 116 PS / 85 kW\")","v":"BMW 3er Touring, 316d, F31 (LCI), 116 PS / 85 kW"},{"$f":"HYPERLINK(\"files\\2010.\"&Herstellerauswahl!$C$4,\"Auswahl / Select 2010\")","v":"Auswahl / Select 2010"}]
["0005/CDI/CFY",{"$f":"HYPERLINK(\"files\\2010.\"&Herstellerauswahl!$C$4,\"BMW 3er Touring, 318d, F31 (LCI), 150 PS / 110 kW\")","v":"BMW 3er Touring, 318d, F31 (LCI), 150 PS / 110 kW"},{"$f":"HYPERLINK(\"files\\2010.\"&Herstellerauswahl!$C$4,\"Auswahl / Select 2010\")","v":"Auswahl / Select 2010"}]
["0005/CDO/CGA",{"$f":"HYPERLINK(\"files\\2010.\"&Herstellerauswahl!$C$4,\"BMW 3er Touring, 318d xDrive, F31 (LCI), 150 PS / 110 kW\")","v":"BMW 3er Touring, 318d xDrive, F31 (LCI), 150 PS / 110 kW"},{"$f":"HYPERLINK(\"files\\2010.\"&Herstellerauswahl!$C$4,\"Auswahl / Select 2010\")","v":"Auswahl / Select 2010"}]
["0005/BZR",{"$f":"HYPERLINK(\"files\\2010.\"&Herstellerauswahl!$C$4,\"BMW 3er Touring, 318i, F31 (LCI), 136 PS / 100 kW\")","v":"BMW 3er Touring, 318i, F31 (LCI), 136 PS / 100 kW"},{"$f":"HYPERLINK(\"files\\2010.\"&Herstellerauswahl!$C$4,\"Auswahl / Select 2010\")","v":"Auswahl / Select 2010"}]
["0005/CDK",{"$f":"HYPERLINK(\"files\\2010.\"&Herstellerauswahl!$C$4,\"BMW 3er Touring, 320d, F31 (LCI), 190 PS / 140 kW\")","v":"BMW 3er Touring, 320d, F31 (LCI), 190 PS / 140 kW"},{"$f":"HYPERLINK(\"files\\2010.\"&Herstellerauswahl!$C$4,\"Auswahl / Select 2010\")","v":"Auswahl / Select 2010"}]
["0005/CDL",{"$f":"HYPERLINK(\"files\\2010.\"&Herstellerauswahl!$C$4,\"BMW 3er Touring, 320d, F31 (LCI), 205 PS / 151 kW\")","v":"BMW 3er Touring, 320d, F31 (LCI), 205 PS / 151 kW"},{"$f":"HYPERLINK(\"files\\2010.\"&Herstellerauswahl!$C$4,\"Auswahl / Select 2010\")","v":"Auswahl / Select 2010"}]
["0005/CDJ",{"$f":"HYPERLINK(\"files\\2010.\"&Herstellerauswahl!$C$4,\"BMW 3er Touring, 320d Efficient Dynamics, F31 (LCI), 163 PS / 120 kW\")","v":"BMW 3er Touring, 320d Efficient Dynamics, F31 (LCI), 163 PS / 120 kW"},{"$f":"HYPERLINK(\"files\\2010.\"&Herstellerauswahl!$C$4,\"Auswahl / Select 2010\")","v":"Auswahl / Select 2010"}]
["0005/CDP/CFZ",{"$f":"HYPERLINK(\"files\\2010.\"&Herstellerauswahl!$C$4,\"BMW 3er Touring, 320d xDrive, F31 (LCI), 190 PS / 140 kW\")","v":"BMW 3er Touring, 320d xDrive, F31 (LCI), 190 PS / 140 kW"},{"$f":"HYPERLINK(\"files\\2010.\"&Herstellerauswahl!$C$4,\"Auswahl / Select 2010\")","v":"Auswahl / Select 2010"}]
["0005/CDQ",{"$f":"HYPERLINK(\"files\\2010.\"&Herstellerauswahl!$C$4,\"BMW 3er Touring, 320d xDrive, F31 (LCI), 205 PS / 151 kW\")","v":"BMW 3er Touring, 320d xDrive, F31 (LCI), 205 PS / 151 kW"},{"$f":"HYPERLINK(\"files\\2010.\"&Herstellerauswahl!$C$4,\"Auswahl / Select 2010\")","v":"Auswahl / Select 2010"}]
["0005/BLA",{"$f":"HYPERLINK(\"files\\2010.\"&Herstellerauswahl!$C$4,\"BMW 3er Touring, 320i, F31 (LCI), 184 PS / 135 kW\")","v":"BMW 3er Touring, 320i, F31 (LCI), 184 PS / 135 kW"},{"$f":"HYPERLINK(\"files\\2010.\"&Herstellerauswahl!$C$4,\"Auswahl / Select 2010\")","v":"Auswahl / Select 2010"}]
["0005/BPE",{"$f":"HYPERLINK(\"files\\2010.\"&Herstellerauswahl!$C$4,\"BMW 3er Touring, 320i xDrive, F31 (LCI), 184 PS / 135 kW\")","v":"BMW 3er Touring, 320i xDrive, F31 (LCI), 184 PS / 135 kW"},{"$f":"HYPERLINK(\"files\\2010.\"&Herstellerauswahl!$C$4,\"Auswahl / Select 2010\")","v":"Auswahl / Select 2010"}]
["0005/BPD",{"$f":"HYPERLINK(\"files\\2010.\"&Herstellerauswahl!$C$4,\"BMW 3er Touring, 325d, F31 (LCI), 218 PS / 160 kW\")","v":"BMW 3er Touring, 325d, F31 (LCI), 218 PS / 160 kW"},{"$f":"HYPERLINK(\"files\\2010.\"&Herstellerauswahl!$C$4,\"Auswahl / Select 2010\")","v":"Auswahl / Select 2010"}]
["0005/BPC",{"$f":"HYPERLINK(\"files\\2010.\"&Herstellerauswahl!$C$4,\"BMW 3er Touring, 325d, F31 (LCI), 224 PS / 165 kW\")","v":"BMW 3er Touring, 325d, F31 (LCI), 224 PS / 165 kW"},{"$f":"HYPERLINK(\"files\\2010.\"&Herstellerauswahl!$C$4,\"Auswahl / Select 2010\")","v":"Auswahl / Select 2010"}]
["0005/BLB",{"$f":"HYPERLINK(\"files\\2010.\"&Herstellerauswahl!$C$4,\"BMW 3er Touring, 330d, F31 (LCI), 258 PS / 190 kW\")","v":"BMW 3er Touring, 330d, F31 (LCI), 258 PS / 190 kW"},{"$f":"HYPERLINK(\"files\\2010.\"&Herstellerauswahl!$C$4,\"Auswahl / Select 2010\")","v":"Auswahl / Select 2010"}]
["0005/BPK",{"$f":"HYPERLINK(\"files\\2010.\"&Herstellerauswahl!$C$4,\"BMW 3er Touring, 330d xDrive, F31 (LCI), 258 PS / 190 kW\")","v":"BMW 3er Touring, 330d xDrive, F31 (LCI), 258 PS / 190 kW"},{"$f":"HYPERLINK(\"files\\2010.\"&Herstellerauswahl!$C$4,\"Auswahl / Select 2010\")","v":"Auswahl / Select 2010"}]
["0005/CDG",{"$f":"HYPERLINK(\"files\\2010.\"&Herstellerauswahl!$C$4,\"BMW 3er Touring, 330i, F31 (LCI), 252 PS / 185 kW\")","v":"BMW 3er Touring, 330i, F31 (LCI), 252 PS / 185 kW"},{"$f":"HYPERLINK(\"files\\2010.\"&Herstellerauswahl!$C$4,\"Auswahl / Select 2010\")","v":"Auswahl / Select 2010"}]
["0005/CDM",{"$f":"HYPERLINK(\"files\\2010.\"&Herstellerauswahl!$C$4,\"BMW 3er Touring, 330i xDrive, F31 (LCI), 252 PS / 185 kW\")","v":"BMW 3er Touring, 330i xDrive, F31 (LCI), 252 PS / 185 kW"},{"$f":"HYPERLINK(\"files\\2010.\"&Herstellerauswahl!$C$4,\"Auswahl / Select 2010\")","v":"Auswahl / Select 2010"}]
["0005/BSL",{"$f":"HYPERLINK(\"files\\2018.\"&Herstellerauswahl!$C$4,\"BMW 3er Touring, 335d xDrive, F31 (LCI), 313 PS / 230 kW\")","v":"BMW 3er Touring, 335d xDrive, F31 (LCI), 313 PS / 230 kW"},{"$f":"HYPERLINK(\"files\\2018.\"&Herstellerauswahl!$C$4,\"Auswahl / Select 2018\")","v":"Auswahl / Select 2018"}]
["0005/CDH",{"$f":"HYPERLINK(\"files\\2018.\"&Herstellerauswahl!$C$4,\"BMW 3er Touring, 340i, F31 (LCI), 326 PS / 240 kW\")","v":"BMW 3er Touring, 340i, F31 (LCI), 326 PS / 240 kW"},{"$f":"HYPERLINK(\"files\\2018.\"&Herstellerauswahl!$C$4,\"Auswahl / Select 2018\")","v":"Auswahl / Select 2018"}]
["0005/CFF",{"$f":"HYPERLINK(\"files\\2018.\"&Herstellerauswahl!$C$4,\"BMW 3er Touring, 340i, F31 (LCI), 360 PS / 265 kW\")","v":"BMW 3er Touring, 340i, F31 (LCI), 360 PS / 265 kW"},{"$f":"HYPERLINK(\"files\\2018.\"&Herstellerauswahl!$C$4,\"Auswahl / Select 2018\")","v":"Auswahl / Select 2018"}]
["0005/CDN",{"$f":"HYPERLINK(\"files\\2018.\"&Herstellerauswahl!$C$4,\"BMW 3er Touring, 340i xDrive, F31 (LCI), 326 PS / 240 kW\")","v":"BMW 3er Touring, 340i xDrive, F31 (LCI), 326 PS / 240 kW"},{"$f":"HYPERLINK(\"files\\2018.\"&Herstellerauswahl!$C$4,\"Auswahl / Select 2018\")","v":"Auswahl / Select 2018"}]
["0005/CFG",{"$f":"HYPERLINK(\"files\\2018.\"&Herstellerauswahl!$C$4,\"BMW 3er Touring, 340i xDrive, F31 (LCI), 360 PS / 265 kW\")","v":"BMW 3er Touring, 340i xDrive, F31 (LCI), 360 PS / 265 kW"},{"$f":"HYPERLINK(\"files\\2018.\"&Herstellerauswahl!$C$4,\"Auswahl / Select 2018\")","v":"Auswahl / Select 2018"}]

{"sheet":"F34 Gran Turismo","index":45,"n_rows":32,"n_cols":4,"rows_kept":32,"cut":false,"hidden":false,"merged":[]}
[]
[]
["TSN/HSN","Motorauswahl für F34 Gran Turismo","Home","Zurück / back"]
[]
["0005/BON",{"$f":"HYPERLINK(\"files\\2017.\"&Herstellerauswahl!$C$4,\"BMW 3er Gran Turismo, 318d, F34, 136 PS / 100 kW\")","v":"BMW 3er Gran Turismo, 318d, F34, 136 PS / 100 kW"},{"$f":"HYPERLINK(\"files\\2017.\"&Herstellerauswahl!$C$4,\"Auswahl / Select 2017\")","v":"Auswahl / Select 2017"}]
["0005/BOM",{"$f":"HYPERLINK(\"files\\2017.\"&Herstellerauswahl!$C$4,\"BMW 3er Gran Turismo, 318d, F34, 143 PS / 105 kW\")","v":"BMW 3er Gran Turismo, 318d, F34, 143 PS / 105 kW"},{"$f":"HYPERLINK(\"files\\2017.\"&Herstellerauswahl!$C$4,\"Auswahl / Select 2017\")","v":"Auswahl / Select 2017"}]
["0005/CCS",{"$f":"HYPERLINK(\"files\\2017.\"&Herstellerauswahl!$C$4,\"BMW 3er Gran Turismo, 318d, F34, 150 PS / 110 kW\")","v":"BMW 3er Gran Turismo, 318d, F34, 150 PS / 110 kW"},{"$f":"HYPERLINK(\"files\\2017.\"&Herstellerauswahl!$C$4,\"Auswahl / Select 2017\")","v":"Auswahl / Select 2017"}]
["0005/BOP",{"$f":"HYPERLINK(\"files\\2017.\"&Herstellerauswahl!$C$4,\"BMW 3er Gran Turismo, 320d, F34, 163 PS / 120 kW\")","v":"BMW 3er Gran Turismo, 320d, F34, 163 PS / 120 kW"},{"$f":"HYPERLINK(\"files\\2017.\"&Herstellerauswahl!$C$4,\"Auswahl / Select 2017\")","v":"Auswahl / Select 2017"}]
["0005/BDW/BOO",{"$f":"HYPERLINK(\"files\\2017.\"&Herstellerauswahl!$C$4,\"BMW 3er Gran Turismo, 320d, F34, 184 PS / 135 kW\")","v":"BMW 3er Gran Turismo, 320d, F34, 184 PS / 135 kW"},{"$f":"HYPERLINK(\"files\\2017.\"&Herstellerauswahl!$C$4,\"Auswahl / Select 2017\")","v":"Auswahl / Select 2017"}]
["0005/CCT",{"$f":"HYPERLINK(\"files\\2017.\"&Herstellerauswahl!$C$4,\"BMW 3er Gran Turismo, 320d, F34, 190 PS / 140 kW\")","v":"BMW 3er Gran Turismo, 320d, F34, 190 PS / 140 kW"},{"$f":"HYPERLINK(\"files\\2017.\"&Herstellerauswahl!$C$4,\"Auswahl / Select 2017\")","v":"Auswahl / Select 2017"}]
["0005/BOQ",{"$f":"HYPERLINK(\"files\\2017.\"&Herstellerauswahl!$C$4,\"BMW 3er Gran Turismo, 320d, F34, 200 PS / 147 kW\")","v":"BMW 3er Gran Turismo, 320d, F34, 200 PS / 147 kW"},{"$f":"HYPERLINK(\"files\\2017.\"&Herstellerauswahl!$C$4,\"Auswahl / Select 2017\")","v":"Auswahl / Select 2017"}]
["0005/CCU",{"$f":"HYPERLINK(\"files\\2017.\"&Herstellerauswahl!$C$4,\"BMW 3er Gran Turismo, 320d, F34, 205 PS / 151 kW\")","v":"BMW 3er Gran Turismo, 320d, F34, 205 PS / 151 kW"},{"$f":"HYPERLINK(\"files\\2017.\"&Herstellerauswahl!$C$4,\"Auswahl / Select 2017\")","v":"Auswahl / Select 2017"}]
["0005/BQW",{"$f":"HYPERLINK(\"files\\2017.\"&Herstellerauswahl!$C$4,\"BMW 3er Gran Turismo, 320d xDrive, F34, 163 PS / 120 kW\")","v":"BMW 3er Gran Turismo, 320d xDrive, F34, 163 PS / 120 kW"},{"$f":"HYPERLINK(\"files\\2017.\"&Herstellerauswahl!$C$4,\"Auswahl / Select 2017\")","v":"Auswahl / Select 2017"}]
["0005/BQV",{"$f":"HYPERLINK(\"files\\2017.\"&Herstellerauswahl!$C$4,\"BMW 3er Gran Turismo, 320d xDrive, F34, 184 PS / 135 kW\")","v":"BMW 3er Gran Turismo, 320d xDrive, F34, 184 PS / 135 kW"},{"$f":"HYPERLINK(\"files\\2017.\"&Herstellerauswahl!$C$4,\"Auswahl / Select 2017\")","v":"Auswahl / Select 2017"}]
["0005/CCV",{"$f":"HYPERLINK(\"files\\2017.\"&Herstellerauswahl!$C$4,\"BMW 3er Gran Turismo, 320d xDrive, F34, 190 PS / 140 kW\")","v":"BMW 3er Gran Turismo, 320d xDrive, F34, 190 PS / 140 kW"},{"$f":"HYPERLINK(\"files\\2017.\"&Herstellerauswahl!$C$4,\"Auswahl / Select 2017\")","v":"Auswahl / Select 2017"}]
["0005/BQX",{"$f":"HYPERLINK(\"files\\2017.\"&Herstellerauswahl!$C$4,\"BMW 3er Gran Turismo, 320d xDrive, F34, 200 PS / 147 kW\")","v":"BMW 3er Gran Turismo, 320d xDrive, F34, 200 PS / 147 kW"},{"$f":"HYPERLINK(\"files\\2017.\"&Herstellerauswahl!$C$4,\"Auswahl / Select 2017\")","v":"Auswahl / Select 2017"}]
["0005/CCW",{"$f":"HYPERLINK(\"files\\2017.\"&Herstellerauswahl!$C$4,\"BMW 3er Gran Turismo, 320d xDrive, F34, 205 PS / 151 kW\")","v":"BMW 3er Gran Turismo, 320d xDrive, F34, 205 PS / 151 kW"},{"$f":"HYPERLINK(\"files\\2017.\"&Herstellerauswahl!$C$4,\"Auswahl / Select 2017\")","v":"Auswahl / Select 2017"}]
["0005/BOI",{"$f":"HYPERLINK(\"files\\2017.\"&Herstellerauswahl!$C$4,\"BMW 3er Gran Turismo, 320i, F34, 163 PS / 120 kW\")","v":"BMW 3er Gran Turismo, 320i, F34, 163 PS / 120 kW"},{"$f":"HYPERLINK(\"files\\2017.\"&Herstellerauswahl!$C$4,\"Auswahl / Select 2017\")","v":"Auswahl / Select 2017"}]
["0005/BOH",{"$f":"HYPERLINK(\"files\\2017.\"&Herstellerauswahl!$C$4,\"BMW 3er Gran Turismo, 320i, F34, 184 PS / 135 kW\")","v":"BMW 3er Gran Turismo, 320i, F34, 184 PS / 135 kW"},{"$f":"HYPERLINK(\"files\\2017.\"&Herstellerauswahl!$C$4,\"Auswahl / Select 2017\")","v":"Auswahl / Select 2017"}]
["0005/BQS",{"$f":"HYPERLINK(\"files\\2017.\"&Herstellerauswahl!$C$4,\"BMW 3er Gran Turismo, 320i xDrive, F34, 163 PS / 120 kW\")","v":"BMW 3er Gran Turismo, 320i xDrive, F34, 163 PS / 120 kW"},{"$f":"HYPERLINK(\"files\\2017.\"&Herstellerauswahl!$C$4,\"Auswahl / Select 2017\")","v":"Auswahl / Select 2017"}]
["0005/BQR",{"$f":"HYPERLINK(\"files\\2017.\"&Herstellerauswahl!$C$4,\"BMW 3er Gran Turismo, 320i xDrive, F34, 184 PS / 135 kW\")","v":"BMW 3er Gran Turismo, 320i xDrive, F34, 184 PS / 135 kW"},{"$f":"HYPERLINK(\"files\\2017.\"&Herstellerauswahl!$C$4,\"Auswahl / Select 2017\")","v":"Auswahl / Select 2017"}]
["0005/BQY",{"$f":"HYPERLINK(\"files\\2017.\"&Herstellerauswahl!$C$4,\"BMW 3er Gran Turismo, 325d, F34, 211 PS / 155 kW\")","v":"BMW 3er Gran Turismo, 325d, F34, 211 PS / 155 kW"},{"$f":"HYPERLINK(\"files\\2017.\"&Herstellerauswahl!$C$4,\"Auswahl / Select 2017\")","v":"Auswahl / Select 2017"}]
["0005/BQQ",{"$f":"HYPERLINK(\"files\\2017.\"&Herstellerauswahl!$C$4,\"BMW 3er Gran Turismo, 325d, F34, 218 PS / 160 kW\")","v":"BMW 3er Gran Turismo, 325d, F34, 218 PS / 160 kW"},{"$f":"HYPERLINK(\"files\\2017.\"&Herstellerauswahl!$C$4,\"Auswahl / Select 2017\")","v":"Auswahl / Select 2017"}]
["0005/BOJ",{"$f":"HYPERLINK(\"files\\2017.\"&Herstellerauswahl!$C$4,\"BMW 3er Gran Turismo, 328i, F34, 245 PS / 180 kW\")","v":"BMW 3er Gran Turismo, 328i, F34, 245 PS / 180 kW"},{"$f":"HYPERLINK(\"files\\2017.\"&Herstellerauswahl!$C$4,\"Auswahl / Select 2017\")","v":"Auswahl / Select 2017"}]
["0005/BQT",{"$f":"HYPERLINK(\"files\\2017.\"&Herstellerauswahl!$C$4,\"BMW 3er Gran Turismo, 328i xDrive, F34, 245 PS / 180 kW\")","v":"BMW 3er Gran Turismo, 328i xDrive, F34, 245 PS / 180 kW"},{"$f":"HYPERLINK(\"files\\2017.\"&Herstellerauswahl!$C$4,\"Auswahl / Select 2017\")","v":"Auswahl / Select 2017"}]
["0005/BUE",{"$f":"HYPERLINK(\"files\\2017.\"&Herstellerauswahl!$C$4,\"BMW 3er Gran Turismo, 330d, F34, 258 PS / 190 kW\")","v":"BMW 3er Gran Turismo, 330d, F34, 258 PS / 190 kW"},{"$f":"HYPERLINK(\"files\\2017.\"&Herstellerauswahl!$C$4,\"Auswahl / Select 2017\")","v":"Auswahl / Select 2017"}]
["0005/BUF",{"$f":"HYPERLINK(\"files\\2017.\"&Herstellerauswahl!$C$4,\"BMW 3er Gran Turismo, 330d, F34, 286 PS / 210 kW\")","v":"BMW 3er Gran Turismo, 330d, F34, 286 PS / 210 kW"},{"$f":"HYPERLINK(\"files\\2017.\"&Herstellerauswahl!$C$4,\"Auswahl / Select 2017\")","v":"Auswahl / Select 2017"}]
["0005/BUG",{"$f":"HYPERLINK(\"files\\2017.\"&Herstellerauswahl!$C$4,\"BMW 3er Gran Turismo, 330d xDrive, F34, 258 PS / 190 kW\")","v":"BMW 3er Gran Turismo, 330d xDrive, F34, 258 PS / 190 kW"},{"$f":"HYPERLINK(\"files\\2017.\"&Herstellerauswahl!$C$4,\"Auswahl / Select 2017\")","v":"Auswahl / Select 2017"}]
["0005/BUH",{"$f":"HYPERLINK(\"files\\2017.\"&Herstellerauswahl!$C$4,\"BMW 3er Gran Turismo, 330d xDrive, F34, 286 PS / 210 kW\")","v":"BMW 3er Gran Turismo, 330d xDrive, F34, 286 PS / 210 kW"},{"$f":"HYPERLINK(\"files\\2017.\"&Herstellerauswahl!$C$4,\"Auswahl / Select 2017\")","v":"Auswahl / Select 2017"}]
["0005/BUI",{"$f":"HYPERLINK(\"files\\2019.\"&Herstellerauswahl!$C$4,\"BMW 3er Gran Turismo, 335d xDrive, F34, 306 PS / 225 kW\")","v":"BMW 3er Gran Turismo, 335d xDrive, F34, 306 PS / 225 kW"},{"$f":"HYPERLINK(\"files\\2019.\"&Herstellerauswahl!$C$4,\"Auswahl / Select 2019\")","v":"Auswahl / Select 2019"}]
["0005/BOK",{"$f":"HYPERLINK(\"files\\2019.\"&Herstellerauswahl!$C$4,\"BMW 3er Gran Turismo, 335i, F34, 306 PS / 225 kW\")","v":"BMW 3er Gran Turismo, 335i, F34, 306 PS / 225 kW"},{"$f":"HYPERLINK(\"files\\2019.\"&Herstellerauswahl!$C$4,\"Auswahl / Select 2019\")","v":"Auswahl / Select 2019"}]
["0005/BQU",{"$f":"HYPERLINK(\"files\\2019.\"&Herstellerauswahl!$C$4,\"BMW 3er Gran Turismo, 335i xDrive, F34, 306 PS / 225 kW\")","v":"BMW 3er Gran Turismo, 335i xDrive, F34, 306 PS / 225 kW"},{"$f":"HYPERLINK(\"files\\2019.\"&Herstellerauswahl!$C$4,\"Auswahl / Select 2019\")","v":"Auswahl / Select 2019"}]

{"sheet":"F34 Facelift Gran Turismo","index":46,"n_rows":17,"n_cols":4,"rows_kept":17,"cut":false,"hidden":false,"merged":[]}
[]
[]
["TSN/HSN","Motorauswahl für F34 Facelift Gran Turismo","Home","Zurück / back"]
[]
["0005/CCS",{"$f":"HYPERLINK(\"files\\2017.\"&Herstellerauswahl!$C$4,\"BMW 3er Gran Turismo, 318d, F34 (LCI), 150 PS / 110 kW\")","v":"BMW 3er Gran Turismo, 318d, F34 (LCI), 150 PS / 110 kW"},{"$f":"HYPERLINK(\"files\\2017.\"&Herstellerauswahl!$C$4,\"Auswahl / Select 2017\")","v":"Auswahl / Select 2017"}]
["0005/CCT",{"$f":"HYPERLINK(\"files\\2017.\"&Herstellerauswahl!$C$4,\"BMW 3er Gran Turismo, 320d, F34 (LCI), 190 PS / 140 kW\")","v":"BMW 3er Gran Turismo, 320d, F34 (LCI), 190 PS / 140 kW"},{"$f":"HYPERLINK(\"files\\2017.\"&Herstellerauswahl!$C$4,\"Auswahl / Select 2017\")","v":"Auswahl / Select 2017"}]
["0005/CCV",{"$f":"HYPERLINK(\"files\\2017.\"&Herstellerauswahl!$C$4,\"BMW 3er Gran Turismo, 320d xDrive, F34 (LCI), 190 PS / 140 kW\")","v":"BMW 3er Gran Turismo, 320d xDrive, F34 (LCI), 190 PS / 140 kW"},{"$f":"HYPERLINK(\"files\\2017.\"&Herstellerauswahl!$C$4,\"Auswahl / Select 2017\")","v":"Auswahl / Select 2017"}]
["0005/BOH",{"$f":"HYPERLINK(\"files\\2017.\"&Herstellerauswahl!$C$4,\"BMW 3er Gran Turismo, 320i, F34 (LCI), 184 PS / 135 kW\")","v":"BMW 3er Gran Turismo, 320i, F34 (LCI), 184 PS / 135 kW"},{"$f":"HYPERLINK(\"files\\2017.\"&Herstellerauswahl!$C$4,\"Auswahl / Select 2017\")","v":"Auswahl / Select 2017"}]
["0005/BQR",{"$f":"HYPERLINK(\"files\\2017.\"&Herstellerauswahl!$C$4,\"BMW 3er Gran Turismo, 320i xDrive, F34 (LCI), 184 PS / 135 kW\")","v":"BMW 3er Gran Turismo, 320i xDrive, F34 (LCI), 184 PS / 135 kW"},{"$f":"HYPERLINK(\"files\\2017.\"&Herstellerauswahl!$C$4,\"Auswahl / Select 2017\")","v":"Auswahl / Select 2017"}]
["0005/CHS",{"$f":"HYPERLINK(\"files\\2017.\"&Herstellerauswahl!$C$4,\"BMW 3er Gran Turismo, 325d, F34 (LCI), 224 PS / 165 kW\")","v":"BMW 3er Gran Turismo, 325d, F34 (LCI), 224 PS / 165 kW"},{"$f":"HYPERLINK(\"files\\2017.\"&Herstellerauswahl!$C$4,\"Auswahl / Select 2017\")","v":"Auswahl / Select 2017"}]
["0005/BUE",{"$f":"HYPERLINK(\"files\\2017.\"&Herstellerauswahl!$C$4,\"BMW 3er Gran Turismo, 330d, F34 (LCI), 258 PS / 190 kW\")","v":"BMW 3er Gran Turismo, 330d, F34 (LCI), 258 PS / 190 kW"},{"$f":"HYPERLINK(\"files\\2017.\"&Herstellerauswahl!$C$4,\"Auswahl / Select 2017\")","v":"Auswahl / Select 2017"}]
["0005/BUG",{"$f":"HYPERLINK(\"files\\2017.\"&Herstellerauswahl!$C$4,\"BMW 3er Gran Turismo, 330d xDrive, F34 (LCI), 258 PS / 190 kW\")","v":"BMW 3er Gran Turismo, 330d xDrive, F34 (LCI), 258 PS / 190 kW"},{"$f":"HYPERLINK(\"files\\2017.\"&Herstellerauswahl!$C$4,\"Auswahl / Select 2017\")","v":"Auswahl / Select 2017"}]
["0005/CHR",{"$f":"HYPERLINK(\"files\\2017.\"&Herstellerauswahl!$C$4,\"BMW 3er Gran Turismo, 330i, F34 (LCI), 252 PS / 185 kW\")","v":"BMW 3er Gran Turismo, 330i, F34 (LCI), 252 PS / 185 kW"},{"$f":"HYPERLINK(\"files\\2017.\"&Herstellerauswahl!$C$4,\"Auswahl / Select 2017\")","v":"Auswahl / Select 2017"}]
["0005/CHT",{"$f":"HYPERLINK(\"files\\2017.\"&Herstellerauswahl!$C$4,\"BMW 3er Gran Turismo, 330i xDrive, F34 (LCI), 252 PS / 185 kW\")","v":"BMW 3er Gran Turismo, 330i xDrive, F34 (LCI), 252 PS / 185 kW"},{"$f":"HYPERLINK(\"files\\2017.\"&Herstellerauswahl!$C$4,\"Auswahl / Select 2017\")","v":"Auswahl / Select 2017"}]
["0005/BUI",{"$f":"HYPERLINK(\"files\\2019.\"&Herstellerauswahl!$C$4,\"BMW 3er Gran Turismo, 335d xDrive, F34 (LCI), 313 PS / 230 kW\")","v":"BMW 3er Gran Turismo, 335d xDrive, F34 (LCI), 313 PS / 230 kW"},{"$f":"HYPERLINK(\"files\\2019.\"&Herstellerauswahl!$C$4,\"Auswahl / Select 2019\")","v":"Auswahl / Select 2019"}]
["0005/BOL",{"$f":"HYPERLINK(\"files\\2019.\"&Herstellerauswahl!$C$4,\"BMW 3er Gran Turismo, 340i, F34 (LCI), 326 PS / 240 kW\")","v":"BMW 3er Gran Turismo, 340i, F34 (LCI), 326 PS / 240 kW"},{"$f":"HYPERLINK(\"files\\2019.\"&Herstellerauswahl!$C$4,\"Auswahl / Select 2019\")","v":"Auswahl / Select 2019"}]
["0005/CHC",{"$f":"HYPERLINK(\"files\\2019.\"&Herstellerauswahl!$C$4,\"BMW 3er Gran Turismo, 340i xDrive, F34 (LCI), 326 PS / 240 kW\")","v":"BMW 3er Gran Turismo, 340i xDrive, F34 (LCI), 326 PS / 240 kW"},{"$f":"HYPERLINK(\"files\\2019.\"&Herstellerauswahl!$C$4,\"Auswahl / Select 2019\")","v":"Auswahl / Select 2019"}]

{"sheet":"F80 M Limousine","index":47,"n_rows":6,"n_cols":4,"rows_kept":6,"cut":false,"hidden":false,"merged":[]}
[]
[]
["TSN/HSN","Motorauswahl für F80 M Limousine","Home","Zurück / back"]
[]
["7909/ABG",{"$f":"HYPERLINK(\"files\\3021.\"&Herstellerauswahl!$C$4,\"BMW 3er M Limousine, M3, F80, 431 PS / 317 kW\")","v":"BMW 3er M Limousine, M3, F80, 431 PS / 317 kW"},{"$f":"HYPERLINK(\"files\\3021.\"&Herstellerauswahl!$C$4,\"Auswahl / Select 3021\")","v":"Auswahl / Select 3021"}]
["7909/ABR",{"$f":"HYPERLINK(\"files\\3021.\"&Herstellerauswahl!$C$4,\"BMW 3er M Limousine, M3 Competiton, F80, 450 PS / 331 kW\")","v":"BMW 3er M Limousine, M3 Competiton, F80, 450 PS / 331 kW"},{"$f":"HYPERLINK(\"files\\3021.\"&Herstellerauswahl!$C$4,\"Auswahl / Select 3021\")","v":"Auswahl / Select 3021"}]

{"sheet":"G20 Limousine","index":48,"n_rows":36,"n_cols":4,"rows_kept":36,"cut":false,"hidden":false,"merged":[]}
[]
[]
["TSN/HSN","Motorauswahl für G20 Limousine","Home","Zurück / back"]
[]
["0005/CYM",{"$f":"HYPERLINK(\"files\\2012.\"&Herstellerauswahl!$C$4,\"BMW 3er Limousine, 316d, G20, 116 PS / 85 kW\")","v":"BMW 3er Limousine, 316d, G20, 116 PS / 85 kW"},{"$f":"HYPERLINK(\"files\\2012.\"&Herstellerauswahl!$C$4,\"Auswahl / Select 2012\")","v":"Auswahl / Select 2012"}]
["0005/CYL",{"$f":"HYPERLINK(\"files\\2012.\"&Herstellerauswahl!$C$4,\"BMW 3er Limousine, 316d, G20, 122 PS / 90 kW\")","v":"BMW 3er Limousine, 316d, G20, 122 PS / 90 kW"},{"$f":"HYPERLINK(\"files\\2012.\"&Herstellerauswahl!$C$4,\"Auswahl / Select 2012\")","v":"Auswahl / Select 2012"}]
["0005/DDI",{"$f":"HYPERLINK(\"files\\2012.\"&Herstellerauswahl!$C$4,\"BMW 3er Limousine, 316d MHy, G20, 116 PS / 85 kW\")","v":"BMW 3er Limousine, 316d MHy, G20, 116 PS / 85 kW"},{"$f":"HYPERLINK(\"files\\2012.\"&Herstellerauswahl!$C$4,\"Auswahl / Select 2012\")","v":"Auswahl / Select 2012"}]
["0005/DDJ",{"$f":"HYPERLINK(\"files\\2012.\"&Herstellerauswahl!$C$4,\"BMW 3er Limousine, 316d MHy, G20, 122 PS / 90 kW\")","v":"BMW 3er Limousine, 316d MHy, G20, 122 PS / 90 kW"},{"$f":"HYPERLINK(\"files\\2012.\"&Herstellerauswahl!$C$4,\"Auswahl / Select 2012\")","v":"Auswahl / Select 2012"}]
["0005/CYI",{"$f":"HYPERLINK(\"files\\2012.\"&Herstellerauswahl!$C$4,\"BMW 3er Limousine, 318i, G20, 156 PS / 115 kW\")","v":"BMW 3er Limousine, 318i, G20, 156 PS / 115 kW"},{"$f":"HYPERLINK(\"files\\2012.\"&Herstellerauswahl!$C$4,\"Auswahl / Select 2012\")","v":"Auswahl / Select 2012"}]
["0005/CTU",{"$f":"HYPERLINK(\"files\\2012.\"&Herstellerauswahl!$C$4,\"BMW 3er Limousine, 318d, G20, 136 PS / 100 kW\")","v":"BMW 3er Limousine, 318d, G20, 136 PS / 100 kW"},{"$f":"HYPERLINK(\"files\\2012.\"&Herstellerauswahl!$C$4,\"Auswahl / Select 2012\")","v":"Auswahl / Select 2012"}]
["0005/CTV",{"$f":"HYPERLINK(\"files\\2012.\"&Herstellerauswahl!$C$4,\"BMW 3er Limousine, 318d, G20, 150 PS / 110 kW\")","v":"BMW 3er Limousine, 318d, G20, 150 PS / 110 kW"},{"$f":"HYPERLINK(\"files\\2012.\"&Herstellerauswahl!$C$4,\"Auswahl / Select 2012\")","v":"Auswahl / Select 2012"}]
["0005/DDK",{"$f":"HYPERLINK(\"files\\2012.\"&Herstellerauswahl!$C$4,\"BMW 3er Limousine, 318d MHy, G20, 136 PS / 100 kW\")","v":"BMW 3er Limousine, 318d MHy, G20, 136 PS / 100 kW"},{"$f":"HYPERLINK(\"files\\2012.\"&Herstellerauswahl!$C$4,\"Auswahl / Select 2012\")","v":"Auswahl / Select 2012"}]
["0005/DDL",{"$f":"HYPERLINK(\"files\\2012.\"&Herstellerauswahl!$C$4,\"BMW 3er Limousine, 318d MHy, G20, 150 PS / 110 kW\")","v":"BMW 3er Limousine, 318d MHy, G20, 150 PS / 110 kW"},{"$f":"HYPERLINK(\"files\\2012.\"&Herstellerauswahl!$C$4,\"Auswahl / Select 2012\")","v":"Auswahl / Select 2012"}]
["0005/CTW",{"$f":"HYPERLINK(\"files\\2012.\"&Herstellerauswahl!$C$4,\"BMW 3er Limousine, 320d, G20, 163 PS / 120 kW\")","v":"BMW 3er Limousine, 320d, G20, 163 PS / 120 kW"},{"$f":"HYPERLINK(\"files\\2012.\"&Herstellerauswahl!$C$4,\"Auswahl / Select 2012\")","v":"Auswahl / Select 2012"}]
["0005/CTX",{"$f":"HYPERLINK(\"files\\2012.\"&Herstellerauswahl!$C$4,\"BMW 3er Limousine, 320d, G20, 190 PS / 140 kW\")","v":"BMW 3er Limousine, 320d, G20, 190 PS / 140 kW"},{"$f":"HYPERLINK(\"files\\2012.\"&Herstellerauswahl!$C$4,\"Auswahl / Select 2012\")","v":"Auswahl / Select 2012"}]
["0005/CTZ",{"$f":"HYPERLINK(\"files\\2012.\"&Herstellerauswahl!$C$4,\"BMW 3er Limousine, 320d xDrive, G20, 190 PS / 140 kW\")","v":"BMW 3er Limousine, 320d xDrive, G20, 190 PS / 140 kW"},{"$f":"HYPERLINK(\"files\\2012.\"&Herstellerauswahl!$C$4,\"Auswahl / Select 2012\")","v":"Auswahl / Select 2012"}]
["0005/CYO",{"$f":"HYPERLINK(\"files\\2012.\"&Herstellerauswahl!$C$4,\"BMW 3er Limousine, 320d Mhy, G20, 163 PS / 120 kW\")","v":"BMW 3er Limousine, 320d Mhy, G20, 163 PS / 120 kW"},{"$f":"HYPERLINK(\"files\\2012.\"&Herstellerauswahl!$C$4,\"Auswahl / Select 2012\")","v":"Auswahl / Select 2012"}]
["0005/CYN",{"$f":"HYPERLINK(\"files\\2012.\"&Herstellerauswahl!$C$4,\"BMW 3er Limousine, 320d Mhy, G20, 190 PS / 140 kW\")","v":"BMW 3er Limousine, 320d Mhy, G20, 190 PS / 140 kW"},{"$f":"HYPERLINK(\"files\\2012.\"&Herstellerauswahl!$C$4,\"Auswahl / Select 2012\")","v":"Auswahl / Select 2012"}]
["0005/CTY",{"$f":"HYPERLINK(\"files\\2012.\"&Herstellerauswahl!$C$4,\"BMW 3er Limousine, 320d xDrive, G20, 163 PS / 120 kW\")","v":"BMW 3er Limousine, 320d xDrive, G20, 163 PS / 120 kW"},{"$f":"HYPERLINK(\"files\\2012.\"&Herstellerauswahl!$C$4,\"Auswahl / Select 2012\")","v":"Auswahl / Select 2012"}]
["0005/CYQ",{"$f":"HYPERLINK(\"files\\2012.\"&Herstellerauswahl!$C$4,\"BMW 3er Limousine, 320d Mhy xDrive, G20, 163 PS / 120 kW\")","v":"BMW 3er Limousine, 320d Mhy xDrive, G20, 163 PS / 120 kW"},{"$f":"HYPERLINK(\"files\\2012.\"&Herstellerauswahl!$C$4,\"Auswahl / Select 2012\")","v":"Auswahl / Select 2012"}]
["0005/CYP",{"$f":"HYPERLINK(\"files\\2012.\"&Herstellerauswahl!$C$4,\"BMW 3er Limousine, 320d Mhy xDrive, G20, 190 PS / 140 kW\")","v":"BMW 3er Limousine, 320d Mhy xDrive, G20, 190 PS / 140 kW"},{"$f":"HYPERLINK(\"files\\2012.\"&Herstellerauswahl!$C$4,\"Auswahl / Select 2012\")","v":"Auswahl / Select 2012"}]
["0005/CTO",{"$f":"HYPERLINK(\"files\\2012.\"&Herstellerauswahl!$C$4,\"BMW 3er Limousine, 320i, G20, 170 PS / 125 kW\")","v":"BMW 3er Limousine, 320i, G20, 170 PS / 125 kW"},{"$f":"HYPERLINK(\"files\\2012.\"&Herstellerauswahl!$C$4,\"Auswahl / Select 2012\")","v":"Auswahl / Select 2012"}]
["0005/CTS",{"$f":"HYPERLINK(\"files\\2012.\"&Herstellerauswahl!$C$4,\"BMW 3er Limousine, 320i, G20, 184 PS / 135 kW\")","v":"BMW 3er Limousine, 320i, G20, 184 PS / 135 kW"},{"$f":"HYPERLINK(\"files\\2012.\"&Herstellerauswahl!$C$4,\"Auswahl / Select 2012\")","v":"Auswahl / Select 2012"}]
["0005/CVL",{"$f":"HYPERLINK(\"files\\2012.\"&Herstellerauswahl!$C$4,\"BMW 3er Limousine, 320i xDrive, G20, 184 PS / 135 kW\")","v":"BMW 3er Limousine, 320i xDrive, G20, 184 PS / 135 kW"},{"$f":"HYPERLINK(\"files\\2012.\"&Herstellerauswahl!$C$4,\"Auswahl / Select 2012\")","v":"Auswahl / Select 2012"}]
["0005/CYJ",{"$f":"HYPERLINK(\"files\\2012.\"&Herstellerauswahl!$C$4,\"BMW 3er Limousine, 320e, G20, 163 PS / 120 kW\")","v":"BMW 3er Limousine, 320e, G20, 163 PS / 120 kW"},{"$f":"HYPERLINK(\"files\\2012.\"&Herstellerauswahl!$C$4,\"Auswahl / Select 2012\")","v":"Auswahl / Select 2012"}]
["0005/CTT",{"$f":"HYPERLINK(\"files\\2012.\"&Herstellerauswahl!$C$4,\"BMW 3er Limousine, 330i, G20, 258 PS / 190 kW\")","v":"BMW 3er Limousine, 330i, G20, 258 PS / 190 kW"},{"$f":"HYPERLINK(\"files\\2012.\"&Herstellerauswahl!$C$4,\"Auswahl / Select 2012\")","v":"Auswahl / Select 2012"}]
["0005/CVO",{"$f":"HYPERLINK(\"files\\2012.\"&Herstellerauswahl!$C$4,\"BMW 3er Limousine, 330i xDrive, G20, 258 PS / 190 kW\")","v":"BMW 3er Limousine, 330i xDrive, G20, 258 PS / 190 kW"},{"$f":"HYPERLINK(\"files\\2012.\"&Herstellerauswahl!$C$4,\"Auswahl / Select 2012\")","v":"Auswahl / Select 2012"}]
["0005/CUA",{"$f":"HYPERLINK(\"files\\2012.\"&Herstellerauswahl!$C$4,\"BMW 3er Limousine, 330d, G20, 265 PS / 195 kW\")","v":"BMW 3er Limousine, 330d, G20, 265 PS / 195 kW"},{"$f":"HYPERLINK(\"files\\2012.\"&Herstellerauswahl!$C$4,\"Auswahl / Select 2012\")","v":"Auswahl / Select 2012"}]
["0005/CYR",{"$f":"HYPERLINK(\"files\\2012.\"&Herstellerauswahl!$C$4,\"BMW 3er Limousine, 330d MHy, G20, 286 PS / 210 kW\")","v":"BMW 3er Limousine, 330d MHy, G20, 286 PS / 210 kW"},{"$f":"HYPERLINK(\"files\\2012.\"&Herstellerauswahl!$C$4,\"Auswahl / Select 2012\")","v":"Auswahl / Select 2012"}]
["0005/CVR",{"$f":"HYPERLINK(\"files\\2012.\"&Herstellerauswahl!$C$4,\"BMW 3er Limousine, 330d xDrive, G20, 265 PS / 195 kW\")","v":"BMW 3er Limousine, 330d xDrive, G20, 265 PS / 195 kW"},{"$f":"HYPERLINK(\"files\\2012.\"&Herstellerauswahl!$C$4,\"Auswahl / Select 2012\")","v":"Auswahl / Select 2012"}]
["0005/CYS",{"$f":"HYPERLINK(\"files\\2012.\"&Herstellerauswahl!$C$4,\"BMW 3er Limousine, 330d MHy xDrive, G20, 286 PS / 210 kW\")","v":"BMW 3er Limousine, 330d MHy xDrive, G20, 286 PS / 210 kW"},{"$f":"HYPERLINK(\"files\\2012.\"&Herstellerauswahl!$C$4,\"Auswahl / Select 2012\")","v":"Auswahl / Select 2012"}]
["0005/CVQ",{"$f":"HYPERLINK(\"files\\2012.\"&Herstellerauswahl!$C$4,\"BMW 3er Limousine, 330e, G20, 184 PS / 135 kW\")","v":"BMW 3er Limousine, 330e, G20, 184 PS / 135 kW"},{"$f":"HYPERLINK(\"files\\2012.\"&Herstellerauswahl!$C$4,\"Auswahl / Select 2012\")","v":"Auswahl / Select 2012"}]
["0005/CYK",{"$f":"HYPERLINK(\"files\\2012.\"&Herstellerauswahl!$C$4,\"BMW 3er Limousine, 330e xDrive, G20, 184 PS / 135 kW\")","v":"BMW 3er Limousine, 330e xDrive, G20, 184 PS / 135 kW"},{"$f":"HYPERLINK(\"files\\2012.\"&Herstellerauswahl!$C$4,\"Auswahl / Select 2012\")","v":"Auswahl / Select 2012"}]
["0005/CYT",{"$f":"HYPERLINK(\"files\\2012.\"&Herstellerauswahl!$C$4,\"BMW 3er Limousine, M340d xDrive, G20, 340 PS / 250 kW\")","v":"BMW 3er Limousine, M340d xDrive, G20, 340 PS / 250 kW"},{"$f":"HYPERLINK(\"files\\2012.\"&Herstellerauswahl!$C$4,\"Auswahl / Select 2012\")","v":"Auswahl / Select 2012"}]
["0005/CVP",{"$f":"HYPERLINK(\"files\\2012.\"&Herstellerauswahl!$C$4,\"BMW 3er Limousine, M340i xDrive, G20, 374 PS / 275 kW\")","v":"BMW 3er Limousine, M340i xDrive, G20, 374 PS / 275 kW"},{"$f":"HYPERLINK(\"files\\2012.\"&Herstellerauswahl!$C$4,\"Auswahl / Select 2012\")","v":"Auswahl / Select 2012"}]
["0005/DEO",{"$f":"HYPERLINK(\"files\\2012.\"&Herstellerauswahl!$C$4,\"BMW 3er Limousine, M340i MHy xDrive, G20, 374 PS / 275 kW\")","v":"BMW 3er Limousine, M340i MHy xDrive, G20, 374 PS / 275 kW"},{"$f":"HYPERLINK(\"files\\2012.\"&Herstellerauswahl!$C$4,\"Auswahl / Select 2012\")","v":"Auswahl / Select 2012"}]

{"sheet":"G21 Touring","index":49,"n_rows":35,"n_cols":4,"rows_kept":35,"cut":false,"hidden":false,"merged":[]}
[]
[]
["TSN/HSN","Motorauswahl für G21 Touring","Home","Zurück / back"]
[]
["0005/DDE",{"$f":"HYPERLINK(\"files\\2014.\"&Herstellerauswahl!$C$4,\"BMW 3er Touring, 316d MHy, G21, 116 PS / 85 kW\")","v":"BMW 3er Touring, 316d MHy, G21, 116 PS / 85 kW"},{"$f":"HYPERLINK(\"files\\2014.\"&Herstellerauswahl!$C$4,\"Auswahl / Select 2014\")","v":"Auswahl / Select 2014"}]
["0005/DDF",{"$f":"HYPERLINK(\"files\\2014.\"&Herstellerauswahl!$C$4,\"BMW 3er Touring, 316d MHy, G21, 122 PS / 90 kW\")","v":"BMW 3er Touring, 316d MHy, G21, 122 PS / 90 kW"},{"$f":"HYPERLINK(\"files\\2014.\"&Herstellerauswahl!$C$4,\"Auswahl / Select 2014\")","v":"Auswahl / Select 2014"}]
["0005/CZC",{"$f":"HYPERLINK(\"files\\2014.\"&Herstellerauswahl!$C$4,\"BMW 3er Touring, 316d, G21, 116 PS / 85 kW\")","v":"BMW 3er Touring, 316d, G21, 116 PS / 85 kW"},{"$f":"HYPERLINK(\"files\\2014.\"&Herstellerauswahl!$C$4,\"Auswahl / Select 2014\")","v":"Auswahl / Select 2014"}]
["0005/CZB",{"$f":"HYPERLINK(\"files\\2014.\"&Herstellerauswahl!$C$4,\"BMW 3er Touring, 316d, G21, 122 PS / 90 kW\")","v":"BMW 3er Touring, 316d, G21, 122 PS / 90 kW"},{"$f":"HYPERLINK(\"files\\2014.\"&Herstellerauswahl!$C$4,\"Auswahl / Select 2014\")","v":"Auswahl / Select 2014"}]
["0005/CVX",{"$f":"HYPERLINK(\"files\\2014.\"&Herstellerauswahl!$C$4,\"BMW 3er Touring, 318d, G21, 136 PS / 100 kW\")","v":"BMW 3er Touring, 318d, G21, 136 PS / 100 kW"},{"$f":"HYPERLINK(\"files\\2014.\"&Herstellerauswahl!$C$4,\"Auswahl / Select 2014\")","v":"Auswahl / Select 2014"}]
["0005/CVY",{"$f":"HYPERLINK(\"files\\2014.\"&Herstellerauswahl!$C$4,\"BMW 3er Touring, 318d, G21, 150 PS / 110 kW\")","v":"BMW 3er Touring, 318d, G21, 150 PS / 110 kW"},{"$f":"HYPERLINK(\"files\\2014.\"&Herstellerauswahl!$C$4,\"Auswahl / Select 2014\")","v":"Auswahl / Select 2014"}]
["0005/DDG",{"$f":"HYPERLINK(\"files\\2014.\"&Herstellerauswahl!$C$4,\"BMW 3er Touring, 318d MHy, G21, 136 PS / 100 kW\")","v":"BMW 3er Touring, 318d MHy, G21, 136 PS / 100 kW"},{"$f":"HYPERLINK(\"files\\2014.\"&Herstellerauswahl!$C$4,\"Auswahl / Select 2014\")","v":"Auswahl / Select 2014"}]
["0005/DDH",{"$f":"HYPERLINK(\"files\\2014.\"&Herstellerauswahl!$C$4,\"BMW 3er Touring, 318d MHy, G21, 150 PS / 110 kW\")","v":"BMW 3er Touring, 318d MHy, G21, 150 PS / 110 kW"},{"$f":"HYPERLINK(\"files\\2014.\"&Herstellerauswahl!$C$4,\"Auswahl / Select 2014\")","v":"Auswahl / Select 2014"}]
["0005/CYW",{"$f":"HYPERLINK(\"files\\2014.\"&Herstellerauswahl!$C$4,\"BMW 3er Touring, 318i, G21, 156 PS / 115 kW\")","v":"BMW 3er Touring, 318i, G21, 156 PS / 115 kW"},{"$f":"HYPERLINK(\"files\\2014.\"&Herstellerauswahl!$C$4,\"Auswahl / Select 2014\")","v":"Auswahl / Select 2014"}]
["0005/CVZ",{"$f":"HYPERLINK(\"files\\2014.\"&Herstellerauswahl!$C$4,\"BMW 3er Touring, 320d, G21, 163 PS / 120 kW\")","v":"BMW 3er Touring, 320d, G21, 163 PS / 120 kW"},{"$f":"HYPERLINK(\"files\\2014.\"&Herstellerauswahl!$C$4,\"Auswahl / Select 2014\")","v":"Auswahl / Select 2014"}]
["0005/CWA",{"$f":"HYPERLINK(\"files\\2014.\"&Herstellerauswahl!$C$4,\"BMW 3er Touring, 320d, G21, 190 PS / 140 kW\")","v":"BMW 3er Touring, 320d, G21, 190 PS / 140 kW"},{"$f":"HYPERLINK(\"files\\2014.\"&Herstellerauswahl!$C$4,\"Auswahl / Select 2014\")","v":"Auswahl / Select 2014"}]
["0005/CZE",{"$f":"HYPERLINK(\"files\\2014.\"&Herstellerauswahl!$C$4,\"BMW 3er Touring, 320d MHy, G21, 163 PS / 120 kW\")","v":"BMW 3er Touring, 320d MHy, G21, 163 PS / 120 kW"},{"$f":"HYPERLINK(\"files\\2014.\"&Herstellerauswahl!$C$4,\"Auswahl / Select 2014\")","v":"Auswahl / Select 2014"}]
["0005/CZD",{"$f":"HYPERLINK(\"files\\2014.\"&Herstellerauswahl!$C$4,\"BMW 3er Touring, 320d MHy, G21, 190 PS / 140 kW\")","v":"BMW 3er Touring, 320d MHy, G21, 190 PS / 140 kW"},{"$f":"HYPERLINK(\"files\\2014.\"&Herstellerauswahl!$C$4,\"Auswahl / Select 2014\")","v":"Auswahl / Select 2014"}]
["0005/CWB",{"$f":"HYPERLINK(\"files\\2014.\"&Herstellerauswahl!$C$4,\"BMW 3er Touring, 320d xDrive, G21, 163 PS / 120 kW\")","v":"BMW 3er Touring, 320d xDrive, G21, 163 PS / 120 kW"},{"$f":"HYPERLINK(\"files\\2014.\"&Herstellerauswahl!$C$4,\"Auswahl / Select 2014\")","v":"Auswahl / Select 2014"}]
["0005/CWC",{"$f":"HYPERLINK(\"files\\2014.\"&Herstellerauswahl!$C$4,\"BMW 3er Touring, 320d xDrive, G21, 190 PS / 140 kW\")","v":"BMW 3er Touring, 320d xDrive, G21, 190 PS / 140 kW"},{"$f":"HYPERLINK(\"files\\2014.\"&Herstellerauswahl!$C$4,\"Auswahl / Select 2014\")","v":"Auswahl / Select 2014"}]
["0005/CZG",{"$f":"HYPERLINK(\"files\\2014.\"&Herstellerauswahl!$C$4,\"BMW 3er Touring, 320d MHy xDrive, G21, 163 PS / 120 kW\")","v":"BMW 3er Touring, 320d MHy xDrive, G21, 163 PS / 120 kW"},{"$f":"HYPERLINK(\"files\\2014.\"&Herstellerauswahl!$C$4,\"Auswahl / Select 2014\")","v":"Auswahl / Select 2014"}]
["0005/CZD",{"$f":"HYPERLINK(\"files\\2014.\"&Herstellerauswahl!$C$4,\"BMW 3er Touring, 320d MHy xDrive, G21, 190 PS / 140 kW\")","v":"BMW 3er Touring, 320d MHy xDrive, G21, 190 PS / 140 kW"},{"$f":"HYPERLINK(\"files\\2014.\"&Herstellerauswahl!$C$4,\"Auswahl / Select 2014\")","v":"Auswahl / Select 2014"}]
["0005/CYX",{"$f":"HYPERLINK(\"files\\2014.\"&Herstellerauswahl!$C$4,\"BMW 3er Touring, 320e, G21, 163 PS / 120 kW\")","v":"BMW 3er Touring, 320e, G21, 163 PS / 120 kW"},{"$f":"HYPERLINK(\"files\\2014.\"&Herstellerauswahl!$C$4,\"Auswahl / Select 2014\")","v":"Auswahl / Select 2014"}]
["0005/CYY",{"$f":"HYPERLINK(\"files\\2014.\"&Herstellerauswahl!$C$4,\"BMW 3er Touring, 320e xDrive, G21, 163 PS / 120 kW\")","v":"BMW 3er Touring, 320e xDrive, G21, 163 PS / 120 kW"},{"$f":"HYPERLINK(\"files\\2014.\"&Herstellerauswahl!$C$4,\"Auswahl / Select 2014\")","v":"Auswahl / Select 2014"}]
["0005/CVS",{"$f":"HYPERLINK(\"files\\2014.\"&Herstellerauswahl!$C$4,\"BMW 3er Touring, 320i, G21, 184 PS / 135 kW\")","v":"BMW 3er Touring, 320i, G21, 184 PS / 135 kW"},{"$f":"HYPERLINK(\"files\\2014.\"&Herstellerauswahl!$C$4,\"Auswahl / Select 2014\")","v":"Auswahl / Select 2014"}]
["0005/CWD",{"$f":"HYPERLINK(\"files\\2014.\"&Herstellerauswahl!$C$4,\"BMW 3er Touring, 330d, G21, 265 PS / 195 kW\")","v":"BMW 3er Touring, 330d, G21, 265 PS / 195 kW"},{"$f":"HYPERLINK(\"files\\2014.\"&Herstellerauswahl!$C$4,\"Auswahl / Select 2014\")","v":"Auswahl / Select 2014"}]
["0005/CZH",{"$f":"HYPERLINK(\"files\\2014.\"&Herstellerauswahl!$C$4,\"BMW 3er Touring, 330d MHy, G21, 286 PS / 210 kW\")","v":"BMW 3er Touring, 330d MHy, G21, 286 PS / 210 kW"},{"$f":"HYPERLINK(\"files\\2014.\"&Herstellerauswahl!$C$4,\"Auswahl / Select 2014\")","v":"Auswahl / Select 2014"}]
["0005/CWE",{"$f":"HYPERLINK(\"files\\2014.\"&Herstellerauswahl!$C$4,\"BMW 3er Touring, 330d xDrive, G21, 265 PS / 195 kW\")","v":"BMW 3er Touring, 330d xDrive, G21, 265 PS / 195 kW"},{"$f":"HYPERLINK(\"files\\2014.\"&Herstellerauswahl!$C$4,\"Auswahl / Select 2014\")","v":"Auswahl / Select 2014"}]
["0005/CZI",{"$f":"HYPERLINK(\"files\\2014.\"&Herstellerauswahl!$C$4,\"BMW 3er Touring, 330d MHy xDrive, G21, 286 PS / 210 kW\")","v":"BMW 3er Touring, 330d MHy xDrive, G21, 286 PS / 210 kW"},{"$f":"HYPERLINK(\"files\\2014.\"&Herstellerauswahl!$C$4,\"Auswahl / Select 2014\")","v":"Auswahl / Select 2014"}]
["0005/CYZ",{"$f":"HYPERLINK(\"files\\2014.\"&Herstellerauswahl!$C$4,\"BMW 3er Touring, 330e, G21, 184 PS / 135 kW\")","v":"BMW 3er Touring, 330e, G21, 184 PS / 135 kW"},{"$f":"HYPERLINK(\"files\\2014.\"&Herstellerauswahl!$C$4,\"Auswahl / Select 2014\")","v":"Auswahl / Select 2014"}]
["0005/CZA",{"$f":"HYPERLINK(\"files\\2014.\"&Herstellerauswahl!$C$4,\"BMW 3er Touring, 330e xDrive, G21, 184 PS / 135 kW\")","v":"BMW 3er Touring, 330e xDrive, G21, 184 PS / 135 kW"},{"$f":"HYPERLINK(\"files\\2014.\"&Herstellerauswahl!$C$4,\"Auswahl / Select 2014\")","v":"Auswahl / Select 2014"}]
["0005/CVU",{"$f":"HYPERLINK(\"files\\2014.\"&Herstellerauswahl!$C$4,\"BMW 3er Touring, 330i, G21, 258 PS / 190 kW\")","v":"BMW 3er Touring, 330i, G21, 258 PS / 190 kW"},{"$f":"HYPERLINK(\"files\\2014.\"&Herstellerauswahl!$C$4,\"Auswahl / Select 2014\")","v":"Auswahl / Select 2014"}]
["0005/CVV",{"$f":"HYPERLINK(\"files\\2014.\"&Herstellerauswahl!$C$4,\"BMW 3er Touring, 330i xDrive, G21, 258 PS / 190 kW\")","v":"BMW 3er Touring, 330i xDrive, G21, 258 PS / 190 kW"},{"$f":"HYPERLINK(\"files\\2014.\"&Herstellerauswahl!$C$4,\"Auswahl / Select 2014\")","v":"Auswahl / Select 2014"}]
["0005/CZJ",{"$f":"HYPERLINK(\"files\\2014.\"&Herstellerauswahl!$C$4,\"BMW 3er Touring, M340d xDrive, G21, 340 PS / 250 kW\")","v":"BMW 3er Touring, M340d xDrive, G21, 340 PS / 250 kW"},{"$f":"HYPERLINK(\"files\\2014.\"&Herstellerauswahl!$C$4,\"Auswahl / Select 2014\")","v":"Auswahl / Select 2014"}]
["0005/CVW",{"$f":"HYPERLINK(\"files\\2014.\"&Herstellerauswahl!$C$4,\"BMW 3er Touring, M340i xDrive, G21, 374 PS / 275 kW\")","v":"BMW 3er Touring, M340i xDrive, G21, 374 PS / 275 kW"},{"$f":"HYPERLINK(\"files\\2014.\"&Herstellerauswahl!$C$4,\"Auswahl / Select 2014\")","v":"Auswahl / Select 2014"}]
["0005/DEN",{"$f":"HYPERLINK(\"files\\2014.\"&Herstellerauswahl!$C$4,\"BMW 3er Touring, M340i MHy xDrive, G21, 374 PS / 275 kW\")","v":"BMW 3er Touring, M340i MHy xDrive, G21, 374 PS / 275 kW"},{"$f":"HYPERLINK(\"files\\2014.\"&Herstellerauswahl!$C$4,\"Auswahl / Select 2014\")","v":"Auswahl / Select 2014"}]

{"sheet":"G80 M Limousine","index":50,"n_rows":7,"n_cols":4,"rows_kept":7,"cut":false,"hidden":false,"merged":[]}
[]
[]
["TSN/HSN","Motorauswahl für G80 M Limousine","Home","Zurück / back"]
[]
["7909/ACU",{"$f":"HYPERLINK(\"files\\2022.\"&Herstellerauswahl!$C$4,\"BMW 3er M Limousine, M3, Typ G80, 480 PS / 353 kW\")","v":"BMW 3er M Limousine, M3, Typ G80, 480 PS / 353 kW"},{"$f":"HYPERLINK(\"files\\2022.\"&Herstellerauswahl!$C$4,\"Auswahl / Select 2022\")","v":"Auswahl / Select 2022"}]
["7909/ACV",{"$f":"HYPERLINK(\"files\\2022.\"&Herstellerauswahl!$C$4,\"BMW 3er M Limousine Competition, M3, Typ G80, 510 PS / 375 kW\")","v":"BMW 3er M Limousine Competition, M3, Typ G80, 510 PS / 375 kW"},{"$f":"HYPERLINK(\"files\\2022.\"&Herstellerauswahl!$C$4,\"Auswahl / Select 2022\")","v":"Auswahl / Select 2022"}]
["7909/ACZ",{"$f":"HYPERLINK(\"files\\2022.\"&Herstellerauswahl!$C$4,\"BMW 3er M Limousine Competition, M3 xDrive, Typ G80, 510 PS / 375 kW\")","v":"BMW 3er M Limousine Competition, M3 xDrive, Typ G80, 510 PS / 375 kW"},{"$f":"HYPERLINK(\"files\\2022.\"&Herstellerauswahl!$C$4,\"Auswahl / Select 2022\")","v":"Auswahl / Select 2022"}]

{"sheet":"BMW 4er","index":51,"n_rows":20,"n_cols":4,"rows_kept":20,"cut":false,"hidden":false,"merged":[]}
[]
[]
[null,"Typauswahl für BMW 4er","Home","Zurück / back"]
[]
[null,"F32 Coupe","Auswahl / Select"]
[null,"F32 Facelift Coupe","Auswahl / Select"]
[null,"F33 Cabrio","Auswahl / Select"]
[null,"F33 Facelift Cabrio","Auswahl / Select"]
[null,"F36 Gran Coupe","Auswahl / Select"]
[null,"F36 Facelift Gran Coupe","Auswahl / Select"]
[null,"F82 M Coupe","Auswahl / Select"]
[null,"F82 Facelift M Coupe","Auswahl / Select"]
[null,"F83 M Cabrio","Auswahl / Select"]
[null,"F83 Facelift M Cabrio","Auswahl / Select"]
[null,"G22 Coupe","Auswahl / Select"]
[null,"G23 Cabrio","Auswahl / Select"]
[null,"G26 Gran Coupe","Auswahl / Select"]
[null,"i4 G26 Gran Coupe","Auswahl / Select"]
[null,"G82 M Coupe","Auswahl / Select"]
[null,"G83 M Cabrio","Auswahl / Select"]

{"sheet":"F32 Coupe","index":52,"n_rows":18,"n_cols":4,"rows_kept":18,"cut":false,"hidden":false,"merged":[]}
[]
[]
["TSN/HSN","Motorauswahl für F32 Coupe","Home","Zurück / back"]
[]
["0005/BTC",{"$f":"HYPERLINK(\"files\\4050.\"&Herstellerauswahl!$C$4,\"BMW 4er Coupe, 420d, F32, 184 PS / 135 kW\")","v":"BMW 4er Coupe, 420d, F32, 184 PS / 135 kW"},{"$f":"HYPERLINK(\"files\\4050.\"&Herstellerauswahl!$C$4,\"Auswahl / Select 4050\")","v":"Auswahl / Select 4050"}]
["0005/BVV",{"$f":"HYPERLINK(\"files\\4050.\"&Herstellerauswahl!$C$4,\"BMW 4er Coupe, 420i, F32, 184 PS / 135 kW\")","v":"BMW 4er Coupe, 420i, F32, 184 PS / 135 kW"},{"$f":"HYPERLINK(\"files\\4050.\"&Herstellerauswahl!$C$4,\"Auswahl / Select 4050\")","v":"Auswahl / Select 4050"}]
["0005/BVX",{"$f":"HYPERLINK(\"files\\4050.\"&Herstellerauswahl!$C$4,\"BMW 4er Coupe, 425d, F32, 218 PS / 160 kW\")","v":"BMW 4er Coupe, 425d, F32, 218 PS / 160 kW"},{"$f":"HYPERLINK(\"files\\4050.\"&Herstellerauswahl!$C$4,\"Auswahl / Select 4050\")","v":"Auswahl / Select 4050"}]
["0005/BTB",{"$f":"HYPERLINK(\"files\\4050.\"&Herstellerauswahl!$C$4,\"BMW 4er Coupe, 428i, F32, 245 PS / 180 kW\")","v":"BMW 4er Coupe, 428i, F32, 245 PS / 180 kW"},{"$f":"HYPERLINK(\"files\\4050.\"&Herstellerauswahl!$C$4,\"Auswahl / Select 4050\")","v":"Auswahl / Select 4050"}]
["0005/BVZ",{"$f":"HYPERLINK(\"files\\4050.\"&Herstellerauswahl!$C$4,\"BMW 4er Coupe, 430d, F32, 258 PS / 190 kW\")","v":"BMW 4er Coupe, 430d, F32, 258 PS / 190 kW"},{"$f":"HYPERLINK(\"files\\4050.\"&Herstellerauswahl!$C$4,\"Auswahl / Select 4050\")","v":"Auswahl / Select 4050"}]
["0005/BTF",{"$f":"HYPERLINK(\"files\\4050.\"&Herstellerauswahl!$C$4,\"BMW 4er Coupe, 435i, F32, 306 PS / 225 kW\")","v":"BMW 4er Coupe, 435i, F32, 306 PS / 225 kW"},{"$f":"HYPERLINK(\"files\\4050.\"&Herstellerauswahl!$C$4,\"Auswahl / Select 4050\")","v":"Auswahl / Select 4050"}]
["0005/CHC",{"$f":"HYPERLINK(\"files\\4050.\"&Herstellerauswahl!$C$4,\"BMW 4er Coupe, 440i, F32, 326 PS / 240 kW\")","v":"BMW 4er Coupe, 440i, F32, 326 PS / 240 kW"},{"$f":"HYPERLINK(\"files\\4050.\"&Herstellerauswahl!$C$4,\"Auswahl / Select 4050\")","v":"Auswahl / Select 4050"}]
["0005/BSV",{"$f":"HYPERLINK(\"files\\4050.\"&Herstellerauswahl!$C$4,\"BMW 4er Coupe, 420d xDrive, F32, 184 PS / 135 kW\")","v":"BMW 4er Coupe, 420d xDrive, F32, 184 PS / 135 kW"},{"$f":"HYPERLINK(\"files\\4050.\"&Herstellerauswahl!$C$4,\"Auswahl / Select 4050\")","v":"Auswahl / Select 4050"}]
["0005/BST",{"$f":"HYPERLINK(\"files\\4050.\"&Herstellerauswahl!$C$4,\"BMW 4er Coupe, 420i xDrive, F32, 184 PS / 135 kW\")","v":"BMW 4er Coupe, 420i xDrive, F32, 184 PS / 135 kW"},{"$f":"HYPERLINK(\"files\\4050.\"&Herstellerauswahl!$C$4,\"Auswahl / Select 4050\")","v":"Auswahl / Select 4050"}]
["0005/BUN",{"$f":"HYPERLINK(\"files\\4050.\"&Herstellerauswahl!$C$4,\"BMW 4er Coupe, 428i xDrive, F32, 245 PS / 180 kW\")","v":"BMW 4er Coupe, 428i xDrive, F32, 245 PS / 180 kW"},{"$f":"HYPERLINK(\"files\\4050.\"&Herstellerauswahl!$C$4,\"Auswahl / Select 4050\")","v":"Auswahl / Select 4050"}]
["0005/CHF",{"$f":"HYPERLINK(\"files\\4050.\"&Herstellerauswahl!$C$4,\"BMW 4er Coupe, 430d xDrive, F32, 258 PS / 190 kW\")","v":"BMW 4er Coupe, 430d xDrive, F32, 258 PS / 190 kW"},{"$f":"HYPERLINK(\"files\\4050.\"&Herstellerauswahl!$C$4,\"Auswahl / Select 4050\")","v":"Auswahl / Select 4050"}]
["0005/BWD",{"$f":"HYPERLINK(\"files\\4050.\"&Herstellerauswahl!$C$4,\"BMW 4er Coupe, 435d xDrive, F32, 313 PS / 230 kW\")","v":"BMW 4er Coupe, 435d xDrive, F32, 313 PS / 230 kW"},{"$f":"HYPERLINK(\"files\\4050.\"&Herstellerauswahl!$C$4,\"Auswahl / Select 4050\")","v":"Auswahl / Select 4050"}]
["0005/BWB",{"$f":"HYPERLINK(\"files\\4050.\"&Herstellerauswahl!$C$4,\"BMW 4er Coupe, 435i xDrive, F32, 306 PS / 225 kW\")","v":"BMW 4er Coupe, 435i xDrive, F32, 306 PS / 225 kW"},{"$f":"HYPERLINK(\"files\\4050.\"&Herstellerauswahl!$C$4,\"Auswahl / Select 4050\")","v":"Auswahl / Select 4050"}]
["0005/CHG",{"$f":"HYPERLINK(\"files\\4050.\"&Herstellerauswahl!$C$4,\"BMW 4er Coupe, 440i xDrive, F32, 326 PS / 240 kW\")","v":"BMW 4er Coupe, 440i xDrive, F32, 326 PS / 240 kW"},{"$f":"HYPERLINK(\"files\\4050.\"&Herstellerauswahl!$C$4,\"Auswahl / Select 4050\")","v":"Auswahl / Select 4050"}]

{"sheet":"F32 Facelift Coupe","index":53,"n_rows":15,"n_cols":4,"rows_kept":15,"cut":false,"hidden":false,"merged":[]}
[]
[]
["TSN/HSN","Motorauswahl für F32 Facelift Coupe","Home","Zurück / back"]
[]
["0005/CBC",{"$f":"HYPERLINK(\"files\\4050.\"&Herstellerauswahl!$C$4,\"BMW 4er Coupe, 420d, F32 (LCI), 190 PS / 140 kW\")","v":"BMW 4er Coupe, 420d, F32 (LCI), 190 PS / 140 kW"},{"$f":"HYPERLINK(\"files\\4050.\"&Herstellerauswahl!$C$4,\"Auswahl / Select 4050\")","v":"Auswahl / Select 4050"}]
["0005/BSR",{"$f":"HYPERLINK(\"files\\4050.\"&Herstellerauswahl!$C$4,\"BMW 4er Coupe, 420i, F32 (LCI), 184 PS / 135 kW\")","v":"BMW 4er Coupe, 420i, F32 (LCI), 184 PS / 135 kW"},{"$f":"HYPERLINK(\"files\\4050.\"&Herstellerauswahl!$C$4,\"Auswahl / Select 4050\")","v":"Auswahl / Select 4050"}]
["0005/CGU",{"$f":"HYPERLINK(\"files\\4050.\"&Herstellerauswahl!$C$4,\"BMW 4er Coupe, 430i, F32 (LCI), 252 PS / 185 kW\")","v":"BMW 4er Coupe, 430i, F32 (LCI), 252 PS / 185 kW"},{"$f":"HYPERLINK(\"files\\4050.\"&Herstellerauswahl!$C$4,\"Auswahl / Select 4050\")","v":"Auswahl / Select 4050"}]
["0005/BSY",{"$f":"HYPERLINK(\"files\\4050.\"&Herstellerauswahl!$C$4,\"BMW 4er Coupe, 430d, F32 (LCI), 258 PS / 190 kW\")","v":"BMW 4er Coupe, 430d, F32 (LCI), 258 PS / 190 kW"},{"$f":"HYPERLINK(\"files\\4050.\"&Herstellerauswahl!$C$4,\"Auswahl / Select 4050\")","v":"Auswahl / Select 4050"}]
["0005/CGV",{"$f":"HYPERLINK(\"files\\4050.\"&Herstellerauswahl!$C$4,\"BMW 4er Coupe, 440i, F32 (LCI), 326 PS / 240 kW\")","v":"BMW 4er Coupe, 440i, F32 (LCI), 326 PS / 240 kW"},{"$f":"HYPERLINK(\"files\\4050.\"&Herstellerauswahl!$C$4,\"Auswahl / Select 4050\")","v":"Auswahl / Select 4050"}]
["0005/CBE",{"$f":"HYPERLINK(\"files\\4050.\"&Herstellerauswahl!$C$4,\"BMW 4er Coupe, 420d xDrive, F32 (LCI), 190 PS / 140 kW\")","v":"BMW 4er Coupe, 420d xDrive, F32 (LCI), 190 PS / 140 kW"},{"$f":"HYPERLINK(\"files\\4050.\"&Herstellerauswahl!$C$4,\"Auswahl / Select 4050\")","v":"Auswahl / Select 4050"}]
["0005/BST",{"$f":"HYPERLINK(\"files\\4050.\"&Herstellerauswahl!$C$4,\"BMW 4er Coupe, 420i xDrive, F32 (LCI), 184 PS / 135 kW\")","v":"BMW 4er Coupe, 420i xDrive, F32 (LCI), 184 PS / 135 kW"},{"$f":"HYPERLINK(\"files\\4050.\"&Herstellerauswahl!$C$4,\"Auswahl / Select 4050\")","v":"Auswahl / Select 4050"}]
["0005/CGY",{"$f":"HYPERLINK(\"files\\4050.\"&Herstellerauswahl!$C$4,\"BMW 4er Coupe, 430i xDrive, F32 (LCI), 252 PS / 185 kW\")","v":"BMW 4er Coupe, 430i xDrive, F32 (LCI), 252 PS / 185 kW"},{"$f":"HYPERLINK(\"files\\4050.\"&Herstellerauswahl!$C$4,\"Auswahl / Select 4050\")","v":"Auswahl / Select 4050"}]
["0005/BUL",{"$f":"HYPERLINK(\"files\\4050.\"&Herstellerauswahl!$C$4,\"BMW 4er Coupe, 430d xDrive, F32 (LCI), 258 PS / 190 kW\")","v":"BMW 4er Coupe, 430d xDrive, F32 (LCI), 258 PS / 190 kW"},{"$f":"HYPERLINK(\"files\\4050.\"&Herstellerauswahl!$C$4,\"Auswahl / Select 4050\")","v":"Auswahl / Select 4050"}]
["0005/BTA",{"$f":"HYPERLINK(\"files\\4050.\"&Herstellerauswahl!$C$4,\"BMW 4er Coupe, 435d xDrive, F32 (LCI), 313 PS / 230 kW\")","v":"BMW 4er Coupe, 435d xDrive, F32 (LCI), 313 PS / 230 kW"},{"$f":"HYPERLINK(\"files\\4050.\"&Herstellerauswahl!$C$4,\"Auswahl / Select 4050\")","v":"Auswahl / Select 4050"}]
["0005/CGZ",{"$f":"HYPERLINK(\"files\\4050.\"&Herstellerauswahl!$C$4,\"BMW 4er Coupe, 440i xDrive, F32 (LCI), 326 PS / 240 kW\")","v":"BMW 4er Coupe, 440i xDrive, F32 (LCI), 326 PS / 240 kW"},{"$f":"HYPERLINK(\"files\\4050.\"&Herstellerauswahl!$C$4,\"Auswahl / Select 4050\")","v":"Auswahl / Select 4050"}]

{"sheet":"F33 Cabrio","index":54,"n_rows":15,"n_cols":4,"rows_kept":15,"cut":false,"hidden":false,"merged":[]}
[]
[]
["TSN/HSN","Motorauswahl für F33 Cabrio","Home","Zurück / back"]
[]
["0005/BTC",{"$f":"HYPERLINK(\"files\\4050.\"&Herstellerauswahl!$C$4,\"BMW 4er Cabrio, 420d, F33, 184 PS / 135 kW\")","v":"BMW 4er Cabrio, 420d, F33, 184 PS / 135 kW"},{"$f":"HYPERLINK(\"files\\4050.\"&Herstellerauswahl!$C$4,\"Auswahl / Select 4050\")","v":"Auswahl / Select 4050"}]
["0005/BVV",{"$f":"HYPERLINK(\"files\\4050.\"&Herstellerauswahl!$C$4,\"BMW 4er Cabrio, 420i, F33, 184 PS / 135 kW\")","v":"BMW 4er Cabrio, 420i, F33, 184 PS / 135 kW"},{"$f":"HYPERLINK(\"files\\4050.\"&Herstellerauswahl!$C$4,\"Auswahl / Select 4050\")","v":"Auswahl / Select 4050"}]
["0005/BVX",{"$f":"HYPERLINK(\"files\\4050.\"&Herstellerauswahl!$C$4,\"BMW 4er Cabrio, 425d, F33, 218 PS / 160 kW\")","v":"BMW 4er Cabrio, 425d, F33, 218 PS / 160 kW"},{"$f":"HYPERLINK(\"files\\4050.\"&Herstellerauswahl!$C$4,\"Auswahl / Select 4050\")","v":"Auswahl / Select 4050"}]
["0005/BTB",{"$f":"HYPERLINK(\"files\\4050.\"&Herstellerauswahl!$C$4,\"BMW 4er Cabrio, 428i, F33, 245 PS / 180 kW\")","v":"BMW 4er Cabrio, 428i, F33, 245 PS / 180 kW"},{"$f":"HYPERLINK(\"files\\4050.\"&Herstellerauswahl!$C$4,\"Auswahl / Select 4050\")","v":"Auswahl / Select 4050"}]
["0005/BVZ",{"$f":"HYPERLINK(\"files\\4050.\"&Herstellerauswahl!$C$4,\"BMW 4er Cabrio, 430d, F33, 258 PS / 190 kW\")","v":"BMW 4er Cabrio, 430d, F33, 258 PS / 190 kW"},{"$f":"HYPERLINK(\"files\\4050.\"&Herstellerauswahl!$C$4,\"Auswahl / Select 4050\")","v":"Auswahl / Select 4050"}]
["0005/BTF",{"$f":"HYPERLINK(\"files\\4050.\"&Herstellerauswahl!$C$4,\"BMW 4er Cabrio, 435i, F33, 306 PS / 225 kW\")","v":"BMW 4er Cabrio, 435i, F33, 306 PS / 225 kW"},{"$f":"HYPERLINK(\"files\\4050.\"&Herstellerauswahl!$C$4,\"Auswahl / Select 4050\")","v":"Auswahl / Select 4050"}]
["0005/CHC",{"$f":"HYPERLINK(\"files\\4050.\"&Herstellerauswahl!$C$4,\"BMW 4er Cabrio, 440i, F33, 326 PS / 240 kW\")","v":"BMW 4er Cabrio, 440i, F33, 326 PS / 240 kW"},{"$f":"HYPERLINK(\"files\\4050.\"&Herstellerauswahl!$C$4,\"Auswahl / Select 4050\")","v":"Auswahl / Select 4050"}]
["0005/BUN",{"$f":"HYPERLINK(\"files\\4050.\"&Herstellerauswahl!$C$4,\"BMW 4er Cabrio, 428i xDrive, F33, 245 PS / 180 kW\")","v":"BMW 4er Cabrio, 428i xDrive, F33, 245 PS / 180 kW"},{"$f":"HYPERLINK(\"files\\4050.\"&Herstellerauswahl!$C$4,\"Auswahl / Select 4050\")","v":"Auswahl / Select 4050"}]
["0005/BWB",{"$f":"HYPERLINK(\"files\\4050.\"&Herstellerauswahl!$C$4,\"BMW 4er Cabrio, 435i xDrive, F33, 306 PS / 225 kW\")","v":"BMW 4er Cabrio, 435i xDrive, F33, 306 PS / 225 kW"},{"$f":"HYPERLINK(\"files\\4050.\"&Herstellerauswahl!$C$4,\"Auswahl / Select 4050\")","v":"Auswahl / Select 4050"}]
["0005/BWD",{"$f":"HYPERLINK(\"files\\4050.\"&Herstellerauswahl!$C$4,\"BMW 4er Cabrio, 435d xDrive, F33, 313 PS / 230 kW\")","v":"BMW 4er Cabrio, 435d xDrive, F33, 313 PS / 230 kW"},{"$f":"HYPERLINK(\"files\\4050.\"&Herstellerauswahl!$C$4,\"Auswahl / Select 4050\")","v":"Auswahl / Select 4050"}]
["0005/CHG",{"$f":"HYPERLINK(\"files\\4050.\"&Herstellerauswahl!$C$4,\"BMW 4er Cabrio, 440i xDrive, F33, 326 PS / 240 kW\")","v":"BMW 4er Cabrio, 440i xDrive, F33, 326 PS / 240 kW"},{"$f":"HYPERLINK(\"files\\4050.\"&Herstellerauswahl!$C$4,\"Auswahl / Select 4050\")","v":"Auswahl / Select 4050"}]

{"sheet":"F33 Facelift Cabrio","index":55,"n_rows":15,"n_cols":4,"rows_kept":15,"cut":false,"hidden":false,"merged":[]}
[]
[]
["TSN/HSN","Motorauswahl für F33 Facelift Cabrio","Home","Zurück / back"]
[]
["0005/BVV",{"$f":"HYPERLINK(\"files\\4050.\"&Herstellerauswahl!$C$4,\"BMW 4er Cabrio, 420i, F33 (LCI), 184 PS / 135 kW\")","v":"BMW 4er Cabrio, 420i, F33 (LCI), 184 PS / 135 kW"},{"$f":"HYPERLINK(\"files\\4050.\"&Herstellerauswahl!$C$4,\"Auswahl / Select 4050\")","v":"Auswahl / Select 4050"}]
["",{"$f":"HYPERLINK(\"files\\4050.\"&Herstellerauswahl!$C$4,\"BMW 4er Cabrio, 420i xDrive, F33 (LCI), 184 PS / 135 kW\")","v":"BMW 4er Cabrio, 420i xDrive, F33 (LCI), 184 PS / 135 kW"},{"$f":"HYPERLINK(\"files\\4050.\"&Herstellerauswahl!$C$4,\"Auswahl / Select 4050\")","v":"Auswahl / Select 4050"}]
["0005/CDD",{"$f":"HYPERLINK(\"files\\4050.\"&Herstellerauswahl!$C$4,\"BMW 4er Cabrio, 420d, F33 (LCI), 190 PS / 140 kW\")","v":"BMW 4er Cabrio, 420d, F33 (LCI), 190 PS / 140 kW"},{"$f":"HYPERLINK(\"files\\4050.\"&Herstellerauswahl!$C$4,\"Auswahl / Select 4050\")","v":"Auswahl / Select 4050"}]
["",{"$f":"HYPERLINK(\"files\\4050.\"&Herstellerauswahl!$C$4,\"BMW 4er Cabrio, 420d xDrive, F33 (LCI), 190 PS / 140 kW\")","v":"BMW 4er Cabrio, 420d xDrive, F33 (LCI), 190 PS / 140 kW"},{"$f":"HYPERLINK(\"files\\4050.\"&Herstellerauswahl!$C$4,\"Auswahl / Select 4050\")","v":"Auswahl / Select 4050"}]
["0005/CHE",{"$f":"HYPERLINK(\"files\\4050.\"&Herstellerauswahl!$C$4,\"BMW 4er Cabrio, 425d, F33 (LCI), 224 PS / 165 kW\")","v":"BMW 4er Cabrio, 425d, F33 (LCI), 224 PS / 165 kW"},{"$f":"HYPERLINK(\"files\\4050.\"&Herstellerauswahl!$C$4,\"Auswahl / Select 4050\")","v":"Auswahl / Select 4050"}]
["0005/CHB",{"$f":"HYPERLINK(\"files\\4050.\"&Herstellerauswahl!$C$4,\"BMW 4er Cabrio, 430i, F33 (LCI), 252 PS / 185 kW\")","v":"BMW 4er Cabrio, 430i, F33 (LCI), 252 PS / 185 kW"},{"$f":"HYPERLINK(\"files\\4050.\"&Herstellerauswahl!$C$4,\"Auswahl / Select 4050\")","v":"Auswahl / Select 4050"}]
["0005/CHF",{"$f":"HYPERLINK(\"files\\4050.\"&Herstellerauswahl!$C$4,\"BMW 4er Cabrio, 430i xDrive, F33 (LCI), 252 PS / 185 kW\")","v":"BMW 4er Cabrio, 430i xDrive, F33 (LCI), 252 PS / 185 kW"},{"$f":"HYPERLINK(\"files\\4050.\"&Herstellerauswahl!$C$4,\"Auswahl / Select 4050\")","v":"Auswahl / Select 4050"}]
["0005/BVZ",{"$f":"HYPERLINK(\"files\\4050.\"&Herstellerauswahl!$C$4,\"BMW 4er Cabrio, 430d, F33 (LCI), 258 PS / 190 kW\")","v":"BMW 4er Cabrio, 430d, F33 (LCI), 258 PS / 190 kW"},{"$f":"HYPERLINK(\"files\\4050.\"&Herstellerauswahl!$C$4,\"Auswahl / Select 4050\")","v":"Auswahl / Select 4050"}]
["",{"$f":"HYPERLINK(\"files\\4050.\"&Herstellerauswahl!$C$4,\"BMW 4er Cabrio, 430d xDrive, F33 (LCI), 258 PS / 190 kW\")","v":"BMW 4er Cabrio, 430d xDrive, F33 (LCI), 258 PS / 190 kW"},{"$f":"HYPERLINK(\"files\\4050.\"&Herstellerauswahl!$C$4,\"Auswahl / Select 4050\")","v":"Auswahl / Select 4050"}]
["0005/CHC",{"$f":"HYPERLINK(\"files\\4050.\"&Herstellerauswahl!$C$4,\"BMW 4er Cabrio, 440i, F33 (LCI), 326 PS / 240 kW\")","v":"BMW 4er Cabrio, 440i, F33 (LCI), 326 PS / 240 kW"},{"$f":"HYPERLINK(\"files\\4050.\"&Herstellerauswahl!$C$4,\"Auswahl / Select 4050\")","v":"Auswahl / Select 4050"}]
["0005/CHG",{"$f":"HYPERLINK(\"files\\4050.\"&Herstellerauswahl!$C$4,\"BMW 4er Cabrio, 440i xDrive, F33 (LCI), 326 PS / 240 kW\")","v":"BMW 4er Cabrio, 440i xDrive, F33 (LCI), 326 PS / 240 kW"},{"$f":"HYPERLINK(\"files\\4050.\"&Herstellerauswahl!$C$4,\"Auswahl / Select 4050\")","v":"Auswahl / Select 4050"}]

{"sheet":"F36 Gran Coupe","index":56,"n_rows":19,"n_cols":4,"rows_kept":19,"cut":false,"hidden":false,"merged":[]}
[]
[]
["TSN/HSN","Motorauswahl für F36 Gran Coupe","Home","Zurück / back"]
[]
["0005/BUT",{"$f":"HYPERLINK(\"files\\4050.\"&Herstellerauswahl!$C$4,\"BMW 4er Gran Coupe, 418d, F36, 143 PS / 105 kW\")","v":"BMW 4er Gran Coupe, 418d, F36, 143 PS / 105 kW"},{"$f":"HYPERLINK(\"files\\4050.\"&Herstellerauswahl!$C$4,\"Auswahl / Select 4050\")","v":"Auswahl / Select 4050"}]
["0005/CDF",{"$f":"HYPERLINK(\"files\\4050.\"&Herstellerauswahl!$C$4,\"BMW 4er Gran Coupe, 418d, F36, 150 PS / 110 kW\")","v":"BMW 4er Gran Coupe, 418d, F36, 150 PS / 110 kW"},{"$f":"HYPERLINK(\"files\\4050.\"&Herstellerauswahl!$C$4,\"Auswahl / Select 4050\")","v":"Auswahl / Select 4050"}]
["0005/BUV",{"$f":"HYPERLINK(\"files\\4050.\"&Herstellerauswahl!$C$4,\"BMW 4er Gran Coupe, 420d, F36, 184 PS / 135 kW\")","v":"BMW 4er Gran Coupe, 420d, F36, 184 PS / 135 kW"},{"$f":"HYPERLINK(\"files\\4050.\"&Herstellerauswahl!$C$4,\"Auswahl / Select 4050\")","v":"Auswahl / Select 4050"}]
["0005/BUZ",{"$f":"HYPERLINK(\"files\\4050.\"&Herstellerauswahl!$C$4,\"BMW 4er Gran Coupe, 420d xDrive, F36, 184 PS / 135 kW\")","v":"BMW 4er Gran Coupe, 420d xDrive, F36, 184 PS / 135 kW"},{"$f":"HYPERLINK(\"files\\4050.\"&Herstellerauswahl!$C$4,\"Auswahl / Select 4050\")","v":"Auswahl / Select 4050"}]
["0005/BUO",{"$f":"HYPERLINK(\"files\\4050.\"&Herstellerauswahl!$C$4,\"BMW 4er Gran Coupe, 420i, F36, 184 PS / 135 kW\")","v":"BMW 4er Gran Coupe, 420i, F36, 184 PS / 135 kW"},{"$f":"HYPERLINK(\"files\\4050.\"&Herstellerauswahl!$C$4,\"Auswahl / Select 4050\")","v":"Auswahl / Select 4050"}]
["0005/BWG",{"$f":"HYPERLINK(\"files\\4050.\"&Herstellerauswahl!$C$4,\"BMW 4er Gran Coupe, 420i xDrive, F36, 184 PS / 135 kW\")","v":"BMW 4er Gran Coupe, 420i xDrive, F36, 184 PS / 135 kW"},{"$f":"HYPERLINK(\"files\\4050.\"&Herstellerauswahl!$C$4,\"Auswahl / Select 4050\")","v":"Auswahl / Select 4050"}]
["0005/BUQ",{"$f":"HYPERLINK(\"files\\4050.\"&Herstellerauswahl!$C$4,\"BMW 4er Gran Coupe, 428i, F36, 245 PS / 180 kW\")","v":"BMW 4er Gran Coupe, 428i, F36, 245 PS / 180 kW"},{"$f":"HYPERLINK(\"files\\4050.\"&Herstellerauswahl!$C$4,\"Auswahl / Select 4050\")","v":"Auswahl / Select 4050"}]
["0005/BUY",{"$f":"HYPERLINK(\"files\\4050.\"&Herstellerauswahl!$C$4,\"BMW 4er Gran Coupe, 428i xDrive, F36, 245 PS / 180 kW\")","v":"BMW 4er Gran Coupe, 428i xDrive, F36, 245 PS / 180 kW"},{"$f":"HYPERLINK(\"files\\4050.\"&Herstellerauswahl!$C$4,\"Auswahl / Select 4050\")","v":"Auswahl / Select 4050"}]
["0005/BWE",{"$f":"HYPERLINK(\"files\\4050.\"&Herstellerauswahl!$C$4,\"BMW 4er Gran Coupe, 430d, F36, 258 PS / 190 kW\")","v":"BMW 4er Gran Coupe, 430d, F36, 258 PS / 190 kW"},{"$f":"HYPERLINK(\"files\\4050.\"&Herstellerauswahl!$C$4,\"Auswahl / Select 4050\")","v":"Auswahl / Select 4050"}]
["0005/BWK",{"$f":"HYPERLINK(\"files\\4050.\"&Herstellerauswahl!$C$4,\"BMW 4er Gran Coupe, 430d xDrive, F36, 258 PS / 190 kW\")","v":"BMW 4er Gran Coupe, 430d xDrive, F36, 258 PS / 190 kW"},{"$f":"HYPERLINK(\"files\\4050.\"&Herstellerauswahl!$C$4,\"Auswahl / Select 4050\")","v":"Auswahl / Select 4050"}]
["0005/BWM",{"$f":"HYPERLINK(\"files\\4050.\"&Herstellerauswahl!$C$4,\"BMW 4er Gran Coupe, 435d xDrive, F36, 313 PS / 230 kW\")","v":"BMW 4er Gran Coupe, 435d xDrive, F36, 313 PS / 230 kW"},{"$f":"HYPERLINK(\"files\\4050.\"&Herstellerauswahl!$C$4,\"Auswahl / Select 4050\")","v":"Auswahl / Select 4050"}]
["0005/BUR",{"$f":"HYPERLINK(\"files\\4050.\"&Herstellerauswahl!$C$4,\"BMW 4er Gran Coupe, 435i, F36, 306 PS / 225 kW\")","v":"BMW 4er Gran Coupe, 435i, F36, 306 PS / 225 kW"},{"$f":"HYPERLINK(\"files\\4050.\"&Herstellerauswahl!$C$4,\"Auswahl / Select 4050\")","v":"Auswahl / Select 4050"}]
["0005/CHJ",{"$f":"HYPERLINK(\"files\\4050.\"&Herstellerauswahl!$C$4,\"BMW 4er Gran Coupe, 440i, F36, 326 PS / 240 kW\")","v":"BMW 4er Gran Coupe, 440i, F36, 326 PS / 240 kW"},{"$f":"HYPERLINK(\"files\\4050.\"&Herstellerauswahl!$C$4,\"Auswahl / Select 4050\")","v":"Auswahl / Select 4050"}]
["0005/BWI",{"$f":"HYPERLINK(\"files\\4050.\"&Herstellerauswahl!$C$4,\"BMW 4er Gran Coupe, 435i xDrive, F36, 306 PS / 225 kW\")","v":"BMW 4er Gran Coupe, 435i xDrive, F36, 306 PS / 225 kW"},{"$f":"HYPERLINK(\"files\\4050.\"&Herstellerauswahl!$C$4,\"Auswahl / Select 4050\")","v":"Auswahl / Select 4050"}]
["0005/CHO",{"$f":"HYPERLINK(\"files\\4050.\"&Herstellerauswahl!$C$4,\"BMW 4er Gran Coupe, 440i xDrive, F36, 326 PS / 240 kW\")","v":"BMW 4er Gran Coupe, 440i xDrive, F36, 326 PS / 240 kW"},{"$f":"HYPERLINK(\"files\\4050.\"&Herstellerauswahl!$C$4,\"Auswahl / Select 4050\")","v":"Auswahl / Select 4050"}]

{"sheet":"F36 Facelift Gran Coupe","index":57,"n_rows":16,"n_cols":4,"rows_kept":16,"cut":false,"hidden":false,"merged":[]}
[]
[]
["TSN/HSN","Motorauswahl für F36 Facelift Gran Coupe","Home","Zurück / back"]
[]
["0005/CDF",{"$f":"HYPERLINK(\"files\\4050.\"&Herstellerauswahl!$C$4,\"BMW 4er Gran Coupe, 418d, F36 (LCI), 150 PS / 110 kW\")","v":"BMW 4er Gran Coupe, 418d, F36 (LCI), 150 PS / 110 kW"},{"$f":"HYPERLINK(\"files\\4050.\"&Herstellerauswahl!$C$4,\"Auswahl / Select 4050\")","v":"Auswahl / Select 4050"}]
["0005/CBH",{"$f":"HYPERLINK(\"files\\4050.\"&Herstellerauswahl!$C$4,\"BMW 4er Gran Coupe, 420d, F36 (LCI), 190 PS / 140 kW\")","v":"BMW 4er Gran Coupe, 420d, F36 (LCI), 190 PS / 140 kW"},{"$f":"HYPERLINK(\"files\\4050.\"&Herstellerauswahl!$C$4,\"Auswahl / Select 4050\")","v":"Auswahl / Select 4050"}]
["0005/CBJ",{"$f":"HYPERLINK(\"files\\4050.\"&Herstellerauswahl!$C$4,\"BMW 4er Gran Coupe, 420d xDrive, F36 (LCI), 190 PS / 140 kW\")","v":"BMW 4er Gran Coupe, 420d xDrive, F36 (LCI), 190 PS / 140 kW"},{"$f":"HYPERLINK(\"files\\4050.\"&Herstellerauswahl!$C$4,\"Auswahl / Select 4050\")","v":"Auswahl / Select 4050"}]
["0005/BUO",{"$f":"HYPERLINK(\"files\\4050.\"&Herstellerauswahl!$C$4,\"BMW 4er Gran Coupe, 420i, F36 (LCI), 184 PS / 135 kW\")","v":"BMW 4er Gran Coupe, 420i, F36 (LCI), 184 PS / 135 kW"},{"$f":"HYPERLINK(\"files\\4050.\"&Herstellerauswahl!$C$4,\"Auswahl / Select 4050\")","v":"Auswahl / Select 4050"}]
["0005/BWG",{"$f":"HYPERLINK(\"files\\4050.\"&Herstellerauswahl!$C$4,\"BMW 4er Gran Coupe, 420i xDrive, F36 (LCI), 184 PS / 135 kW\")","v":"BMW 4er Gran Coupe, 420i xDrive, F36 (LCI), 184 PS / 135 kW"},{"$f":"HYPERLINK(\"files\\4050.\"&Herstellerauswahl!$C$4,\"Auswahl / Select 4050\")","v":"Auswahl / Select 4050"}]
["0005/BWE",{"$f":"HYPERLINK(\"files\\4050.\"&Herstellerauswahl!$C$4,\"BMW 4er Gran Coupe, 430d, F36 (LCI), 258 PS / 190 kW\")","v":"BMW 4er Gran Coupe, 430d, F36 (LCI), 258 PS / 190 kW"},{"$f":"HYPERLINK(\"files\\4050.\"&Herstellerauswahl!$C$4,\"Auswahl / Select 4050\")","v":"Auswahl / Select 4050"}]
["0005/BWK",{"$f":"HYPERLINK(\"files\\4050.\"&Herstellerauswahl!$C$4,\"BMW 4er Gran Coupe, 430d xDrive, F36 (LCI), 258 PS / 190 kW\")","v":"BMW 4er Gran Coupe, 430d xDrive, F36 (LCI), 258 PS / 190 kW"},{"$f":"HYPERLINK(\"files\\4050.\"&Herstellerauswahl!$C$4,\"Auswahl / Select 4050\")","v":"Auswahl / Select 4050"}]
["0005/CHI",{"$f":"HYPERLINK(\"files\\4050.\"&Herstellerauswahl!$C$4,\"BMW 4er Gran Coupe, 430i, F36 (LCI), 252 PS / 185 kW\")","v":"BMW 4er Gran Coupe, 430i, F36 (LCI), 252 PS / 185 kW"},{"$f":"HYPERLINK(\"files\\4050.\"&Herstellerauswahl!$C$4,\"Auswahl / Select 4050\")","v":"Auswahl / Select 4050"}]
["0005/CHN",{"$f":"HYPERLINK(\"files\\4050.\"&Herstellerauswahl!$C$4,\"BMW 4er Gran Coupe, 430i xDrive, F36 (LCI), 252 PS / 185 kW\")","v":"BMW 4er Gran Coupe, 430i xDrive, F36 (LCI), 252 PS / 185 kW"},{"$f":"HYPERLINK(\"files\\4050.\"&Herstellerauswahl!$C$4,\"Auswahl / Select 4050\")","v":"Auswahl / Select 4050"}]
["0005/BWM",{"$f":"HYPERLINK(\"files\\4050.\"&Herstellerauswahl!$C$4,\"BMW 4er Gran Coupe, 435d xDrive, F36 (LCI), 313 PS / 230 kW\")","v":"BMW 4er Gran Coupe, 435d xDrive, F36 (LCI), 313 PS / 230 kW"},{"$f":"HYPERLINK(\"files\\4050.\"&Herstellerauswahl!$C$4,\"Auswahl / Select 4050\")","v":"Auswahl / Select 4050"}]
["0005/CHJ",{"$f":"HYPERLINK(\"files\\4050.\"&Herstellerauswahl!$C$4,\"BMW 4er Gran Coupe, 440i, F36 (LCI), 326 PS / 240 kW\")","v":"BMW 4er Gran Coupe, 440i, F36 (LCI), 326 PS / 240 kW"},{"$f":"HYPERLINK(\"files\\4050.\"&Herstellerauswahl!$C$4,\"Auswahl / Select 4050\")","v":"Auswahl / Select 4050"}]
["0005/CHO",{"$f":"HYPERLINK(\"files\\4050.\"&Herstellerauswahl!$C$4,\"BMW 4er Gran Coupe, 440i xDrive, F36 (LCI), 326 PS / 240 kW\")","v":"BMW 4er Gran Coupe, 440i xDrive, F36 (LCI), 326 PS / 240 kW"},{"$f":"HYPERLINK(\"files\\4050.\"&Herstellerauswahl!$C$4,\"Auswahl / Select 4050\")","v":"Auswahl / Select 4050"}]

{"sheet":"F82 M Coupe","index":58,"n_rows":6,"n_cols":4,"rows_kept":6,"cut":false,"hidden":false,"merged":[]}
[]
[]
["TSN/HSN","Motorauswahl für F82 M Coupe","Home","Zurück / back"]
[]
["7909/ABH",{"$f":"HYPERLINK(\"files\\3021.\"&Herstellerauswahl!$C$4,\"BMW 4er M Coupe, M4, F82, 431 PS / 317 kW\")","v":"BMW 4er M Coupe, M4, F82, 431 PS / 317 kW"},{"$f":"HYPERLINK(\"files\\3021.\"&Herstellerauswahl!$C$4,\"Auswahl / Select 3021\")","v":"Auswahl / Select 3021"}]
["7909/ABT",{"$f":"HYPERLINK(\"files\\3021.\"&Herstellerauswahl!$C$4,\"BMW 4er M Coupe, M4 Competition, F82, 450 PS / 331 kW\")","v":"BMW 4er M Coupe, M4 Competition, F82, 450 PS / 331 kW"},{"$f":"HYPERLINK(\"files\\3021.\"&Herstellerauswahl!$C$4,\"Auswahl / Select 3021\")","v":"Auswahl / Select 3021"}]

{"sheet":"F82 Facelift M Coupe","index":59,"n_rows":6,"n_cols":4,"rows_kept":6,"cut":false,"hidden":false,"merged":[]}
[]
[]
["TSN/HSN","Motorauswahl für F82 Facelift M Coupe","Home","Zurück / back"]
[]
["7909/ABH/ACP",{"$f":"HYPERLINK(\"files\\3021.\"&Herstellerauswahl!$C$4,\"BMW 4er M Coupe, M4, F82 (LCI), 431 PS / 317 kW\")","v":"BMW 4er M Coupe, M4, F82 (LCI), 431 PS / 317 kW"},{"$f":"HYPERLINK(\"files\\3021.\"&Herstellerauswahl!$C$4,\"Auswahl / Select 3021\")","v":"Auswahl / Select 3021"}]
["7909/ABT/ACQ",{"$f":"HYPERLINK(\"files\\3021.\"&Herstellerauswahl!$C$4,\"BMW 4er M Coupe, M4 Competition, F82 (LCI), 450 PS / 331 kW\")","v":"BMW 4er M Coupe, M4 Competition, F82 (LCI), 450 PS / 331 kW"},{"$f":"HYPERLINK(\"files\\3021.\"&Herstellerauswahl!$C$4,\"Auswahl / Select 3021\")","v":"Auswahl / Select 3021"}]

{"sheet":"F83 M Cabrio","index":60,"n_rows":6,"n_cols":4,"rows_kept":6,"cut":false,"hidden":false,"merged":[]}
[]
[]
["TSN/HSN","Motorauswahl für F83 M Cabrio","Home","Zurück / back"]
[]
["7909/ABJ",{"$f":"HYPERLINK(\"files\\3021.\"&Herstellerauswahl!$C$4,\"BMW 4er M Cabrio, M4, F83, 431 PS / 317 kW\")","v":"BMW 4er M Cabrio, M4, F83, 431 PS / 317 kW"},{"$f":"HYPERLINK(\"files\\3021.\"&Herstellerauswahl!$C$4,\"Auswahl / Select 3021\")","v":"Auswahl / Select 3021"}]
["7909/ABS",{"$f":"HYPERLINK(\"files\\3021.\"&Herstellerauswahl!$C$4,\"BMW 4er M Cabrio, M4 Competition, F83, 450 PS / 331 kW\")","v":"BMW 4er M Cabrio, M4 Competition, F83, 450 PS / 331 kW"},{"$f":"HYPERLINK(\"files\\3021.\"&Herstellerauswahl!$C$4,\"Auswahl / Select 3021\")","v":"Auswahl / Select 3021"}]

{"sheet":"F83 Facelift M Cabrio","index":61,"n_rows":6,"n_cols":4,"rows_kept":6,"cut":false,"hidden":false,"merged":[]}
[]
[]
["TSN/HSN","Motorauswahl für F83 Facelift M Cabrio","Home","Zurück / back"]
[]
["7909/ABJ/ACR",{"$f":"HYPERLINK(\"files\\3021.\"&Herstellerauswahl!$C$4,\"BMW 4er M Cabrio, M4, F83 (LCI), 431 PS / 317 kW\")","v":"BMW 4er M Cabrio, M4, F83 (LCI), 431 PS / 317 kW"},{"$f":"HYPERLINK(\"files\\3021.\"&Herstellerauswahl!$C$4,\"Auswahl / Select 3021\")","v":"Auswahl / Select 3021"}]
["7909/ABS/ACS",{"$f":"HYPERLINK(\"files\\3021.\"&Herstellerauswahl!$C$4,\"BMW 4er M Cabrio, M4 Competition, F83 (LCI), 450 PS / 331 kW\")","v":"BMW 4er M Cabrio, M4 Competition, F83 (LCI), 450 PS / 331 kW"},{"$f":"HYPERLINK(\"files\\3021.\"&Herstellerauswahl!$C$4,\"Auswahl / Select 3021\")","v":"Auswahl / Select 3021"}]

{"sheet":"G22 Coupe","index":62,"n_rows":17,"n_cols":4,"rows_kept":17,"cut":false,"hidden":false,"merged":[]}
[]
[]
["TSN/HSN","Motorauswahl für G22 Coupe","Home","Zurück / back"]
[]
["0005/DAW",{"$f":"HYPERLINK(\"files\\2013.\"&Herstellerauswahl!$C$4,\"BMW 4er Coupe, 420d MHy, G22, 163 PS / 120 kW\")","v":"BMW 4er Coupe, 420d MHy, G22, 163 PS / 120 kW"},{"$f":"HYPERLINK(\"files\\2013.\"&Herstellerauswahl!$C$4,\"Auswahl / Select 2013\")","v":"Auswahl / Select 2013"}]
["0005/DBF",{"$f":"HYPERLINK(\"files\\2013.\"&Herstellerauswahl!$C$4,\"BMW 4er Coupe, 420d MHy, G22, 190 PS / 140 kW\")","v":"BMW 4er Coupe, 420d MHy, G22, 190 PS / 140 kW"},{"$f":"HYPERLINK(\"files\\2013.\"&Herstellerauswahl!$C$4,\"Auswahl / Select 2013\")","v":"Auswahl / Select 2013"}]
["0005/DBG",{"$f":"HYPERLINK(\"files\\2013.\"&Herstellerauswahl!$C$4,\"BMW 4er Coupe, 420d MHy xDrive, G22, 190 PS / 140 kW\")","v":"BMW 4er Coupe, 420d MHy xDrive, G22, 190 PS / 140 kW"},{"$f":"HYPERLINK(\"files\\2013.\"&Herstellerauswahl!$C$4,\"Auswahl / Select 2013\")","v":"Auswahl / Select 2013"}]
["0005/DAS",{"$f":"HYPERLINK(\"files\\2013.\"&Herstellerauswahl!$C$4,\"BMW 4er Coupe, 420i, G22, 184 PS / 135 kW\")","v":"BMW 4er Coupe, 420i, G22, 184 PS / 135 kW"},{"$f":"HYPERLINK(\"files\\2013.\"&Herstellerauswahl!$C$4,\"Auswahl / Select 2013\")","v":"Auswahl / Select 2013"}]
["0005/DGG",{"$f":"HYPERLINK(\"files\\2013.\"&Herstellerauswahl!$C$4,\"BMW 4er Coupe, 420i xDrive, G22, 184 PS / 135 kW\")","v":"BMW 4er Coupe, 420i xDrive, G22, 184 PS / 135 kW"},{"$f":"HYPERLINK(\"files\\2013.\"&Herstellerauswahl!$C$4,\"Auswahl / Select 2013\")","v":"Auswahl / Select 2013"}]
["0005/DAR",{"$f":"HYPERLINK(\"files\\2013.\"&Herstellerauswahl!$C$4,\"BMW 4er Coupe, 420i, G22, 170 PS / 125 kW\")","v":"BMW 4er Coupe, 420i, G22, 170 PS / 125 kW"},{"$f":"HYPERLINK(\"files\\2013.\"&Herstellerauswahl!$C$4,\"Auswahl / Select 2013\")","v":"Auswahl / Select 2013"}]
["0005/DAT",{"$f":"HYPERLINK(\"files\\2013.\"&Herstellerauswahl!$C$4,\"BMW 4er Coupe, 430i, G22, 258 PS / 190 kW\")","v":"BMW 4er Coupe, 430i, G22, 258 PS / 190 kW"},{"$f":"HYPERLINK(\"files\\2013.\"&Herstellerauswahl!$C$4,\"Auswahl / Select 2013\")","v":"Auswahl / Select 2013"}]
["0005/DGH",{"$f":"HYPERLINK(\"files\\2013.\"&Herstellerauswahl!$C$4,\"BMW 4er Coupe, 430i, G22, 245 PS / 180 kW\")","v":"BMW 4er Coupe, 430i, G22, 245 PS / 180 kW"},{"$f":"HYPERLINK(\"files\\2013.\"&Herstellerauswahl!$C$4,\"Auswahl / Select 2013\")","v":"Auswahl / Select 2013"}]
["0005/DGI",{"$f":"HYPERLINK(\"files\\2013.\"&Herstellerauswahl!$C$4,\"BMW 4er Coupe, 430i xDrive, G22, 245 PS / 180 kW\")","v":"BMW 4er Coupe, 430i xDrive, G22, 245 PS / 180 kW"},{"$f":"HYPERLINK(\"files\\2013.\"&Herstellerauswahl!$C$4,\"Auswahl / Select 2013\")","v":"Auswahl / Select 2013"}]
["0005/DFG",{"$f":"HYPERLINK(\"files\\2013.\"&Herstellerauswahl!$C$4,\"BMW 4er Coupe, 430d MHy xDrive, G22, 286 PS / 210 kW\")","v":"BMW 4er Coupe, 430d MHy xDrive, G22, 286 PS / 210 kW"},{"$f":"HYPERLINK(\"files\\2013.\"&Herstellerauswahl!$C$4,\"Auswahl / Select 2013\")","v":"Auswahl / Select 2013"}]
["0005/DFH",{"$f":"HYPERLINK(\"files\\2013.\"&Herstellerauswahl!$C$4,\"BMW 4er Coupe, M440d MHy xDrive, G22, 340 PS / 250 kW\")","v":"BMW 4er Coupe, M440d MHy xDrive, G22, 340 PS / 250 kW"},{"$f":"HYPERLINK(\"files\\2013.\"&Herstellerauswahl!$C$4,\"Auswahl / Select 2013\")","v":"Auswahl / Select 2013"}]
["0005/DGJ",{"$f":"HYPERLINK(\"files\\2013.\"&Herstellerauswahl!$C$4,\"BMW 4er Coupe, M440i MHy, G22, 374 PS / 275 kW\")","v":"BMW 4er Coupe, M440i MHy, G22, 374 PS / 275 kW"},{"$f":"HYPERLINK(\"files\\2013.\"&Herstellerauswahl!$C$4,\"Auswahl / Select 2013\")","v":"Auswahl / Select 2013"}]
["0005/DAU",{"$f":"HYPERLINK(\"files\\2013.\"&Herstellerauswahl!$C$4,\"BMW 4er Coupe, M440i MHy xDrive, G22, 374 PS / 275 kW\")","v":"BMW 4er Coupe, M440i MHy xDrive, G22, 374 PS / 275 kW"},{"$f":"HYPERLINK(\"files\\2013.\"&Herstellerauswahl!$C$4,\"Auswahl / Select 2013\")","v":"Auswahl / Select 2013"}]

{"sheet":"G23 Cabrio","index":63,"n_rows":11,"n_cols":4,"rows_kept":11,"cut":false,"hidden":false,"merged":[]}
[]
[]
["TSN/HSN","Motorauswahl für G23 Cabrio","Home","Zurück / back"]
[]
["0005/DEM",{"$f":"HYPERLINK(\"files\\2013.\"&Herstellerauswahl!$C$4,\"BMW 4er Cabrio, 420d MHy, G23, 163 PS / 120 kW\")","v":"BMW 4er Cabrio, 420d MHy, G23, 163 PS / 120 kW"},{"$f":"HYPERLINK(\"files\\2013.\"&Herstellerauswahl!$C$4,\"Auswahl / Select 2013\")","v":"Auswahl / Select 2013"}]
["0005/DES",{"$f":"HYPERLINK(\"files\\2013.\"&Herstellerauswahl!$C$4,\"BMW 4er Cabrio, 420d MHy, G23, 190 PS / 140 kW\")","v":"BMW 4er Cabrio, 420d MHy, G23, 190 PS / 140 kW"},{"$f":"HYPERLINK(\"files\\2013.\"&Herstellerauswahl!$C$4,\"Auswahl / Select 2013\")","v":"Auswahl / Select 2013"}]
["0005/DGL",{"$f":"HYPERLINK(\"files\\2013.\"&Herstellerauswahl!$C$4,\"BMW 4er Cabrio, 430d Mhy, G23, 286 PS / 210 kW\")","v":"BMW 4er Cabrio, 430d Mhy, G23, 286 PS / 210 kW"},{"$f":"HYPERLINK(\"files\\2013.\"&Herstellerauswahl!$C$4,\"Auswahl / Select 2013\")","v":"Auswahl / Select 2013"}]
["0005/DEI",{"$f":"HYPERLINK(\"files\\2013.\"&Herstellerauswahl!$C$4,\"BMW 4er Cabrio, 420i, G23, 184 PS / 135 kW\")","v":"BMW 4er Cabrio, 420i, G23, 184 PS / 135 kW"},{"$f":"HYPERLINK(\"files\\2013.\"&Herstellerauswahl!$C$4,\"Auswahl / Select 2013\")","v":"Auswahl / Select 2013"}]
["0005/DEJ",{"$f":"HYPERLINK(\"files\\2013.\"&Herstellerauswahl!$C$4,\"BMW 4er Cabrio, 430i, G23, 258 PS / 190 kW\")","v":"BMW 4er Cabrio, 430i, G23, 258 PS / 190 kW"},{"$f":"HYPERLINK(\"files\\2013.\"&Herstellerauswahl!$C$4,\"Auswahl / Select 2013\")","v":"Auswahl / Select 2013"}]
["0005/DGK",{"$f":"HYPERLINK(\"files\\2013.\"&Herstellerauswahl!$C$4,\"BMW 4er Cabrio, 430i, G23, 245 PS / 180 kW\")","v":"BMW 4er Cabrio, 430i, G23, 245 PS / 180 kW"},{"$f":"HYPERLINK(\"files\\2013.\"&Herstellerauswahl!$C$4,\"Auswahl / Select 2013\")","v":"Auswahl / Select 2013"}]
["0005/DEK",{"$f":"HYPERLINK(\"files\\2013.\"&Herstellerauswahl!$C$4,\"BMW 4er Cabrio, M440i MHy xDrive, G23, 374 PS / 275 kW\")","v":"BMW 4er Cabrio, M440i MHy xDrive, G23, 374 PS / 275 kW"},{"$f":"HYPERLINK(\"files\\2013.\"&Herstellerauswahl!$C$4,\"Auswahl / Select 2013\")","v":"Auswahl / Select 2013"}]

{"sheet":"G26 Gran Coupe","index":64,"n_rows":16,"n_cols":4,"rows_kept":16,"cut":false,"hidden":false,"merged":[]}
[]
[]
["TSN/HSN","Motorauswahl für G26 Gran Coupe","Home","Zurück / back"]
[]
["0005/DGF",{"$f":"HYPERLINK(\"files\\2015.\"&Herstellerauswahl!$C$4,\"BMW 4er Gran Coupe, 420i, Typ G26, 170 PS / 125 kW\")","v":"BMW 4er Gran Coupe, 420i, Typ G26, 170 PS / 125 kW"},{"$f":"HYPERLINK(\"files\\2015.\"&Herstellerauswahl!$C$4,\"Auswahl / Select 2015\")","v":"Auswahl / Select 2015"}]
["0005/DFX",{"$f":"HYPERLINK(\"files\\2015.\"&Herstellerauswahl!$C$4,\"BMW 4er Gran Coupe, 420i, Typ G26, 184 PS / 135 kW\")","v":"BMW 4er Gran Coupe, 420i, Typ G26, 184 PS / 135 kW"},{"$f":"HYPERLINK(\"files\\2015.\"&Herstellerauswahl!$C$4,\"Auswahl / Select 2015\")","v":"Auswahl / Select 2015"}]
["0005/DFY",{"$f":"HYPERLINK(\"files\\2015.\"&Herstellerauswahl!$C$4,\"BMW 4er Gran Coupe, 430i, Typ G26, 245 PS / 180 kW\")","v":"BMW 4er Gran Coupe, 430i, Typ G26, 245 PS / 180 kW"},{"$f":"HYPERLINK(\"files\\2015.\"&Herstellerauswahl!$C$4,\"Auswahl / Select 2015\")","v":"Auswahl / Select 2015"}]
["0005/DHE",{"$f":"HYPERLINK(\"files\\2015.\"&Herstellerauswahl!$C$4,\"BMW 4er Gran Coupe, 430i xDrive, Typ G26, 245 PS / 180 kW\")","v":"BMW 4er Gran Coupe, 430i xDrive, Typ G26, 245 PS / 180 kW"},{"$f":"HYPERLINK(\"files\\2015.\"&Herstellerauswahl!$C$4,\"Auswahl / Select 2015\")","v":"Auswahl / Select 2015"}]
["0005/DGA",{"$f":"HYPERLINK(\"files\\2015.\"&Herstellerauswahl!$C$4,\"BMW 4er Gran Coupe, 420d, Typ G26, 190 PS / 140 kW\")","v":"BMW 4er Gran Coupe, 420d, Typ G26, 190 PS / 140 kW"},{"$f":"HYPERLINK(\"files\\2015.\"&Herstellerauswahl!$C$4,\"Auswahl / Select 2015\")","v":"Auswahl / Select 2015"}]
["0005/DGB",{"$f":"HYPERLINK(\"files\\2015.\"&Herstellerauswahl!$C$4,\"BMW 4er Gran Coupe, 420d MHy, Typ G26, 163 PS / 120 kW\")","v":"BMW 4er Gran Coupe, 420d MHy, Typ G26, 163 PS / 120 kW"},{"$f":"HYPERLINK(\"files\\2015.\"&Herstellerauswahl!$C$4,\"Auswahl / Select 2015\")","v":"Auswahl / Select 2015"}]
["0005/DGC",{"$f":"HYPERLINK(\"files\\2015.\"&Herstellerauswahl!$C$4,\"BMW 4er Gran Coupe, 420d MHy, Typ G26, 190 PS / 140 kW\")","v":"BMW 4er Gran Coupe, 420d MHy, Typ G26, 190 PS / 140 kW"},{"$f":"HYPERLINK(\"files\\2015.\"&Herstellerauswahl!$C$4,\"Auswahl / Select 2015\")","v":"Auswahl / Select 2015"}]
["0005/DGD",{"$f":"HYPERLINK(\"files\\2015.\"&Herstellerauswahl!$C$4,\"BMW 4er Gran Coupe, 420d xDrive, Typ G26, 190 PS / 140 kW\")","v":"BMW 4er Gran Coupe, 420d xDrive, Typ G26, 190 PS / 140 kW"},{"$f":"HYPERLINK(\"files\\2015.\"&Herstellerauswahl!$C$4,\"Auswahl / Select 2015\")","v":"Auswahl / Select 2015"}]
["0005/DGE",{"$f":"HYPERLINK(\"files\\2015.\"&Herstellerauswahl!$C$4,\"BMW 4er Gran Coupe, 420d MHy xDrive, Typ G26, 190 PS / 140 kW\")","v":"BMW 4er Gran Coupe, 420d MHy xDrive, Typ G26, 190 PS / 140 kW"},{"$f":"HYPERLINK(\"files\\2015.\"&Herstellerauswahl!$C$4,\"Auswahl / Select 2015\")","v":"Auswahl / Select 2015"}]
["0005/",{"$f":"HYPERLINK(\"files\\2015.\"&Herstellerauswahl!$C$4,\"BMW 4er Gran Coupe, 430d MHy xDrive, Typ G26, 286 PS / 210 kW\")","v":"BMW 4er Gran Coupe, 430d MHy xDrive, Typ G26, 286 PS / 210 kW"},{"$f":"HYPERLINK(\"files\\2015.\"&Herstellerauswahl!$C$4,\"Auswahl / Select 2015\")","v":"Auswahl / Select 2015"}]
["0005/",{"$f":"HYPERLINK(\"files\\2015.\"&Herstellerauswahl!$C$4,\"BMW 4er Gran Coupe, M440i MHy, Typ G26, 374 PS / 275 kW\")","v":"BMW 4er Gran Coupe, M440i MHy, Typ G26, 374 PS / 275 kW"},{"$f":"HYPERLINK(\"files\\2015.\"&Herstellerauswahl!$C$4,\"Auswahl / Select 2015\")","v":"Auswahl / Select 2015"}]
["0005/DFZ",{"$f":"HYPERLINK(\"files\\2015.\"&Herstellerauswahl!$C$4,\"BMW 4er Gran Coupe, M440i MHy xDrive, Typ G26, 374 PS / 275 kW\")","v":"BMW 4er Gran Coupe, M440i MHy xDrive, Typ G26, 374 PS / 275 kW"},{"$f":"HYPERLINK(\"files\\2015.\"&Herstellerauswahl!$C$4,\"Auswahl / Select 2015\")","v":"Auswahl / Select 2015"}]

{"sheet":"i4 G26 Gran Coupe","index":65,"n_rows":6,"n_cols":4,"rows_kept":6,"cut":false,"hidden":false,"merged":[]}
[]
[]
["TSN/HSN","Motorauswahl für i4 G26 Gran Coupe","Home","Zurück / back"]
[]
["0005/DGZ",{"$f":"HYPERLINK(\"files\\2016.\"&Herstellerauswahl!$C$4,\"BMW i4 Gran Coupe, eDrive40, Typ G26, 340 PS / 250 kW\")","v":"BMW i4 Gran Coupe, eDrive40, Typ G26, 340 PS / 250 kW"},{"$f":"HYPERLINK(\"files\\2016.\"&Herstellerauswahl!$C$4,\"Auswahl / Select 2016\")","v":"Auswahl / Select 2016"}]
["0005/DHA",{"$f":"HYPERLINK(\"files\\2016.\"&Herstellerauswahl!$C$4,\"BMW i4 Gran Coupe, M50 xDrive, Typ G26, 544 PS / 400 kW\")","v":"BMW i4 Gran Coupe, M50 xDrive, Typ G26, 544 PS / 400 kW"},{"$f":"HYPERLINK(\"files\\2016.\"&Herstellerauswahl!$C$4,\"Auswahl / Select 2016\")","v":"Auswahl / Select 2016"}]

{"sheet":"G82 M Coupe","index":66,"n_rows":7,"n_cols":4,"rows_kept":7,"cut":false,"hidden":false,"merged":[]}
[]
[]
["TSN/HSN","Motorauswahl für G82 M Coupe","Home","Zurück / back"]
[]
["7909/ACW",{"$f":"HYPERLINK(\"files\\2022.\"&Herstellerauswahl!$C$4,\"BMW 4er M Coupe, M4, Typ G82, 480 PS / 353 kW\")","v":"BMW 4er M Coupe, M4, Typ G82, 480 PS / 353 kW"},{"$f":"HYPERLINK(\"files\\2024.\"&Herstellerauswahl!$C$4,\"Auswahl / Select 2024\")","v":"Auswahl / Select 2024"}]
["7909/ACX",{"$f":"HYPERLINK(\"files\\2022.\"&Herstellerauswahl!$C$4,\"BMW 4er M Coupe Competition, M4, Typ G82, 510 PS / 375 kW\")","v":"BMW 4er M Coupe Competition, M4, Typ G82, 510 PS / 375 kW"},{"$f":"HYPERLINK(\"files\\2024.\"&Herstellerauswahl!$C$4,\"Auswahl / Select 2024\")","v":"Auswahl / Select 2024"}]
["7909/ADA",{"$f":"HYPERLINK(\"files\\2022.\"&Herstellerauswahl!$C$4,\"BMW 4er M Coupe Competition, M4 xDrive, Typ G82, 510 PS / 375 kW\")","v":"BMW 4er M Coupe Competition, M4 xDrive, Typ G82, 510 PS / 375 kW"},{"$f":"HYPERLINK(\"files\\2024.\"&Herstellerauswahl!$C$4,\"Auswahl / Select 2024\")","v":"Auswahl / Select 2024"}]

{"sheet":"G83 M Cabrio","index":67,"n_rows":5,"n_cols":4,"rows_kept":5,"cut":false,"hidden":false,"merged":[]}
[]
[]
["TSN/HSN","Motorauswahl für G83 M Cabrio","Home","Zurück / back"]
[]
["7909/ADB",{"$f":"HYPERLINK(\"files\\2022.\"&Herstellerauswahl!$C$4,\"BMW 4er M Cabrio Competition, M4 xDrive, Typ G83, 510 PS / 375 kW\")","v":"BMW 4er M Cabrio Competition, M4 xDrive, Typ G83, 510 PS / 375 kW"},{"$f":"HYPERLINK(\"files\\2024.\"&Herstellerauswahl!$C$4,\"Auswahl / Select 2024\")","v":"Auswahl / Select 2024"}]

{"sheet":"BMW 5er","index":68,"n_rows":22,"n_cols":4,"rows_kept":22,"cut":false,"hidden":false,"merged":[]}
[]
[]
[null,"Typauswahl für BMW 5er","Home","Zurück / back"]
[]
[null,"E60 Limousine","Auswahl / Select"]
[null,"E60 M Limousine","Auswahl / Select"]
[null,"E60 Facelift Limousine","Auswahl / Select"]
[null,"E61 Touring","Auswahl / Select"]
[null,"E61 M Touring","Auswahl / Select"]
[null,"E61 Facelift Touring","Auswahl / Select"]
[null,"F07 Gran Turismo","Auswahl / Select"]
[null,"F07 Facelift Gran Turismo","Auswahl / Select"]
[null,"F10 Limousine","Auswahl / Select"]
[null,"F10 M Limousine","Auswahl / Select"]
[null,"F10 Facelift Limousine","Auswahl / Select"]
[null,"F11 Touring","Auswahl / Select"]
[null,"F11 Facelift Touring","Auswahl / Select"]
[null,"F90 M Limousine","Auswahl / Select"]
[null,"G30 Limousine","Auswahl / Select"]
[null,"G30 Facelift Limousine","Auswahl / Select"]
[null,"G31 Touring","Auswahl / Select"]
[null,"G31 Facelift Touring","Auswahl / Select"]

{"sheet":"E60 Limousine","index":69,"n_rows":18,"n_cols":4,"rows_kept":18,"cut":false,"hidden":false,"merged":[]}
[]
[]
["TSN/HSN","Motorauswahl für E60 Limousine","Home","Zurück / back"]
[]
["0005/759",{"$f":"HYPERLINK(\"files\\3001.\"&Herstellerauswahl!$C$4,\"BMW 5er Limousine, 520i, E60, 170 PS / 125 kW\")","v":"BMW 5er Limousine, 520i, E60, 170 PS / 125 kW"},{"$f":"HYPERLINK(\"files\\3001.\"&Herstellerauswahl!$C$4,\"Auswahl / Select 3001\")","v":"Auswahl / Select 3001"}]
["0005/865/ABI",{"$f":"HYPERLINK(\"files\\3001.\"&Herstellerauswahl!$C$4,\"BMW 5er Limousine, 520d, E60, 163 PS / 120 kW\")","v":"BMW 5er Limousine, 520d, E60, 163 PS / 120 kW"},{"$f":"HYPERLINK(\"files\\3001.\"&Herstellerauswahl!$C$4,\"Auswahl / Select 3001\")","v":"Auswahl / Select 3001"}]
["0005/ABC",{"$f":"HYPERLINK(\"files\\3001.\"&Herstellerauswahl!$C$4,\"BMW 5er Limousine, 523i, E60, 177 PS / 130 kW\")","v":"BMW 5er Limousine, 523i, E60, 177 PS / 130 kW"},{"$f":"HYPERLINK(\"files\\3001.\"&Herstellerauswahl!$C$4,\"Auswahl / Select 3001\")","v":"Auswahl / Select 3001"}]
["0005/835/ABD",{"$f":"HYPERLINK(\"files\\3001.\"&Herstellerauswahl!$C$4,\"BMW 5er Limousine, 525i, E60, 218 PS / 160 kW\")","v":"BMW 5er Limousine, 525i, E60, 218 PS / 160 kW"},{"$f":"HYPERLINK(\"files\\3001.\"&Herstellerauswahl!$C$4,\"Auswahl / Select 3001\")","v":"Auswahl / Select 3001"}]
["0005/837/ABJ",{"$f":"HYPERLINK(\"files\\3001.\"&Herstellerauswahl!$C$4,\"BMW 5er Limousine, 530i, E60, 258 PS / 190 kW\")","v":"BMW 5er Limousine, 530i, E60, 258 PS / 190 kW"},{"$f":"HYPERLINK(\"files\\3001.\"&Herstellerauswahl!$C$4,\"Auswahl / Select 3001\")","v":"Auswahl / Select 3001"}]
["0005/760",{"$f":"HYPERLINK(\"files\\3001.\"&Herstellerauswahl!$C$4,\"BMW 5er Limousine, 530i, E60, 231 PS / 170 kW\")","v":"BMW 5er Limousine, 530i, E60, 231 PS / 170 kW"},{"$f":"HYPERLINK(\"files\\3001.\"&Herstellerauswahl!$C$4,\"Auswahl / Select 3001\")","v":"Auswahl / Select 3001"}]
["0005/762",{"$f":"HYPERLINK(\"files\\3001.\"&Herstellerauswahl!$C$4,\"BMW 5er Limousine, 530d, E60, 218 PS / 160 kW\")","v":"BMW 5er Limousine, 530d, E60, 218 PS / 160 kW"},{"$f":"HYPERLINK(\"files\\3001.\"&Herstellerauswahl!$C$4,\"Auswahl / Select 3001\")","v":"Auswahl / Select 3001"}]
["0005/863/ABH",{"$f":"HYPERLINK(\"files\\3001.\"&Herstellerauswahl!$C$4,\"BMW 5er Limousine, 530d, E60, 231 PS / 170 kW\")","v":"BMW 5er Limousine, 530d, E60, 231 PS / 170 kW"},{"$f":"HYPERLINK(\"files\\3001.\"&Herstellerauswahl!$C$4,\"Auswahl / Select 3001\")","v":"Auswahl / Select 3001"}]
["0005/856/ABF",{"$f":"HYPERLINK(\"files\\3001.\"&Herstellerauswahl!$C$4,\"BMW 5er Limousine, 540i, E60, 306 PS / 225 kW\")","v":"BMW 5er Limousine, 540i, E60, 306 PS / 225 kW"},{"$f":"HYPERLINK(\"files\\3001.\"&Herstellerauswahl!$C$4,\"Auswahl / Select 3001\")","v":"Auswahl / Select 3001"}]
["",{"$f":"HYPERLINK(\"files\\3001.\"&Herstellerauswahl!$C$4,\"BMW 5er Limousine, 540i, E60, 299 PS / 220 kW\")","v":"BMW 5er Limousine, 540i, E60, 299 PS / 220 kW"},{"$f":"HYPERLINK(\"files\\3001.\"&Herstellerauswahl!$C$4,\"Auswahl / Select 3001\")","v":"Auswahl / Select 3001"}]
["0005/857/ABG",{"$f":"HYPERLINK(\"files\\3001.\"&Herstellerauswahl!$C$4,\"BMW 5er Limousine, 550i, E60, 367 PS / 270 kW\")","v":"BMW 5er Limousine, 550i, E60, 367 PS / 270 kW"},{"$f":"HYPERLINK(\"files\\3001.\"&Herstellerauswahl!$C$4,\"Auswahl / Select 3001\")","v":"Auswahl / Select 3001"}]
["0005/176/AHD",{"$f":"HYPERLINK(\"files\\3002.\"&Herstellerauswahl!$C$4,\"BMW 5er Limousine, 525i xDrive, E60, 218 PS / 160 kW\")","v":"BMW 5er Limousine, 525i xDrive, E60, 218 PS / 160 kW"},{"$f":"HYPERLINK(\"files\\3002.\"&Herstellerauswahl!$C$4,\"Auswahl / Select 3002\")","v":"Auswahl / Select 3002"}]
["0005/174/AHE",{"$f":"HYPERLINK(\"files\\3002.\"&Herstellerauswahl!$C$4,\"BMW 5er Limousine, 530i xDrive, E60, 231 PS / 170 kW\")","v":"BMW 5er Limousine, 530i xDrive, E60, 231 PS / 170 kW"},{"$f":"HYPERLINK(\"files\\3002.\"&Herstellerauswahl!$C$4,\"Auswahl / Select 3002\")","v":"Auswahl / Select 3002"}]
["0005/859/ACE",{"$f":"HYPERLINK(\"files\\3002.\"&Herstellerauswahl!$C$4,\"BMW 5er Limousine, 530d xDrive, E60, 231 PS / 170 kW\")","v":"BMW 5er Limousine, 530d xDrive, E60, 231 PS / 170 kW"},{"$f":"HYPERLINK(\"files\\3002.\"&Herstellerauswahl!$C$4,\"Auswahl / Select 3002\")","v":"Auswahl / Select 3002"}]

{"sheet":"E60 M Limousine","index":70,"n_rows":5,"n_cols":4,"rows_kept":5,"cut":false,"hidden":false,"merged":[]}
[]
[]
["TSN/HSN","Motorauswahl für E60 M Limousine","Home","Zurück / back"]
[]
["7909/317/AAE/AAO",{"$f":"HYPERLINK(\"files\\3009.\"&Herstellerauswahl!$C$4,\"BMW 5er M Limousine, M5, E60, 507 PS / 373 kW\")","v":"BMW 5er M Limousine, M5, E60, 507 PS / 373 kW"},{"$f":"HYPERLINK(\"files\\3009.\"&Herstellerauswahl!$C$4,\"Auswahl / Select 3009\")","v":"Auswahl / Select 3009"}]

{"sheet":"E60 Facelift Limousine","index":71,"n_rows":21,"n_cols":4,"rows_kept":21,"cut":false,"hidden":false,"merged":[]}
[]
[]
["TSN/HSN","Motorauswahl für E60 Facelift Limousine","Home","Zurück / back"]
[]
["0005/AMC",{"$f":"HYPERLINK(\"files\\3001.\"&Herstellerauswahl!$C$4,\"BMW 5er Limousine, 520i, E60 (LCI), 156 PS / 115 kW\")","v":"BMW 5er Limousine, 520i, E60 (LCI), 156 PS / 115 kW"},{"$f":"HYPERLINK(\"files\\3001.\"&Herstellerauswahl!$C$4,\"Auswahl / Select 3001\")","v":"Auswahl / Select 3001"}]
["0005/AIY",{"$f":"HYPERLINK(\"files\\3001.\"&Herstellerauswahl!$C$4,\"BMW 5er Limousine, 520i, E60 (LCI), 170 PS / 125 kW\")","v":"BMW 5er Limousine, 520i, E60 (LCI), 170 PS / 125 kW"},{"$f":"HYPERLINK(\"files\\3001.\"&Herstellerauswahl!$C$4,\"Auswahl / Select 3001\")","v":"Auswahl / Select 3001"}]
["0005/ABI",{"$f":"HYPERLINK(\"files\\3001.\"&Herstellerauswahl!$C$4,\"BMW 5er Limousine, 520d, E60 (LCI), 163 PS / 120 kW\")","v":"BMW 5er Limousine, 520d, E60 (LCI), 163 PS / 120 kW"},{"$f":"HYPERLINK(\"files\\3001.\"&Herstellerauswahl!$C$4,\"Auswahl / Select 3001\")","v":"Auswahl / Select 3001"}]
["0005/AJC",{"$f":"HYPERLINK(\"files\\3001.\"&Herstellerauswahl!$C$4,\"BMW 5er Limousine, 520d, E60 (LCI), 177 PS / 130 kW\")","v":"BMW 5er Limousine, 520d, E60 (LCI), 177 PS / 130 kW"},{"$f":"HYPERLINK(\"files\\3001.\"&Herstellerauswahl!$C$4,\"Auswahl / Select 3001\")","v":"Auswahl / Select 3001"}]
["0005/AHZ",{"$f":"HYPERLINK(\"files\\3001.\"&Herstellerauswahl!$C$4,\"BMW 5er Limousine, 523i, E60 (LCI), 190 PS / 140 kW\")","v":"BMW 5er Limousine, 523i, E60 (LCI), 190 PS / 140 kW"},{"$f":"HYPERLINK(\"files\\3001.\"&Herstellerauswahl!$C$4,\"Auswahl / Select 3001\")","v":"Auswahl / Select 3001"}]
["0005/AIA/ABD",{"$f":"HYPERLINK(\"files\\3001.\"&Herstellerauswahl!$C$4,\"BMW 5er Limousine, 525i, E60 (LCI), 218 PS / 160 kW\")","v":"BMW 5er Limousine, 525i, E60 (LCI), 218 PS / 160 kW"},{"$f":"HYPERLINK(\"files\\3001.\"&Herstellerauswahl!$C$4,\"Auswahl / Select 3001\")","v":"Auswahl / Select 3001"}]
["",{"$f":"HYPERLINK(\"files\\3001.\"&Herstellerauswahl!$C$4,\"BMW 5er Limousine, 530i, E60 (LCI), 231 PS / 170 kW\")","v":"BMW 5er Limousine, 530i, E60 (LCI), 231 PS / 170 kW"},{"$f":"HYPERLINK(\"files\\3001.\"&Herstellerauswahl!$C$4,\"Auswahl / Select 3001\")","v":"Auswahl / Select 3001"}]
["0005/AIB",{"$f":"HYPERLINK(\"files\\3001.\"&Herstellerauswahl!$C$4,\"BMW 5er Limousine, 530i, E60 (LCI), 272 PS / 200 kW\")","v":"BMW 5er Limousine, 530i, E60 (LCI), 272 PS / 200 kW"},{"$f":"HYPERLINK(\"files\\3001.\"&Herstellerauswahl!$C$4,\"Auswahl / Select 3001\")","v":"Auswahl / Select 3001"}]
["",{"$f":"HYPERLINK(\"files\\3001.\"&Herstellerauswahl!$C$4,\"BMW 5er Limousine, 525d, E60 (LCI), 197 PS / 145 kW\")","v":"BMW 5er Limousine, 525d, E60 (LCI), 197 PS / 145 kW"},{"$f":"HYPERLINK(\"files\\3001.\"&Herstellerauswahl!$C$4,\"Auswahl / Select 3001\")","v":"Auswahl / Select 3001"}]
["0005/AAY",{"$f":"HYPERLINK(\"files\\3001.\"&Herstellerauswahl!$C$4,\"BMW 5er Limousine, 530d, E60 (LCI), 211 PS / 155 kW\")","v":"BMW 5er Limousine, 530d, E60 (LCI), 211 PS / 155 kW"},{"$f":"HYPERLINK(\"files\\3001.\"&Herstellerauswahl!$C$4,\"Auswahl / Select 3001\")","v":"Auswahl / Select 3001"}]
["0005/AID",{"$f":"HYPERLINK(\"files\\3001.\"&Herstellerauswahl!$C$4,\"BMW 5er Limousine, 530d, E60 (LCI), 235 PS / 173 kW\")","v":"BMW 5er Limousine, 530d, E60 (LCI), 235 PS / 173 kW"},{"$f":"HYPERLINK(\"files\\3001.\"&Herstellerauswahl!$C$4,\"Auswahl / Select 3001\")","v":"Auswahl / Select 3001"}]
["0005/ABF",{"$f":"HYPERLINK(\"files\\3001.\"&Herstellerauswahl!$C$4,\"BMW 5er Limousine, 540i, E60 (LCI), 306 PS / 225 kW\")","v":"BMW 5er Limousine, 540i, E60 (LCI), 306 PS / 225 kW"},{"$f":"HYPERLINK(\"files\\3001.\"&Herstellerauswahl!$C$4,\"Auswahl / Select 3001\")","v":"Auswahl / Select 3001"}]
["0005/ABG",{"$f":"HYPERLINK(\"files\\3001.\"&Herstellerauswahl!$C$4,\"BMW 5er Limousine, 550i, E60 (LCI), 367 PS / 270 kW\")","v":"BMW 5er Limousine, 550i, E60 (LCI), 367 PS / 270 kW"},{"$f":"HYPERLINK(\"files\\3001.\"&Herstellerauswahl!$C$4,\"Auswahl / Select 3001\")","v":"Auswahl / Select 3001"}]
["0005/AIO",{"$f":"HYPERLINK(\"files\\3002.\"&Herstellerauswahl!$C$4,\"BMW 5er Limousine, 525i xDrive, E60 (LCI), 218 PS / 160 kW\")","v":"BMW 5er Limousine, 525i xDrive, E60 (LCI), 218 PS / 160 kW"},{"$f":"HYPERLINK(\"files\\3002.\"&Herstellerauswahl!$C$4,\"Auswahl / Select 3002\")","v":"Auswahl / Select 3002"}]
["0005/AIP",{"$f":"HYPERLINK(\"files\\3002.\"&Herstellerauswahl!$C$4,\"BMW 5er Limousine, 530i xDrive, E60 (LCI), 272 PS / 200 kW\")","v":"BMW 5er Limousine, 530i xDrive, E60 (LCI), 272 PS / 200 kW"},{"$f":"HYPERLINK(\"files\\3002.\"&Herstellerauswahl!$C$4,\"Auswahl / Select 3002\")","v":"Auswahl / Select 3002"}]
["",{"$f":"HYPERLINK(\"files\\3002.\"&Herstellerauswahl!$C$4,\"BMW 5er Limousine, 530d xDrive, E60 (LCI), 197 PS / 145 kW\")","v":"BMW 5er Limousine, 530d xDrive, E60 (LCI), 197 PS / 145 kW"},{"$f":"HYPERLINK(\"files\\3002.\"&Herstellerauswahl!$C$4,\"Auswahl / Select 3002\")","v":"Auswahl / Select 3002"}]
["0005/AIQ",{"$f":"HYPERLINK(\"files\\3002.\"&Herstellerauswahl!$C$4,\"BMW 5er Limousine, 530d xDrive, E60 (LCI), 235 PS / 173 kW\")","v":"BMW 5er Limousine, 530d xDrive, E60 (LCI), 235 PS / 173 kW"},{"$f":"HYPERLINK(\"files\\3002.\"&Herstellerauswahl!$C$4,\"Auswahl / Select 3002\")","v":"Auswahl / Select 3002"}]

{"sheet":"E61 Touring","index":72,"n_rows":17,"n_cols":4,"rows_kept":17,"cut":false,"hidden":false,"merged":[]}
[]
[]
["TSN/HSN","Motorauswahl für E61 Touring","Home","Zurück / back"]
[]
["0005/866/ABB",{"$f":"HYPERLINK(\"files\\3001.\"&Herstellerauswahl!$C$4,\"BMW 5er Touring, 520d, E61, 163 PS / 120 kW\")","v":"BMW 5er Touring, 520d, E61, 163 PS / 120 kW"},{"$f":"HYPERLINK(\"files\\3001.\"&Herstellerauswahl!$C$4,\"Auswahl / Select 3001\")","v":"Auswahl / Select 3001"}]
["",{"$f":"HYPERLINK(\"files\\3001.\"&Herstellerauswahl!$C$4,\"BMW 5er Touring, 520i, E61, 163 PS / 120 kW\")","v":"BMW 5er Touring, 520i, E61, 163 PS / 120 kW"},{"$f":"HYPERLINK(\"files\\3001.\"&Herstellerauswahl!$C$4,\"Auswahl / Select 3001\")","v":"Auswahl / Select 3001"}]
["0005/838/AWW",{"$f":"HYPERLINK(\"files\\3001.\"&Herstellerauswahl!$C$4,\"BMW 5er Touring, 523i, E61, 177 PS / 130 kW\")","v":"BMW 5er Touring, 523i, E61, 177 PS / 130 kW"},{"$f":"HYPERLINK(\"files\\3001.\"&Herstellerauswahl!$C$4,\"Auswahl / Select 3001\")","v":"Auswahl / Select 3001"}]
["0005/839/ABA",{"$f":"HYPERLINK(\"files\\3001.\"&Herstellerauswahl!$C$4,\"BMW 5er Touring, 525i, E61, 218 PS / 160 kW\")","v":"BMW 5er Touring, 525i, E61, 218 PS / 160 kW"},{"$f":"HYPERLINK(\"files\\3001.\"&Herstellerauswahl!$C$4,\"Auswahl / Select 3001\")","v":"Auswahl / Select 3001"}]
["0005/841/AAZ",{"$f":"HYPERLINK(\"files\\3001.\"&Herstellerauswahl!$C$4,\"BMW 5er Touring, 530i, E61, 231 PS / 170 kW\")","v":"BMW 5er Touring, 530i, E61, 231 PS / 170 kW"},{"$f":"HYPERLINK(\"files\\3001.\"&Herstellerauswahl!$C$4,\"Auswahl / Select 3001\")","v":"Auswahl / Select 3001"}]
["",{"$f":"HYPERLINK(\"files\\3001.\"&Herstellerauswahl!$C$4,\"BMW 5er Touring, 530i, E61, 258 PS / 190 kW\")","v":"BMW 5er Touring, 530i, E61, 258 PS / 190 kW"},{"$f":"HYPERLINK(\"files\\3001.\"&Herstellerauswahl!$C$4,\"Auswahl / Select 3001\")","v":"Auswahl / Select 3001"}]
["0005/794",{"$f":"HYPERLINK(\"files\\3001.\"&Herstellerauswahl!$C$4,\"BMW 5er Touring, 530d, E61, 218 PS / 160 kW\")","v":"BMW 5er Touring, 530d, E61, 218 PS / 160 kW"},{"$f":"HYPERLINK(\"files\\3001.\"&Herstellerauswahl!$C$4,\"Auswahl / Select 3001\")","v":"Auswahl / Select 3001"}]
["0005/864/ABR",{"$f":"HYPERLINK(\"files\\3001.\"&Herstellerauswahl!$C$4,\"BMW 5er Touring, 530d, E61, 231 PS / 170 kW\")","v":"BMW 5er Touring, 530d, E61, 231 PS / 170 kW"},{"$f":"HYPERLINK(\"files\\3001.\"&Herstellerauswahl!$C$4,\"Auswahl / Select 3001\")","v":"Auswahl / Select 3001"}]
["0005/799",{"$f":"HYPERLINK(\"files\\3001.\"&Herstellerauswahl!$C$4,\"BMW 5er Touring, 545i, E61, 333 PS / 245 kW\")","v":"BMW 5er Touring, 545i, E61, 333 PS / 245 kW"},{"$f":"HYPERLINK(\"files\\3001.\"&Herstellerauswahl!$C$4,\"Auswahl / Select 3001\")","v":"Auswahl / Select 3001"}]
["0005/858/AAX",{"$f":"HYPERLINK(\"files\\3001.\"&Herstellerauswahl!$C$4,\"BMW 5er Touring, 550i, E61, 367 PS / 270 kW\")","v":"BMW 5er Touring, 550i, E61, 367 PS / 270 kW"},{"$f":"HYPERLINK(\"files\\3001.\"&Herstellerauswahl!$C$4,\"Auswahl / Select 3001\")","v":"Auswahl / Select 3001"}]
["0005/177/AHC",{"$f":"HYPERLINK(\"files\\3002.\"&Herstellerauswahl!$C$4,\"BMW 5er Touring, 525i xDrive, E61, 218 PS / 160 kW\")","v":"BMW 5er Touring, 525i xDrive, E61, 218 PS / 160 kW"},{"$f":"HYPERLINK(\"files\\3002.\"&Herstellerauswahl!$C$4,\"Auswahl / Select 3002\")","v":"Auswahl / Select 3002"}]
["0005/175/AHB",{"$f":"HYPERLINK(\"files\\3002.\"&Herstellerauswahl!$C$4,\"BMW 5er Touring, 530i xDrive, E61, 231 PS / 170 kW\")","v":"BMW 5er Touring, 530i xDrive, E61, 231 PS / 170 kW"},{"$f":"HYPERLINK(\"files\\3002.\"&Herstellerauswahl!$C$4,\"Auswahl / Select 3002\")","v":"Auswahl / Select 3002"}]
["0005/860/ACF",{"$f":"HYPERLINK(\"files\\3002.\"&Herstellerauswahl!$C$4,\"BMW 5er Touring, 530d xDrive, E61, 231 PS / 170 kW\")","v":"BMW 5er Touring, 530d xDrive, E61, 231 PS / 170 kW"},{"$f":"HYPERLINK(\"files\\3002.\"&Herstellerauswahl!$C$4,\"Auswahl / Select 3002\")","v":"Auswahl / Select 3002"}]

{"sheet":"E61 M Touring","index":73,"n_rows":5,"n_cols":4,"rows_kept":5,"cut":false,"hidden":false,"merged":[]}
[]
[]
["TSN/HSN","Motorauswahl für E61 M Touring","Home","Zurück / back"]
[]
["7909/AAG/AAP",{"$f":"HYPERLINK(\"files\\3013.\"&Herstellerauswahl!$C$4,\"BMW 5er M Touring, M5, E61, 507 PS / 373 kW\")","v":"BMW 5er M Touring, M5, E61, 507 PS / 373 kW"},{"$f":"HYPERLINK(\"files\\3013.\"&Herstellerauswahl!$C$4,\"Auswahl / Select 3013\")","v":"Auswahl / Select 3013"}]

{"sheet":"E61 Facelift Touring","index":74,"n_rows":22,"n_cols":4,"rows_kept":22,"cut":false,"hidden":false,"merged":[]}
[]
[]
["TSN/HSN","Motorauswahl für E61 Facelift Touring","Home","Zurück / back"]
[]
["0005/AJB",{"$f":"HYPERLINK(\"files\\3001.\"&Herstellerauswahl!$C$4,\"BMW 5er Touring, 520i, E61 (LCI), 163 PS / 120 kW\")","v":"BMW 5er Touring, 520i, E61 (LCI), 163 PS / 120 kW"},{"$f":"HYPERLINK(\"files\\3001.\"&Herstellerauswahl!$C$4,\"Auswahl / Select 3001\")","v":"Auswahl / Select 3001"}]
["0005/AIZ",{"$f":"HYPERLINK(\"files\\3001.\"&Herstellerauswahl!$C$4,\"BMW 5er Touring, 520i, E61 (LCI), 170 PS / 125 kW\")","v":"BMW 5er Touring, 520i, E61 (LCI), 170 PS / 125 kW"},{"$f":"HYPERLINK(\"files\\3001.\"&Herstellerauswahl!$C$4,\"Auswahl / Select 3001\")","v":"Auswahl / Select 3001"}]
["0005/ABB",{"$f":"HYPERLINK(\"files\\3001.\"&Herstellerauswahl!$C$4,\"BMW 5er Touring, 520d, E61 (LCI), 163 PS / 120 kW\")","v":"BMW 5er Touring, 520d, E61 (LCI), 163 PS / 120 kW"},{"$f":"HYPERLINK(\"files\\3001.\"&Herstellerauswahl!$C$4,\"Auswahl / Select 3001\")","v":"Auswahl / Select 3001"}]
["0005/AJD",{"$f":"HYPERLINK(\"files\\3001.\"&Herstellerauswahl!$C$4,\"BMW 5er Touring, 520d, E61 (LCI), 177 PS / 130 kW\")","v":"BMW 5er Touring, 520d, E61 (LCI), 177 PS / 130 kW"},{"$f":"HYPERLINK(\"files\\3001.\"&Herstellerauswahl!$C$4,\"Auswahl / Select 3001\")","v":"Auswahl / Select 3001"}]
["0005/AIF",{"$f":"HYPERLINK(\"files\\3001.\"&Herstellerauswahl!$C$4,\"BMW 5er Touring, 523i, E61 (LCI), 190 PS / 140 kW\")","v":"BMW 5er Touring, 523i, E61 (LCI), 190 PS / 140 kW"},{"$f":"HYPERLINK(\"files\\3001.\"&Herstellerauswahl!$C$4,\"Auswahl / Select 3001\")","v":"Auswahl / Select 3001"}]
["",{"$f":"HYPERLINK(\"files\\3001.\"&Herstellerauswahl!$C$4,\"BMW 5er Touring, 525i, E61 (LCI), 190 PS / 140 kW\")","v":"BMW 5er Touring, 525i, E61 (LCI), 190 PS / 140 kW"},{"$f":"HYPERLINK(\"files\\3001.\"&Herstellerauswahl!$C$4,\"Auswahl / Select 3001\")","v":"Auswahl / Select 3001"}]
["0005/AIG/ABA",{"$f":"HYPERLINK(\"files\\3001.\"&Herstellerauswahl!$C$4,\"BMW 5er Touring, 525i, E61 (LCI), 218 PS / 160 kW\")","v":"BMW 5er Touring, 525i, E61 (LCI), 218 PS / 160 kW"},{"$f":"HYPERLINK(\"files\\3001.\"&Herstellerauswahl!$C$4,\"Auswahl / Select 3001\")","v":"Auswahl / Select 3001"}]
["0005/AIN",{"$f":"HYPERLINK(\"files\\3001.\"&Herstellerauswahl!$C$4,\"BMW 5er Touring, 530i, E61 (LCI), 231 PS / 170 kW\")","v":"BMW 5er Touring, 530i, E61 (LCI), 231 PS / 170 kW"},{"$f":"HYPERLINK(\"files\\3001.\"&Herstellerauswahl!$C$4,\"Auswahl / Select 3001\")","v":"Auswahl / Select 3001"}]
["",{"$f":"HYPERLINK(\"files\\3001.\"&Herstellerauswahl!$C$4,\"BMW 5er Touring, 530i, E61 (LCI), 258 PS / 190 kW\")","v":"BMW 5er Touring, 530i, E61 (LCI), 258 PS / 190 kW"},{"$f":"HYPERLINK(\"files\\3001.\"&Herstellerauswahl!$C$4,\"Auswahl / Select 3001\")","v":"Auswahl / Select 3001"}]
["",{"$f":"HYPERLINK(\"files\\3001.\"&Herstellerauswahl!$C$4,\"BMW 5er Touring, 530i, E61 (LCI), 272 PS / 200 kW\")","v":"BMW 5er Touring, 530i, E61 (LCI), 272 PS / 200 kW"},{"$f":"HYPERLINK(\"files\\3001.\"&Herstellerauswahl!$C$4,\"Auswahl / Select 3001\")","v":"Auswahl / Select 3001"}]
["",{"$f":"HYPERLINK(\"files\\3001.\"&Herstellerauswahl!$C$4,\"BMW 5er Touring, 530d, E61 (LCI), 231 PS / 170 kW\")","v":"BMW 5er Touring, 530d, E61 (LCI), 231 PS / 170 kW"},{"$f":"HYPERLINK(\"files\\3001.\"&Herstellerauswahl!$C$4,\"Auswahl / Select 3001\")","v":"Auswahl / Select 3001"}]
["0005/AIJ",{"$f":"HYPERLINK(\"files\\3001.\"&Herstellerauswahl!$C$4,\"BMW 5er Touring, 530d, E61 (LCI), 235 PS / 173 kW\")","v":"BMW 5er Touring, 530d, E61 (LCI), 235 PS / 173 kW"},{"$f":"HYPERLINK(\"files\\3001.\"&Herstellerauswahl!$C$4,\"Auswahl / Select 3001\")","v":"Auswahl / Select 3001"}]
["",{"$f":"HYPERLINK(\"files\\3001.\"&Herstellerauswahl!$C$4,\"BMW 5er Touring, 545i, E61 (LCI), 333 PS / 245 kW\")","v":"BMW 5er Touring, 545i, E61 (LCI), 333 PS / 245 kW"},{"$f":"HYPERLINK(\"files\\3001.\"&Herstellerauswahl!$C$4,\"Auswahl / Select 3001\")","v":"Auswahl / Select 3001"}]
["0005/AAX",{"$f":"HYPERLINK(\"files\\3001.\"&Herstellerauswahl!$C$4,\"BMW 5er Touring, 550i, E61 (LCI), 367 PS / 270 kW\")","v":"BMW 5er Touring, 550i, E61 (LCI), 367 PS / 270 kW"},{"$f":"HYPERLINK(\"files\\3001.\"&Herstellerauswahl!$C$4,\"Auswahl / Select 3001\")","v":"Auswahl / Select 3001"}]
["0005/AIR",{"$f":"HYPERLINK(\"files\\3002.\"&Herstellerauswahl!$C$4,\"BMW 5er Touring, 530i xDrive, E61 (LCI), 218 PS / 160 kW\")","v":"BMW 5er Touring, 530i xDrive, E61 (LCI), 218 PS / 160 kW"},{"$f":"HYPERLINK(\"files\\3002.\"&Herstellerauswahl!$C$4,\"Auswahl / Select 3002\")","v":"Auswahl / Select 3002"}]
["0005/AIS",{"$f":"HYPERLINK(\"files\\3002.\"&Herstellerauswahl!$C$4,\"BMW 5er Touring, 530i xDrive, E61 (LCI), 272 PS / 200 kW\")","v":"BMW 5er Touring, 530i xDrive, E61 (LCI), 272 PS / 200 kW"},{"$f":"HYPERLINK(\"files\\3002.\"&Herstellerauswahl!$C$4,\"Auswahl / Select 3002\")","v":"Auswahl / Select 3002"}]
["0005/AJF",{"$f":"HYPERLINK(\"files\\3002.\"&Herstellerauswahl!$C$4,\"BMW 5er Touring, 525d xDrive, E61 (LCI), 197 PS / 145 kW\")","v":"BMW 5er Touring, 525d xDrive, E61 (LCI), 197 PS / 145 kW"},{"$f":"HYPERLINK(\"files\\3002.\"&Herstellerauswahl!$C$4,\"Auswahl / Select 3002\")","v":"Auswahl / Select 3002"}]
["0005/AJF",{"$f":"HYPERLINK(\"files\\3002.\"&Herstellerauswahl!$C$4,\"BMW 5er Touring, 530d xDrive, E61 (LCI), 235 PS / 173 kW\")","v":"BMW 5er Touring, 530d xDrive, E61 (LCI), 235 PS / 173 kW"},{"$f":"HYPERLINK(\"files\\3002.\"&Herstellerauswahl!$C$4,\"Auswahl / Select 3002\")","v":"Auswahl / Select 3002"}]

{"sheet":"F07 Gran Turismo","index":75,"n_rows":15,"n_cols":4,"rows_kept":15,"cut":false,"hidden":false,"merged":[]}
[]
[]
["TSN/HSN","Motorauswahl für F07 Gran Turismo","Home","Zurück / back"]
[]
["0005/BJQ/BJR",{"$f":"HYPERLINK(\"files\\3018.\"&Herstellerauswahl!$C$4,\"BMW 5er Gran Turismo, 520d, F07, 184 PS / 135 kW\")","v":"BMW 5er Gran Turismo, 520d, F07, 184 PS / 135 kW"},{"$f":"HYPERLINK(\"files\\3018.\"&Herstellerauswahl!$C$4,\"Auswahl / Select 3018\")","v":"Auswahl / Select 3018"}]
["0005/AIP/ASK/BAD",{"$f":"HYPERLINK(\"files\\3018.\"&Herstellerauswahl!$C$4,\"BMW 5er Gran Turismo, 530d, F07, 245 PS / 180 kW\")","v":"BMW 5er Gran Turismo, 530d, F07, 245 PS / 180 kW"},{"$f":"HYPERLINK(\"files\\3018.\"&Herstellerauswahl!$C$4,\"Auswahl / Select 3018\")","v":"Auswahl / Select 3018"}]
["0005/BJU/BJV",{"$f":"HYPERLINK(\"files\\3018.\"&Herstellerauswahl!$C$4,\"BMW 5er Gran Turismo, 530d, F07, 258 PS / 190 kW\")","v":"BMW 5er Gran Turismo, 530d, F07, 258 PS / 190 kW"},{"$f":"HYPERLINK(\"files\\3018.\"&Herstellerauswahl!$C$4,\"Auswahl / Select 3018\")","v":"Auswahl / Select 3018"}]
["0005/BHU/BJW/BJX",{"$f":"HYPERLINK(\"files\\3018.\"&Herstellerauswahl!$C$4,\"BMW 5er Gran Turismo, 535d, F07, 313 PS / 230 kW\")","v":"BMW 5er Gran Turismo, 535d, F07, 313 PS / 230 kW"},{"$f":"HYPERLINK(\"files\\3018.\"&Herstellerauswahl!$C$4,\"Auswahl / Select 3018\")","v":"Auswahl / Select 3018"}]
["0005/APH/ASL",{"$f":"HYPERLINK(\"files\\3017.\"&Herstellerauswahl!$C$4,\"BMW 5er Gran Turismo, 550i, F07, 408 PS / 300 kW\")","v":"BMW 5er Gran Turismo, 550i, F07, 408 PS / 300 kW"},{"$f":"HYPERLINK(\"files\\3017.\"&Herstellerauswahl!$C$4,\"Auswahl / Select 3017\")","v":"Auswahl / Select 3017"}]
["0005/BJO/BJP",{"$f":"HYPERLINK(\"files\\3017.\"&Herstellerauswahl!$C$4,\"BMW 5er Gran Turismo, 550i, F07, 449 PS / 330 kW\")","v":"BMW 5er Gran Turismo, 550i, F07, 449 PS / 330 kW"},{"$f":"HYPERLINK(\"files\\3017.\"&Herstellerauswahl!$C$4,\"Auswahl / Select 3017\")","v":"Auswahl / Select 3017"}]
["0005/AZA/BAS/BDF",{"$f":"HYPERLINK(\"files\\3018.\"&Herstellerauswahl!$C$4,\"BMW 5er Gran Turismo, 530d xDrive, F07, 245 PS / 180 kW\")","v":"BMW 5er Gran Turismo, 530d xDrive, F07, 245 PS / 180 kW"},{"$f":"HYPERLINK(\"files\\3018.\"&Herstellerauswahl!$C$4,\"Auswahl / Select 3018\")","v":"Auswahl / Select 3018"}]
["0005/BKA/BKB/BEN",{"$f":"HYPERLINK(\"files\\3018.\"&Herstellerauswahl!$C$4,\"BMW 5er Gran Turismo, 530d xDrive, F07, 258 PS / 190 kW\")","v":"BMW 5er Gran Turismo, 530d xDrive, F07, 258 PS / 190 kW"},{"$f":"HYPERLINK(\"files\\3018.\"&Herstellerauswahl!$C$4,\"Auswahl / Select 3018\")","v":"Auswahl / Select 3018"}]
["0005/BKC/BKD",{"$f":"HYPERLINK(\"files\\3018.\"&Herstellerauswahl!$C$4,\"BMW 5er Gran Turismo, 535d xDrive, F07, 313 PS / 230 kW\")","v":"BMW 5er Gran Turismo, 535d xDrive, F07, 313 PS / 230 kW"},{"$f":"HYPERLINK(\"files\\3018.\"&Herstellerauswahl!$C$4,\"Auswahl / Select 3018\")","v":"Auswahl / Select 3018"}]
["0005/AYZ/BCX",{"$f":"HYPERLINK(\"files\\3018.\"&Herstellerauswahl!$C$4,\"BMW 5er Gran Turismo, 535i xDrive, F07, 306 PS / 225 kW\")","v":"BMW 5er Gran Turismo, 535i xDrive, F07, 306 PS / 225 kW"},{"$f":"HYPERLINK(\"files\\3018.\"&Herstellerauswahl!$C$4,\"Auswahl / Select 3018\")","v":"Auswahl / Select 3018"}]
["0005/BJY/BJZ",{"$f":"HYPERLINK(\"files\\3017.\"&Herstellerauswahl!$C$4,\"BMW 5er Gran Turismo, 550i xDrive, F07, 449 PS / 330 kW\")","v":"BMW 5er Gran Turismo, 550i xDrive, F07, 449 PS / 330 kW"},{"$f":"HYPERLINK(\"files\\3017.\"&Herstellerauswahl!$C$4,\"Auswahl / Select 3017\")","v":"Auswahl / Select 3017"}]

{"sheet":"F07 Facelift Gran Turismo","index":76,"n_rows":11,"n_cols":4,"rows_kept":11,"cut":false,"hidden":false,"merged":[]}
[]
[]
["TSN/HSN","Motorauswahl für F07 Facelift Gran Turismo","Home","Zurück / back"]
[]
["0005/BAB/BJQ/BJR",{"$f":"HYPERLINK(\"files\\3018.\"&Herstellerauswahl!$C$4,\"BMW 5er Gran Turismo, 520d, F07 (LCI), 184 PS / 135 kW\")","v":"BMW 5er Gran Turismo, 520d, F07 (LCI), 184 PS / 135 kW"},{"$f":"HYPERLINK(\"files\\3018.\"&Herstellerauswahl!$C$4,\"Auswahl / Select 3018\")","v":"Auswahl / Select 3018"}]
["0005/BHS/BJU/BJV",{"$f":"HYPERLINK(\"files\\3018.\"&Herstellerauswahl!$C$4,\"BMW 5er Gran Turismo, 530d, F07 (LCI), 258 PS / 190 kW\")","v":"BMW 5er Gran Turismo, 530d, F07 (LCI), 258 PS / 190 kW"},{"$f":"HYPERLINK(\"files\\3018.\"&Herstellerauswahl!$C$4,\"Auswahl / Select 3018\")","v":"Auswahl / Select 3018"}]
["0005/BHU/BJW/BJX",{"$f":"HYPERLINK(\"files\\3018.\"&Herstellerauswahl!$C$4,\"BMW 5er Gran Turismo, 535d, F07 (LCI), 313 PS / 230 kW\")","v":"BMW 5er Gran Turismo, 535d, F07 (LCI), 313 PS / 230 kW"},{"$f":"HYPERLINK(\"files\\3018.\"&Herstellerauswahl!$C$4,\"Auswahl / Select 3018\")","v":"Auswahl / Select 3018"}]
["0005/BJO/BJP",{"$f":"HYPERLINK(\"files\\3017.\"&Herstellerauswahl!$C$4,\"BMW 5er Gran Turismo, 550i, F07 (LCI), 449 PS / 330 kW\")","v":"BMW 5er Gran Turismo, 550i, F07 (LCI), 449 PS / 330 kW"},{"$f":"HYPERLINK(\"files\\3017.\"&Herstellerauswahl!$C$4,\"Auswahl / Select 3017\")","v":"Auswahl / Select 3017"}]
["0005/BEN/BKA/BKB",{"$f":"HYPERLINK(\"files\\3018.\"&Herstellerauswahl!$C$4,\"BMW 5er Gran Turismo, 530d xDrive, F07 (LCI), 258 PS / 190 kW\")","v":"BMW 5er Gran Turismo, 530d xDrive, F07 (LCI), 258 PS / 190 kW"},{"$f":"HYPERLINK(\"files\\3018.\"&Herstellerauswahl!$C$4,\"Auswahl / Select 3018\")","v":"Auswahl / Select 3018"}]
["0005/BHW/BKC/BKD",{"$f":"HYPERLINK(\"files\\3018.\"&Herstellerauswahl!$C$4,\"BMW 5er Gran Turismo, 535d xDrive, F07 (LCI), 313 PS / 230 kW\")","v":"BMW 5er Gran Turismo, 535d xDrive, F07 (LCI), 313 PS / 230 kW"},{"$f":"HYPERLINK(\"files\\3018.\"&Herstellerauswahl!$C$4,\"Auswahl / Select 3018\")","v":"Auswahl / Select 3018"}]
["0005/BJY/BJZ",{"$f":"HYPERLINK(\"files\\3017.\"&Herstellerauswahl!$C$4,\"BMW 5er Gran Turismo, 550i xDrive, F07 (LCI), 449 PS / 330 kW\")","v":"BMW 5er Gran Turismo, 550i xDrive, F07 (LCI), 449 PS / 330 kW"},{"$f":"HYPERLINK(\"files\\3017.\"&Herstellerauswahl!$C$4,\"Auswahl / Select 3017\")","v":"Auswahl / Select 3017"}]

{"sheet":"F10 Limousine","index":77,"n_rows":25,"n_cols":4,"rows_kept":25,"cut":false,"hidden":false,"merged":[]}
[]
[]
["TSN/HSN","Motorauswahl für F10 Limousine","Home","Zurück / back"]
[]
["0005/BFN",{"$f":"HYPERLINK(\"files\\3005.\"&Herstellerauswahl!$C$4,\"BMW 5er Limousine, 520i, F10, 184 PS / 135 kW\")","v":"BMW 5er Limousine, 520i, F10, 184 PS / 135 kW"},{"$f":"HYPERLINK(\"files\\3005.\"&Herstellerauswahl!$C$4,\"Auswahl / Select 3005\")","v":"Auswahl / Select 3005"}]
["0005/ATA",{"$f":"HYPERLINK(\"files\\3005.\"&Herstellerauswahl!$C$4,\"BMW 5er Limousine, 523i, F10, 204 PS / 150 kW\")","v":"BMW 5er Limousine, 523i, F10, 204 PS / 150 kW"},{"$f":"HYPERLINK(\"files\\3005.\"&Herstellerauswahl!$C$4,\"Auswahl / Select 3005\")","v":"Auswahl / Select 3005"}]
["0005/ATE",{"$f":"HYPERLINK(\"files\\3005.\"&Herstellerauswahl!$C$4,\"BMW 5er Limousine, 520d, F10, 184 PS / 135 kW\")","v":"BMW 5er Limousine, 520d, F10, 184 PS / 135 kW"},{"$f":"HYPERLINK(\"files\\3005.\"&Herstellerauswahl!$C$4,\"Auswahl / Select 3005\")","v":"Auswahl / Select 3005"}]
["0005/ATF",{"$f":"HYPERLINK(\"files\\3005.\"&Herstellerauswahl!$C$4,\"BMW 5er Limousine, 525d, F10, 204 PS / 150 kW\")","v":"BMW 5er Limousine, 525d, F10, 204 PS / 150 kW"},{"$f":"HYPERLINK(\"files\\3005.\"&Herstellerauswahl!$C$4,\"Auswahl / Select 3005\")","v":"Auswahl / Select 3005"}]
["0005/BFQ",{"$f":"HYPERLINK(\"files\\3005.\"&Herstellerauswahl!$C$4,\"BMW 5er Limousine, 525d, F10, 218 PS / 160 kW\")","v":"BMW 5er Limousine, 525d, F10, 218 PS / 160 kW"},{"$f":"HYPERLINK(\"files\\3005.\"&Herstellerauswahl!$C$4,\"Auswahl / Select 3005\")","v":"Auswahl / Select 3005"}]
["0005/BFO",{"$f":"HYPERLINK(\"files\\3005.\"&Herstellerauswahl!$C$4,\"BMW 5er Limousine, 528i, F10, 245 PS / 180 kW\")","v":"BMW 5er Limousine, 528i, F10, 245 PS / 180 kW"},{"$f":"HYPERLINK(\"files\\3005.\"&Herstellerauswahl!$C$4,\"Auswahl / Select 3005\")","v":"Auswahl / Select 3005"}]
["0005/ATB",{"$f":"HYPERLINK(\"files\\3005.\"&Herstellerauswahl!$C$4,\"BMW 5er Limousine, 528i, F10, 258 PS / 190 kW\")","v":"BMW 5er Limousine, 528i, F10, 258 PS / 190 kW"},{"$f":"HYPERLINK(\"files\\3005.\"&Herstellerauswahl!$C$4,\"Auswahl / Select 3005\")","v":"Auswahl / Select 3005"}]
["0005/BFX",{"$f":"HYPERLINK(\"files\\3005.\"&Herstellerauswahl!$C$4,\"BMW 5er Limousine, 530i, F10, 272 PS / 200 kW\")","v":"BMW 5er Limousine, 530i, F10, 272 PS / 200 kW"},{"$f":"HYPERLINK(\"files\\3005.\"&Herstellerauswahl!$C$4,\"Auswahl / Select 3005\")","v":"Auswahl / Select 3005"}]
["0005/ATG",{"$f":"HYPERLINK(\"files\\3005.\"&Herstellerauswahl!$C$4,\"BMW 5er Limousine, 530d, F10, 245 PS / 180 kW\")","v":"BMW 5er Limousine, 530d, F10, 245 PS / 180 kW"},{"$f":"HYPERLINK(\"files\\3005.\"&Herstellerauswahl!$C$4,\"Auswahl / Select 3005\")","v":"Auswahl / Select 3005"}]
["0005/BFR",{"$f":"HYPERLINK(\"files\\3005.\"&Herstellerauswahl!$C$4,\"BMW 5er Limousine, 530d, F10, 258 PS / 190 kW\")","v":"BMW 5er Limousine, 530d, F10, 258 PS / 190 kW"},{"$f":"HYPERLINK(\"files\\3005.\"&Herstellerauswahl!$C$4,\"Auswahl / Select 3005\")","v":"Auswahl / Select 3005"}]
["0005/ATC",{"$f":"HYPERLINK(\"files\\3014.\"&Herstellerauswahl!$C$4,\"BMW 5er Limousine, 535i, F10, 306 PS / 225 kW\")","v":"BMW 5er Limousine, 535i, F10, 306 PS / 225 kW"},{"$f":"HYPERLINK(\"files\\3014.\"&Herstellerauswahl!$C$4,\"Auswahl / Select 3014\")","v":"Auswahl / Select 3014"}]
["0005/AZR",{"$f":"HYPERLINK(\"files\\3014.\"&Herstellerauswahl!$C$4,\"BMW 5er Limousine, 535d, F10, 299 PS / 220 kW\")","v":"BMW 5er Limousine, 535d, F10, 299 PS / 220 kW"},{"$f":"HYPERLINK(\"files\\3014.\"&Herstellerauswahl!$C$4,\"Auswahl / Select 3014\")","v":"Auswahl / Select 3014"}]
["0005/BFS",{"$f":"HYPERLINK(\"files\\3014.\"&Herstellerauswahl!$C$4,\"BMW 5er Limousine, 535d, F10, 313 PS / 230 kW\")","v":"BMW 5er Limousine, 535d, F10, 313 PS / 230 kW"},{"$f":"HYPERLINK(\"files\\3014.\"&Herstellerauswahl!$C$4,\"Auswahl / Select 3014\")","v":"Auswahl / Select 3014"}]
["0005/ATD",{"$f":"HYPERLINK(\"files\\3014.\"&Herstellerauswahl!$C$4,\"BMW 5er Limousine, 550i, F10, 408 PS / 300 kW\")","v":"BMW 5er Limousine, 550i, F10, 408 PS / 300 kW"},{"$f":"HYPERLINK(\"files\\3014.\"&Herstellerauswahl!$C$4,\"Auswahl / Select 3014\")","v":"Auswahl / Select 3014"}]
["0005/BFV",{"$f":"HYPERLINK(\"files\\3005.\"&Herstellerauswahl!$C$4,\"BMW 5er Limousine, 525d xDrive, F10, 218 PS / 160 kW\")","v":"BMW 5er Limousine, 525d xDrive, F10, 218 PS / 160 kW"},{"$f":"HYPERLINK(\"files\\3005.\"&Herstellerauswahl!$C$4,\"Auswahl / Select 3005\")","v":"Auswahl / Select 3005"}]
["0005/BFT",{"$f":"HYPERLINK(\"files\\3005.\"&Herstellerauswahl!$C$4,\"BMW 5er Limousine, 528i xDrive, F10, 245 PS / 180 kW\")","v":"BMW 5er Limousine, 528i xDrive, F10, 245 PS / 180 kW"},{"$f":"HYPERLINK(\"files\\3005.\"&Herstellerauswahl!$C$4,\"Auswahl / Select 3005\")","v":"Auswahl / Select 3005"}]
["0005/BAG",{"$f":"HYPERLINK(\"files\\3005.\"&Herstellerauswahl!$C$4,\"BMW 5er Limousine, 530d xDrive, F10, 258 PS / 190 kW\")","v":"BMW 5er Limousine, 530d xDrive, F10, 258 PS / 190 kW"},{"$f":"HYPERLINK(\"files\\3005.\"&Herstellerauswahl!$C$4,\"Auswahl / Select 3005\")","v":"Auswahl / Select 3005"}]
["0005/BFW",{"$f":"HYPERLINK(\"files\\3014.\"&Herstellerauswahl!$C$4,\"BMW 5er Limousine, 535d xDrive, F10, 313 PS / 230 kW\")","v":"BMW 5er Limousine, 535d xDrive, F10, 313 PS / 230 kW"},{"$f":"HYPERLINK(\"files\\3014.\"&Herstellerauswahl!$C$4,\"Auswahl / Select 3014\")","v":"Auswahl / Select 3014"}]
["0005/BAF",{"$f":"HYPERLINK(\"files\\3014.\"&Herstellerauswahl!$C$4,\"BMW 5er Limousine, 535i xDrive, F10, 306 PS / 225 kW\")","v":"BMW 5er Limousine, 535i xDrive, F10, 306 PS / 225 kW"},{"$f":"HYPERLINK(\"files\\3014.\"&Herstellerauswahl!$C$4,\"Auswahl / Select 3014\")","v":"Auswahl / Select 3014"}]
["0005/AZD",{"$f":"HYPERLINK(\"files\\3014.\"&Herstellerauswahl!$C$4,\"BMW 5er Limousine, 550i xDrive, F10, 408 PS / 300 kW\")","v":"BMW 5er Limousine, 550i xDrive, F10, 408 PS / 300 kW"},{"$f":"HYPERLINK(\"files\\3014.\"&Herstellerauswahl!$C$4,\"Auswahl / Select 3014\")","v":"Auswahl / Select 3014"}]
["0005/BHY",{"$f":"HYPERLINK(\"files\\3019.\"&Herstellerauswahl!$C$4,\"BMW 5er Limousine, M550d xDrive, F10, 381 PS / 280 kW\")","v":"BMW 5er Limousine, M550d xDrive, F10, 381 PS / 280 kW"},{"$f":"HYPERLINK(\"files\\3019.\"&Herstellerauswahl!$C$4,\"Auswahl / Select 3019\")","v":"Auswahl / Select 3019"}]

{"sheet":"F10 M Limousine","index":78,"n_rows":6,"n_cols":4,"rows_kept":6,"cut":false,"hidden":false,"merged":[]}
[]
[]
["TSN/HSN","Motorauswahl für F10 M Limousine","Home","Zurück / back"]
[]
["7909/AAY",{"$f":"HYPERLINK(\"files\\3016.\"&Herstellerauswahl!$C$4,\"BMW 5er M Limousine, M, F10, 560 PS / 412 kW\")","v":"BMW 5er M Limousine, M, F10, 560 PS / 412 kW"},{"$f":"HYPERLINK(\"files\\3016.\"&Herstellerauswahl!$C$4,\"Auswahl / Select 3016\")","v":"Auswahl / Select 3016"}]
["7909/ABC",{"$f":"HYPERLINK(\"files\\3016.\"&Herstellerauswahl!$C$4,\"BMW 5er M Limousine, M Competition, F10, 575 PS / 423 kW\")","v":"BMW 5er M Limousine, M Competition, F10, 575 PS / 423 kW"},{"$f":"HYPERLINK(\"files\\3016.\"&Herstellerauswahl!$C$4,\"Auswahl / Select 3016\")","v":"Auswahl / Select 3016"}]

{"sheet":"F10 Facelift Limousine","index":79,"n_rows":22,"n_cols":4,"rows_kept":22,"cut":false,"hidden":false,"merged":[]}
[]
[]
["TSN/HSN","Motorauswahl für F10 Facelift Limousine","Home","Zurück / back"]
[]
["0005/BPZ",{"$f":"HYPERLINK(\"files\\3005.\"&Herstellerauswahl!$C$4,\"BMW 5er Limousine, 520i, F10 (LCI), 170 PS / 125 kW\")","v":"BMW 5er Limousine, 520i, F10 (LCI), 170 PS / 125 kW"},{"$f":"HYPERLINK(\"files\\3005.\"&Herstellerauswahl!$C$4,\"Auswahl / Select 3005\")","v":"Auswahl / Select 3005"}]
["0005/BFN",{"$f":"HYPERLINK(\"files\\3005.\"&Herstellerauswahl!$C$4,\"BMW 5er Limousine, 520i, F10 (LCI), 184 PS / 135 kW\")","v":"BMW 5er Limousine, 520i, F10 (LCI), 184 PS / 135 kW"},{"$f":"HYPERLINK(\"files\\3005.\"&Herstellerauswahl!$C$4,\"Auswahl / Select 3005\")","v":"Auswahl / Select 3005"}]
["0005/ATE",{"$f":"HYPERLINK(\"files\\3005.\"&Herstellerauswahl!$C$4,\"BMW 5er Limousine, 520d, F10 (LCI), 184 PS / 135 kW\")","v":"BMW 5er Limousine, 520d, F10 (LCI), 184 PS / 135 kW"},{"$f":"HYPERLINK(\"files\\3005.\"&Herstellerauswahl!$C$4,\"Auswahl / Select 3005\")","v":"Auswahl / Select 3005"}]
["0005/BWV",{"$f":"HYPERLINK(\"files\\3005.\"&Herstellerauswahl!$C$4,\"BMW 5er Limousine, 520d, F10 (LCI), 190 PS / 140 kW\")","v":"BMW 5er Limousine, 520d, F10 (LCI), 190 PS / 140 kW"},{"$f":"HYPERLINK(\"files\\3005.\"&Herstellerauswahl!$C$4,\"Auswahl / Select 3005\")","v":"Auswahl / Select 3005"}]
["0005/BFQ",{"$f":"HYPERLINK(\"files\\3005.\"&Herstellerauswahl!$C$4,\"BMW 5er Limousine, 525d, F10 (LCI), 218 PS / 160 kW\")","v":"BMW 5er Limousine, 525d, F10 (LCI), 218 PS / 160 kW"},{"$f":"HYPERLINK(\"files\\3005.\"&Herstellerauswahl!$C$4,\"Auswahl / Select 3005\")","v":"Auswahl / Select 3005"}]
["0005/BFO",{"$f":"HYPERLINK(\"files\\3005.\"&Herstellerauswahl!$C$4,\"BMW 5er Limousine, 528i, F10 (LCI), 245 PS / 180 kW\")","v":"BMW 5er Limousine, 528i, F10 (LCI), 245 PS / 180 kW"},{"$f":"HYPERLINK(\"files\\3005.\"&Herstellerauswahl!$C$4,\"Auswahl / Select 3005\")","v":"Auswahl / Select 3005"}]
["0005/BFR",{"$f":"HYPERLINK(\"files\\3005.\"&Herstellerauswahl!$C$4,\"BMW 5er Limousine, 530d, F10 (LCI), 258 PS / 190 kW\")","v":"BMW 5er Limousine, 530d, F10 (LCI), 258 PS / 190 kW"},{"$f":"HYPERLINK(\"files\\3005.\"&Herstellerauswahl!$C$4,\"Auswahl / Select 3005\")","v":"Auswahl / Select 3005"}]
["0005/ATC",{"$f":"HYPERLINK(\"files\\3014.\"&Herstellerauswahl!$C$4,\"BMW 5er Limousine, 535i, F10 (LCI), 306 PS / 225 kW\")","v":"BMW 5er Limousine, 535i, F10 (LCI), 306 PS / 225 kW"},{"$f":"HYPERLINK(\"files\\3014.\"&Herstellerauswahl!$C$4,\"Auswahl / Select 3014\")","v":"Auswahl / Select 3014"}]
["0005/BFS",{"$f":"HYPERLINK(\"files\\3014.\"&Herstellerauswahl!$C$4,\"BMW 5er Limousine, 535d, F10 (LCI), 313 PS / 230 kW\")","v":"BMW 5er Limousine, 535d, F10 (LCI), 313 PS / 230 kW"},{"$f":"HYPERLINK(\"files\\3014.\"&Herstellerauswahl!$C$4,\"Auswahl / Select 3014\")","v":"Auswahl / Select 3014"}]
["0005/ATD",{"$f":"HYPERLINK(\"files\\3014.\"&Herstellerauswahl!$C$4,\"BMW 5er Limousine, 550i, F10 (LCI), 449 PS / 330 kW\")","v":"BMW 5er Limousine, 550i, F10 (LCI), 449 PS / 330 kW"},{"$f":"HYPERLINK(\"files\\3014.\"&Herstellerauswahl!$C$4,\"Auswahl / Select 3014\")","v":"Auswahl / Select 3014"}]
["0005/BFV",{"$f":"HYPERLINK(\"files\\3005.\"&Herstellerauswahl!$C$4,\"BMW 5er Limousine, 525d xDrive, F10 (LCI), 218 PS / 160 kW\")","v":"BMW 5er Limousine, 525d xDrive, F10 (LCI), 218 PS / 160 kW"},{"$f":"HYPERLINK(\"files\\3005.\"&Herstellerauswahl!$C$4,\"Auswahl / Select 3005\")","v":"Auswahl / Select 3005"}]
["0005/BFT",{"$f":"HYPERLINK(\"files\\3005.\"&Herstellerauswahl!$C$4,\"BMW 5er Limousine, 528i xDrive, F10 (LCI), 245 PS / 180 kW\")","v":"BMW 5er Limousine, 528i xDrive, F10 (LCI), 245 PS / 180 kW"},{"$f":"HYPERLINK(\"files\\3005.\"&Herstellerauswahl!$C$4,\"Auswahl / Select 3005\")","v":"Auswahl / Select 3005"}]
["0005/BAG",{"$f":"HYPERLINK(\"files\\3005.\"&Herstellerauswahl!$C$4,\"BMW 5er Limousine, 530d xDrive, F10 (LCI), 258 PS / 190 kW\")","v":"BMW 5er Limousine, 530d xDrive, F10 (LCI), 258 PS / 190 kW"},{"$f":"HYPERLINK(\"files\\3005.\"&Herstellerauswahl!$C$4,\"Auswahl / Select 3005\")","v":"Auswahl / Select 3005"}]
["0005/BOE",{"$f":"HYPERLINK(\"files\\3005.\"&Herstellerauswahl!$C$4,\"BMW 5er Limousine, 530d xDrive, F10 (LCI), 286 PS / 210 kW\")","v":"BMW 5er Limousine, 530d xDrive, F10 (LCI), 286 PS / 210 kW"},{"$f":"HYPERLINK(\"files\\3005.\"&Herstellerauswahl!$C$4,\"Auswahl / Select 3005\")","v":"Auswahl / Select 3005"}]
["0005/BFW",{"$f":"HYPERLINK(\"files\\3014.\"&Herstellerauswahl!$C$4,\"BMW 5er Limousine, 535d xDrive, F10 (LCI), 313 PS / 230 kW\")","v":"BMW 5er Limousine, 535d xDrive, F10 (LCI), 313 PS / 230 kW"},{"$f":"HYPERLINK(\"files\\3014.\"&Herstellerauswahl!$C$4,\"Auswahl / Select 3014\")","v":"Auswahl / Select 3014"}]
["0005/BAF",{"$f":"HYPERLINK(\"files\\3014.\"&Herstellerauswahl!$C$4,\"BMW 5er Limousine, 535i xDrive, F10 (LCI), 306 PS / 225 kW\")","v":"BMW 5er Limousine, 535i xDrive, F10 (LCI), 306 PS / 225 kW"},{"$f":"HYPERLINK(\"files\\3014.\"&Herstellerauswahl!$C$4,\"Auswahl / Select 3014\")","v":"Auswahl / Select 3014"}]
["0005/AZD",{"$f":"HYPERLINK(\"files\\3014.\"&Herstellerauswahl!$C$4,\"BMW 5er Limousine, 550i xDrive, F10 (LCI), 449 PS / 330 kW\")","v":"BMW 5er Limousine, 550i xDrive, F10 (LCI), 449 PS / 330 kW"},{"$f":"HYPERLINK(\"files\\3014.\"&Herstellerauswahl!$C$4,\"Auswahl / Select 3014\")","v":"Auswahl / Select 3014"}]
["0005/BHY",{"$f":"HYPERLINK(\"files\\3019.\"&Herstellerauswahl!$C$4,\"BMW 5er Limousine, M550d xDrive, F10 (LCI), 381 PS / 280 kW\")","v":"BMW 5er Limousine, M550d xDrive, F10 (LCI), 381 PS / 280 kW"},{"$f":"HYPERLINK(\"files\\3019.\"&Herstellerauswahl!$C$4,\"Auswahl / Select 3019\")","v":"Auswahl / Select 3019"}]

{"sheet":"F11 Touring","index":80,"n_rows":24,"n_cols":4,"rows_kept":24,"cut":false,"hidden":false,"merged":[]}
[]
[]
["TSN/HSN","Motorauswahl für F11 Touring","Home","Zurück / back"]
[]
["0005/BAQ",{"$f":"HYPERLINK(\"files\\3005.\"&Herstellerauswahl!$C$4,\"BMW 5er Touring, 523i, F11, 204 PS / 150 kW\")","v":"BMW 5er Touring, 523i, F11, 204 PS / 150 kW"},{"$f":"HYPERLINK(\"files\\3005.\"&Herstellerauswahl!$C$4,\"Auswahl / Select 3005\")","v":"Auswahl / Select 3005"}]
["0005/BFZ",{"$f":"HYPERLINK(\"files\\3005.\"&Herstellerauswahl!$C$4,\"BMW 5er Touring, 520i, F11, 184 PS / 135 kW\")","v":"BMW 5er Touring, 520i, F11, 184 PS / 135 kW"},{"$f":"HYPERLINK(\"files\\3005.\"&Herstellerauswahl!$C$4,\"Auswahl / Select 3005\")","v":"Auswahl / Select 3005"}]
["0005/AYT/BAB",{"$f":"HYPERLINK(\"files\\3005.\"&Herstellerauswahl!$C$4,\"BMW 5er Touring, 520d, F11, 184 PS / 135 kW\")","v":"BMW 5er Touring, 520d, F11, 184 PS / 135 kW"},{"$f":"HYPERLINK(\"files\\3005.\"&Herstellerauswahl!$C$4,\"Auswahl / Select 3005\")","v":"Auswahl / Select 3005"}]
["0005/AZP/BAC",{"$f":"HYPERLINK(\"files\\3005.\"&Herstellerauswahl!$C$4,\"BMW 5er Touring, 525d, F11, 204 PS / 150 kW\")","v":"BMW 5er Touring, 525d, F11, 204 PS / 150 kW"},{"$f":"HYPERLINK(\"files\\3005.\"&Herstellerauswahl!$C$4,\"Auswahl / Select 3005\")","v":"Auswahl / Select 3005"}]
["0005/BGC/BHR",{"$f":"HYPERLINK(\"files\\3005.\"&Herstellerauswahl!$C$4,\"BMW 5er Touring, 525d, F11, 218 PS / 160 kW\")","v":"BMW 5er Touring, 525d, F11, 218 PS / 160 kW"},{"$f":"HYPERLINK(\"files\\3005.\"&Herstellerauswahl!$C$4,\"Auswahl / Select 3005\")","v":"Auswahl / Select 3005"}]
["0005/BGA",{"$f":"HYPERLINK(\"files\\3005.\"&Herstellerauswahl!$C$4,\"BMW 5er Touring, 528i, F11, 245 PS / 180 kW\")","v":"BMW 5er Touring, 528i, F11, 245 PS / 180 kW"},{"$f":"HYPERLINK(\"files\\3005.\"&Herstellerauswahl!$C$4,\"Auswahl / Select 3005\")","v":"Auswahl / Select 3005"}]
["0005/AZO",{"$f":"HYPERLINK(\"files\\3005.\"&Herstellerauswahl!$C$4,\"BMW 5er Touring, 528i, F11, 258 PS / 190 kW\")","v":"BMW 5er Touring, 528i, F11, 258 PS / 190 kW"},{"$f":"HYPERLINK(\"files\\3005.\"&Herstellerauswahl!$C$4,\"Auswahl / Select 3005\")","v":"Auswahl / Select 3005"}]
["0005/BGJ",{"$f":"HYPERLINK(\"files\\3005.\"&Herstellerauswahl!$C$4,\"BMW 5er Touring, 530i, F11, 272 PS / 200 kW\")","v":"BMW 5er Touring, 530i, F11, 272 PS / 200 kW"},{"$f":"HYPERLINK(\"files\\3005.\"&Herstellerauswahl!$C$4,\"Auswahl / Select 3005\")","v":"Auswahl / Select 3005"}]
["0005/AYU/BAD",{"$f":"HYPERLINK(\"files\\3005.\"&Herstellerauswahl!$C$4,\"BMW 5er Touring, 530d, F11, 245 PS / 180 kW\")","v":"BMW 5er Touring, 530d, F11, 245 PS / 180 kW"},{"$f":"HYPERLINK(\"files\\3005.\"&Herstellerauswahl!$C$4,\"Auswahl / Select 3005\")","v":"Auswahl / Select 3005"}]
["0005/BGD/BHS",{"$f":"HYPERLINK(\"files\\3005.\"&Herstellerauswahl!$C$4,\"BMW 5er Touring, 530d, F11, 258 PS / 190 kW\")","v":"BMW 5er Touring, 530d, F11, 258 PS / 190 kW"},{"$f":"HYPERLINK(\"files\\3005.\"&Herstellerauswahl!$C$4,\"Auswahl / Select 3005\")","v":"Auswahl / Select 3005"}]
["0005/AYV",{"$f":"HYPERLINK(\"files\\3014.\"&Herstellerauswahl!$C$4,\"BMW 5er Touring, 535i, F11, 306 PS / 225 kW\")","v":"BMW 5er Touring, 535i, F11, 306 PS / 225 kW"},{"$f":"HYPERLINK(\"files\\3014.\"&Herstellerauswahl!$C$4,\"Auswahl / Select 3014\")","v":"Auswahl / Select 3014"}]
["0005/AZQ/BAE",{"$f":"HYPERLINK(\"files\\3014.\"&Herstellerauswahl!$C$4,\"BMW 5er Touring, 535d, F11, 299 PS / 220 kW\")","v":"BMW 5er Touring, 535d, F11, 299 PS / 220 kW"},{"$f":"HYPERLINK(\"files\\3014.\"&Herstellerauswahl!$C$4,\"Auswahl / Select 3014\")","v":"Auswahl / Select 3014"}]
["0005/BGE/BHU",{"$f":"HYPERLINK(\"files\\3014.\"&Herstellerauswahl!$C$4,\"BMW 5er Touring, 535d, F11, 313 PS / 230 kW\")","v":"BMW 5er Touring, 535d, F11, 313 PS / 230 kW"},{"$f":"HYPERLINK(\"files\\3014.\"&Herstellerauswahl!$C$4,\"Auswahl / Select 3014\")","v":"Auswahl / Select 3014"}]
["0005/BAJ",{"$f":"HYPERLINK(\"files\\3014.\"&Herstellerauswahl!$C$4,\"BMW 5er Touring, 550i, F11, 408 PS / 300 kW\")","v":"BMW 5er Touring, 550i, F11, 408 PS / 300 kW"},{"$f":"HYPERLINK(\"files\\3014.\"&Herstellerauswahl!$C$4,\"Auswahl / Select 3014\")","v":"Auswahl / Select 3014"}]
["0005/BGH/BHT",{"$f":"HYPERLINK(\"files\\3005.\"&Herstellerauswahl!$C$4,\"BMW 5er Touring, 525d xDrive, F11, 218 PS / 160 kW\")","v":"BMW 5er Touring, 525d xDrive, F11, 218 PS / 160 kW"},{"$f":"HYPERLINK(\"files\\3005.\"&Herstellerauswahl!$C$4,\"Auswahl / Select 3005\")","v":"Auswahl / Select 3005"}]
["0005/BEN",{"$f":"HYPERLINK(\"files\\3005.\"&Herstellerauswahl!$C$4,\"BMW 5er Touring, 528i xDrive, F11, 245 PS / 180 kW\")","v":"BMW 5er Touring, 528i xDrive, F11, 245 PS / 180 kW"},{"$f":"HYPERLINK(\"files\\3005.\"&Herstellerauswahl!$C$4,\"Auswahl / Select 3005\")","v":"Auswahl / Select 3005"}]
["0005/BAI/BEN",{"$f":"HYPERLINK(\"files\\3005.\"&Herstellerauswahl!$C$4,\"BMW 5er Touring, 530d xDrive, F11, 258 PS / 190 kW\")","v":"BMW 5er Touring, 530d xDrive, F11, 258 PS / 190 kW"},{"$f":"HYPERLINK(\"files\\3005.\"&Herstellerauswahl!$C$4,\"Auswahl / Select 3005\")","v":"Auswahl / Select 3005"}]
["0005/BAH",{"$f":"HYPERLINK(\"files\\3014.\"&Herstellerauswahl!$C$4,\"BMW 5er Touring, 535i xDrive, F11, 306 PS / 225 kW\")","v":"BMW 5er Touring, 535i xDrive, F11, 306 PS / 225 kW"},{"$f":"HYPERLINK(\"files\\3014.\"&Herstellerauswahl!$C$4,\"Auswahl / Select 3014\")","v":"Auswahl / Select 3014"}]
["0005/BGI/BHW",{"$f":"HYPERLINK(\"files\\3014.\"&Herstellerauswahl!$C$4,\"BMW 5er Touring, 535d xDrive, F11, 313 PS / 230 kW\")","v":"BMW 5er Touring, 535d xDrive, F11, 313 PS / 230 kW"},{"$f":"HYPERLINK(\"files\\3014.\"&Herstellerauswahl!$C$4,\"Auswahl / Select 3014\")","v":"Auswahl / Select 3014"}]
["0005/BHZ",{"$f":"HYPERLINK(\"files\\3019.\"&Herstellerauswahl!$C$4,\"BMW 5er Touring, M550d xDrive, F11, 381 PS / 280 kW\")","v":"BMW 5er Touring, M550d xDrive, F11, 381 PS / 280 kW"},{"$f":"HYPERLINK(\"files\\3019.\"&Herstellerauswahl!$C$4,\"Auswahl / Select 3019\")","v":"Auswahl / Select 3019"}]

{"sheet":"F11 Facelift Touring","index":81,"n_rows":22,"n_cols":4,"rows_kept":22,"cut":false,"hidden":false,"merged":[]}
[]
[]
["TSN/HSN","Motorauswahl für F11 Facelift Touring","Home","Zurück / back"]
[]
["0005/BPU/BSB",{"$f":"HYPERLINK(\"files\\3005.\"&Herstellerauswahl!$C$4,\"BMW 5er Touring, 518d, F11 (LCI), 143 PS / 105 kW\")","v":"BMW 5er Touring, 518d, F11 (LCI), 143 PS / 105 kW"},{"$f":"HYPERLINK(\"files\\3005.\"&Herstellerauswahl!$C$4,\"Auswahl / Select 3005\")","v":"Auswahl / Select 3005"}]
["0005/BFZ",{"$f":"HYPERLINK(\"files\\3005.\"&Herstellerauswahl!$C$4,\"BMW 5er Touring, 520i, F11 (LCI), 184 PS / 135 kW\")","v":"BMW 5er Touring, 520i, F11 (LCI), 184 PS / 135 kW"},{"$f":"HYPERLINK(\"files\\3005.\"&Herstellerauswahl!$C$4,\"Auswahl / Select 3005\")","v":"Auswahl / Select 3005"}]
["",{"$f":"HYPERLINK(\"files\\3005.\"&Herstellerauswahl!$C$4,\"BMW 5er Touring, 520i, F11 (LCI), 150 PS / 110 kW\")","v":"BMW 5er Touring, 520i, F11 (LCI), 150 PS / 110 kW"},{"$f":"HYPERLINK(\"files\\3005.\"&Herstellerauswahl!$C$4,\"Auswahl / Select 3005\")","v":"Auswahl / Select 3005"}]
["0005/AYT",{"$f":"HYPERLINK(\"files\\3005.\"&Herstellerauswahl!$C$4,\"BMW 5er Touring, 520d, F11 (LCI), 184 PS / 135 kW\")","v":"BMW 5er Touring, 520d, F11 (LCI), 184 PS / 135 kW"},{"$f":"HYPERLINK(\"files\\3005.\"&Herstellerauswahl!$C$4,\"Auswahl / Select 3005\")","v":"Auswahl / Select 3005"}]
["0005/BWS",{"$f":"HYPERLINK(\"files\\3005.\"&Herstellerauswahl!$C$4,\"BMW 5er Touring, 520d, F11 (LCI), 190 PS / 140 kW\")","v":"BMW 5er Touring, 520d, F11 (LCI), 190 PS / 140 kW"},{"$f":"HYPERLINK(\"files\\3005.\"&Herstellerauswahl!$C$4,\"Auswahl / Select 3005\")","v":"Auswahl / Select 3005"}]
["0005/BGC/BHR",{"$f":"HYPERLINK(\"files\\3005.\"&Herstellerauswahl!$C$4,\"BMW 5er Touring, 525d, F11 (LCI), 218 PS / 160 kW\")","v":"BMW 5er Touring, 525d, F11 (LCI), 218 PS / 160 kW"},{"$f":"HYPERLINK(\"files\\3005.\"&Herstellerauswahl!$C$4,\"Auswahl / Select 3005\")","v":"Auswahl / Select 3005"}]
["0005/BGA",{"$f":"HYPERLINK(\"files\\3005.\"&Herstellerauswahl!$C$4,\"BMW 5er Touring, 528i, F11 (LCI), 245 PS / 180 kW\")","v":"BMW 5er Touring, 528i, F11 (LCI), 245 PS / 180 kW"},{"$f":"HYPERLINK(\"files\\3005.\"&Herstellerauswahl!$C$4,\"Auswahl / Select 3005\")","v":"Auswahl / Select 3005"}]
["0005/BGD",{"$f":"HYPERLINK(\"files\\3005.\"&Herstellerauswahl!$C$4,\"BMW 5er Touring, 530d, F11 (LCI), 258 PS / 190 kW\")","v":"BMW 5er Touring, 530d, F11 (LCI), 258 PS / 190 kW"},{"$f":"HYPERLINK(\"files\\3005.\"&Herstellerauswahl!$C$4,\"Auswahl / Select 3005\")","v":"Auswahl / Select 3005"}]
["0005/AYV",{"$f":"HYPERLINK(\"files\\3014.\"&Herstellerauswahl!$C$4,\"BMW 5er Touring, 535i, F11 (LCI), 306 PS / 225 kW\")","v":"BMW 5er Touring, 535i, F11 (LCI), 306 PS / 225 kW"},{"$f":"HYPERLINK(\"files\\3014.\"&Herstellerauswahl!$C$4,\"Auswahl / Select 3014\")","v":"Auswahl / Select 3014"}]
["0005/BGE",{"$f":"HYPERLINK(\"files\\3014.\"&Herstellerauswahl!$C$4,\"BMW 5er Touring, 535d, F11 (LCI), 313 PS / 230 kW\")","v":"BMW 5er Touring, 535d, F11 (LCI), 313 PS / 230 kW"},{"$f":"HYPERLINK(\"files\\3014.\"&Herstellerauswahl!$C$4,\"Auswahl / Select 3014\")","v":"Auswahl / Select 3014"}]
["0005/BAJ",{"$f":"HYPERLINK(\"files\\3014.\"&Herstellerauswahl!$C$4,\"BMW 5er Touring, 550i, F11 (LCI), 449 PS / 330 kW\")","v":"BMW 5er Touring, 550i, F11 (LCI), 449 PS / 330 kW"},{"$f":"HYPERLINK(\"files\\3014.\"&Herstellerauswahl!$C$4,\"Auswahl / Select 3014\")","v":"Auswahl / Select 3014"}]
["0005/BGH/BHT",{"$f":"HYPERLINK(\"files\\3005.\"&Herstellerauswahl!$C$4,\"BMW 5er Touring, 525d xDrive, F11 (LCI), 218 PS / 160 kW\")","v":"BMW 5er Touring, 525d xDrive, F11 (LCI), 218 PS / 160 kW"},{"$f":"HYPERLINK(\"files\\3005.\"&Herstellerauswahl!$C$4,\"Auswahl / Select 3005\")","v":"Auswahl / Select 3005"}]
["0005/BGF",{"$f":"HYPERLINK(\"files\\3005.\"&Herstellerauswahl!$C$4,\"BMW 5er Touring, 528i xDrive, F11 (LCI), 245 PS / 180 kW\")","v":"BMW 5er Touring, 528i xDrive, F11 (LCI), 245 PS / 180 kW"},{"$f":"HYPERLINK(\"files\\3005.\"&Herstellerauswahl!$C$4,\"Auswahl / Select 3005\")","v":"Auswahl / Select 3005"}]
["0005/BAI",{"$f":"HYPERLINK(\"files\\3005.\"&Herstellerauswahl!$C$4,\"BMW 5er Touring, 530d xDrive, F11 (LCI), 258 PS / 190 kW\")","v":"BMW 5er Touring, 530d xDrive, F11 (LCI), 258 PS / 190 kW"},{"$f":"HYPERLINK(\"files\\3005.\"&Herstellerauswahl!$C$4,\"Auswahl / Select 3005\")","v":"Auswahl / Select 3005"}]
["0005/BRJ",{"$f":"HYPERLINK(\"files\\3005.\"&Herstellerauswahl!$C$4,\"BMW 5er Touring, 530d xDrive, F11 (LCI), 286 PS / 210 kW\")","v":"BMW 5er Touring, 530d xDrive, F11 (LCI), 286 PS / 210 kW"},{"$f":"HYPERLINK(\"files\\3005.\"&Herstellerauswahl!$C$4,\"Auswahl / Select 3005\")","v":"Auswahl / Select 3005"}]
["0005/BGI",{"$f":"HYPERLINK(\"files\\3014.\"&Herstellerauswahl!$C$4,\"BMW 5er Touring, 535d xDrive, F11 (LCI), 313 PS / 230 kW\")","v":"BMW 5er Touring, 535d xDrive, F11 (LCI), 313 PS / 230 kW"},{"$f":"HYPERLINK(\"files\\3014.\"&Herstellerauswahl!$C$4,\"Auswahl / Select 3014\")","v":"Auswahl / Select 3014"}]
["0005/BAH",{"$f":"HYPERLINK(\"files\\3014.\"&Herstellerauswahl!$C$4,\"BMW 5er Touring, 535i xDrive, F11 (LCI), 306 PS / 225 kW\")","v":"BMW 5er Touring, 535i xDrive, F11 (LCI), 306 PS / 225 kW"},{"$f":"HYPERLINK(\"files\\3014.\"&Herstellerauswahl!$C$4,\"Auswahl / Select 3014\")","v":"Auswahl / Select 3014"}]
["0005/BHZ",{"$f":"HYPERLINK(\"files\\3019.\"&Herstellerauswahl!$C$4,\"BMW 5er Touring, M550d xDrive, F11 (LCI), 381 PS / 280 kW\")","v":"BMW 5er Touring, M550d xDrive, F11 (LCI), 381 PS / 280 kW"},{"$f":"HYPERLINK(\"files\\3019.\"&Herstellerauswahl!$C$4,\"Auswahl / Select 3019\")","v":"Auswahl / Select 3019"}]

{"sheet":"F90 M Limousine","index":82,"n_rows":6,"n_cols":4,"rows_kept":6,"cut":false,"hidden":false,"merged":[]}
[]
[]
["TSN/HSN","Motorauswahl für F90 M Limousine","Home","Zurück / back"]
[]
["7909/ABW",{"$f":"HYPERLINK(\"files\\5031.\"&Herstellerauswahl!$C$4,\"BMW 5er M Limousine, M xDrive, F90, 600 PS / 441 kW\")","v":"BMW 5er M Limousine, M xDrive, F90, 600 PS / 441 kW"},{"$f":"HYPERLINK(\"files\\5031.\"&Herstellerauswahl!$C$4,\"Auswahl / Select 5031\")","v":"Auswahl / Select 5031"}]
["7909/ABV",{"$f":"HYPERLINK(\"files\\5031.\"&Herstellerauswahl!$C$4,\"BMW 5er M Limousine, M Competition xDrive, F90, 626 PS / 460 kW\")","v":"BMW 5er M Limousine, M Competition xDrive, F90, 626 PS / 460 kW"},{"$f":"HYPERLINK(\"files\\5031.\"&Herstellerauswahl!$C$4,\"Auswahl / Select 5031\")","v":"Auswahl / Select 5031"}]

{"sheet":"G30 Limousine","index":83,"n_rows":37,"n_cols":4,"rows_kept":37,"cut":false,"hidden":false,"merged":[]}
[]
[]
["TSN/HSN","Motorauswahl für G30 Limousine","Home","Zurück / back"]
[]
["0005/CSQ",{"$f":"HYPERLINK(\"files\\5030.\"&Herstellerauswahl!$C$4,\"BMW 5er Limousine, 518d, G30, 150 PS / 110 kW\")","v":"BMW 5er Limousine, 518d, G30, 150 PS / 110 kW"},{"$f":"HYPERLINK(\"files\\5030.\"&Herstellerauswahl!$C$4,\"Auswahl / Select 5030\")","v":"Auswahl / Select 5030"}]
["0005/CSR",{"$f":"HYPERLINK(\"files\\5030.\"&Herstellerauswahl!$C$4,\"BMW 5er Limousine, 518d, G30, 136 PS / 100 kW\")","v":"BMW 5er Limousine, 518d, G30, 136 PS / 100 kW"},{"$f":"HYPERLINK(\"files\\5030.\"&Herstellerauswahl!$C$4,\"Auswahl / Select 5030\")","v":"Auswahl / Select 5030"}]
["0005/CNS",{"$f":"HYPERLINK(\"files\\5030.\"&Herstellerauswahl!$C$4,\"BMW 5er Limousine, 520d, G30, 163 PS / 120 kW\")","v":"BMW 5er Limousine, 520d, G30, 163 PS / 120 kW"},{"$f":"HYPERLINK(\"files\\5030.\"&Herstellerauswahl!$C$4,\"Auswahl / Select 5030\")","v":"Auswahl / Select 5030"}]
["0005/CNT",{"$f":"HYPERLINK(\"files\\5030.\"&Herstellerauswahl!$C$4,\"BMW 5er Limousine, 520d, G30, 190 PS / 140 kW\")","v":"BMW 5er Limousine, 520d, G30, 190 PS / 140 kW"},{"$f":"HYPERLINK(\"files\\5030.\"&Herstellerauswahl!$C$4,\"Auswahl / Select 5030\")","v":"Auswahl / Select 5030"}]
["0005/CXQ",{"$f":"HYPERLINK(\"files\\5030.\"&Herstellerauswahl!$C$4,\"BMW 5er Limousine, 520d MHy, G30, 163 PS / 120 kW\")","v":"BMW 5er Limousine, 520d MHy, G30, 163 PS / 120 kW"},{"$f":"HYPERLINK(\"files\\5030.\"&Herstellerauswahl!$C$4,\"Auswahl / Select 5030\")","v":"Auswahl / Select 5030"}]
["0005/CXR",{"$f":"HYPERLINK(\"files\\5030.\"&Herstellerauswahl!$C$4,\"BMW 5er Limousine, 520d MHy, G30, 190 PS / 140 kW\")","v":"BMW 5er Limousine, 520d MHy, G30, 190 PS / 140 kW"},{"$f":"HYPERLINK(\"files\\5030.\"&Herstellerauswahl!$C$4,\"Auswahl / Select 5030\")","v":"Auswahl / Select 5030"}]
["0005/CNU",{"$f":"HYPERLINK(\"files\\5030.\"&Herstellerauswahl!$C$4,\"BMW 5er Limousine, 520d xDrive, G30, 163 PS / 120 kW\")","v":"BMW 5er Limousine, 520d xDrive, G30, 163 PS / 120 kW"},{"$f":"HYPERLINK(\"files\\5030.\"&Herstellerauswahl!$C$4,\"Auswahl / Select 5030\")","v":"Auswahl / Select 5030"}]
["0005/CNV",{"$f":"HYPERLINK(\"files\\5030.\"&Herstellerauswahl!$C$4,\"BMW 5er Limousine, 520d xDrive, G30, 190 PS / 140 kW\")","v":"BMW 5er Limousine, 520d xDrive, G30, 190 PS / 140 kW"},{"$f":"HYPERLINK(\"files\\5030.\"&Herstellerauswahl!$C$4,\"Auswahl / Select 5030\")","v":"Auswahl / Select 5030"}]
["0005/CXT",{"$f":"HYPERLINK(\"files\\5030.\"&Herstellerauswahl!$C$4,\"BMW 5er Limousine, 520d MHy xDrive, G30, 190 PS / 140 kW\")","v":"BMW 5er Limousine, 520d MHy xDrive, G30, 190 PS / 140 kW"},{"$f":"HYPERLINK(\"files\\5030.\"&Herstellerauswahl!$C$4,\"Auswahl / Select 5030\")","v":"Auswahl / Select 5030"}]
["0005/CPF",{"$f":"HYPERLINK(\"files\\5030.\"&Herstellerauswahl!$C$4,\"BMW 5er Limousine, 520i, G30, 163 PS / 120 kW\")","v":"BMW 5er Limousine, 520i, G30, 163 PS / 120 kW"},{"$f":"HYPERLINK(\"files\\5030.\"&Herstellerauswahl!$C$4,\"Auswahl / Select 5030\")","v":"Auswahl / Select 5030"}]
["0005/CPE",{"$f":"HYPERLINK(\"files\\5030.\"&Herstellerauswahl!$C$4,\"BMW 5er Limousine, 520i, G30, 170 PS / 125 kW\")","v":"BMW 5er Limousine, 520i, G30, 170 PS / 125 kW"},{"$f":"HYPERLINK(\"files\\5030.\"&Herstellerauswahl!$C$4,\"Auswahl / Select 5030\")","v":"Auswahl / Select 5030"}]
["0005/CPG",{"$f":"HYPERLINK(\"files\\5030.\"&Herstellerauswahl!$C$4,\"BMW 5er Limousine, 520i, G30, 184 PS / 135 kW\")","v":"BMW 5er Limousine, 520i, G30, 184 PS / 135 kW"},{"$f":"HYPERLINK(\"files\\5030.\"&Herstellerauswahl!$C$4,\"Auswahl / Select 5030\")","v":"Auswahl / Select 5030"}]
["0005/CPH",{"$f":"HYPERLINK(\"files\\5030.\"&Herstellerauswahl!$C$4,\"BMW 5er Limousine, 520i, G30, 211 PS / 155 kW\")","v":"BMW 5er Limousine, 520i, G30, 211 PS / 155 kW"},{"$f":"HYPERLINK(\"files\\5030.\"&Herstellerauswahl!$C$4,\"Auswahl / Select 5030\")","v":"Auswahl / Select 5030"}]
["0005/CPI",{"$f":"HYPERLINK(\"files\\5030.\"&Herstellerauswahl!$C$4,\"BMW 5er Limousine, 525d, G30, 211 PS / 155 kW\")","v":"BMW 5er Limousine, 525d, G30, 211 PS / 155 kW"},{"$f":"HYPERLINK(\"files\\5030.\"&Herstellerauswahl!$C$4,\"Auswahl / Select 5030\")","v":"Auswahl / Select 5030"}]
["0005/CPJ",{"$f":"HYPERLINK(\"files\\5030.\"&Herstellerauswahl!$C$4,\"BMW 5er Limousine, 525d, G30, 231 PS / 170 kW\")","v":"BMW 5er Limousine, 525d, G30, 231 PS / 170 kW"},{"$f":"HYPERLINK(\"files\\5030.\"&Herstellerauswahl!$C$4,\"Auswahl / Select 5030\")","v":"Auswahl / Select 5030"}]
["0005/CNW",{"$f":"HYPERLINK(\"files\\5030.\"&Herstellerauswahl!$C$4,\"BMW 5er Limousine, 530d, G30, 265 PS / 195 kW\")","v":"BMW 5er Limousine, 530d, G30, 265 PS / 195 kW"},{"$f":"HYPERLINK(\"files\\5030.\"&Herstellerauswahl!$C$4,\"Auswahl / Select 5030\")","v":"Auswahl / Select 5030"}]
["0005/COF",{"$f":"HYPERLINK(\"files\\5030.\"&Herstellerauswahl!$C$4,\"BMW 5er Limousine, 530d, G30, 249 PS / 183 kW\")","v":"BMW 5er Limousine, 530d, G30, 249 PS / 183 kW"},{"$f":"HYPERLINK(\"files\\5030.\"&Herstellerauswahl!$C$4,\"Auswahl / Select 5030\")","v":"Auswahl / Select 5030"}]
["0005/CNX",{"$f":"HYPERLINK(\"files\\5030.\"&Herstellerauswahl!$C$4,\"BMW 5er Limousine, 530d xDrive, G30, 249 PS / 183 kW\")","v":"BMW 5er Limousine, 530d xDrive, G30, 249 PS / 183 kW"},{"$f":"HYPERLINK(\"files\\5030.\"&Herstellerauswahl!$C$4,\"Auswahl / Select 5030\")","v":"Auswahl / Select 5030"}]
["0005/CNY",{"$f":"HYPERLINK(\"files\\5030.\"&Herstellerauswahl!$C$4,\"BMW 5er Limousine, 530d xDrive, G30, 265 PS / 195 kW\")","v":"BMW 5er Limousine, 530d xDrive, G30, 265 PS / 195 kW"},{"$f":"HYPERLINK(\"files\\5030.\"&Herstellerauswahl!$C$4,\"Auswahl / Select 5030\")","v":"Auswahl / Select 5030"}]
["0005/COO",{"$f":"HYPERLINK(\"files\\5030.\"&Herstellerauswahl!$C$4,\"BMW 5er Limousine, 530e, G30, 184 PS / 135 kW\")","v":"BMW 5er Limousine, 530e, G30, 184 PS / 135 kW"},{"$f":"HYPERLINK(\"files\\5030.\"&Herstellerauswahl!$C$4,\"Auswahl / Select 5030\")","v":"Auswahl / Select 5030"}]
["0005/CXO",{"$f":"HYPERLINK(\"files\\5030.\"&Herstellerauswahl!$C$4,\"BMW 5er Limousine, 530e, G30, 163 PS / 120 kW\")","v":"BMW 5er Limousine, 530e, G30, 163 PS / 120 kW"},{"$f":"HYPERLINK(\"files\\5030.\"&Herstellerauswahl!$C$4,\"Auswahl / Select 5030\")","v":"Auswahl / Select 5030"}]
["0005/CWT",{"$f":"HYPERLINK(\"files\\5030.\"&Herstellerauswahl!$C$4,\"BMW 5er Limousine, 530e xDrive, G30, 184 PS / 135 kW\")","v":"BMW 5er Limousine, 530e xDrive, G30, 184 PS / 135 kW"},{"$f":"HYPERLINK(\"files\\5030.\"&Herstellerauswahl!$C$4,\"Auswahl / Select 5030\")","v":"Auswahl / Select 5030"}]
["0005/CXN",{"$f":"HYPERLINK(\"files\\5030.\"&Herstellerauswahl!$C$4,\"BMW 5er Limousine, 530e xDrive, G30, 163 PS / 120 kW\")","v":"BMW 5er Limousine, 530e xDrive, G30, 163 PS / 120 kW"},{"$f":"HYPERLINK(\"files\\5030.\"&Herstellerauswahl!$C$4,\"Auswahl / Select 5030\")","v":"Auswahl / Select 5030"}]
["0005/CNZ",{"$f":"HYPERLINK(\"files\\5030.\"&Herstellerauswahl!$C$4,\"BMW 5er Limousine, 530i, G30, 252 PS / 185 kW\")","v":"BMW 5er Limousine, 530i, G30, 252 PS / 185 kW"},{"$f":"HYPERLINK(\"files\\5030.\"&Herstellerauswahl!$C$4,\"Auswahl / Select 5030\")","v":"Auswahl / Select 5030"}]
["0005/COA",{"$f":"HYPERLINK(\"files\\5030.\"&Herstellerauswahl!$C$4,\"BMW 5er Limousine, 530i xDrive, G30, 252 PS / 185 kW\")","v":"BMW 5er Limousine, 530i xDrive, G30, 252 PS / 185 kW"},{"$f":"HYPERLINK(\"files\\5030.\"&Herstellerauswahl!$C$4,\"Auswahl / Select 5030\")","v":"Auswahl / Select 5030"}]
["0005/CPX",{"$f":"HYPERLINK(\"files\\5030.\"&Herstellerauswahl!$C$4,\"BMW 5er Limousine, 540d xDrive, G30, 320 PS / 235 kW\")","v":"BMW 5er Limousine, 540d xDrive, G30, 320 PS / 235 kW"},{"$f":"HYPERLINK(\"files\\5030.\"&Herstellerauswahl!$C$4,\"Auswahl / Select 5030\")","v":"Auswahl / Select 5030"}]
["0005/COC",{"$f":"HYPERLINK(\"files\\5030.\"&Herstellerauswahl!$C$4,\"BMW 5er Limousine, 540i, G30, 360 PS / 265 kW\")","v":"BMW 5er Limousine, 540i, G30, 360 PS / 265 kW"},{"$f":"HYPERLINK(\"files\\5030.\"&Herstellerauswahl!$C$4,\"Auswahl / Select 5030\")","v":"Auswahl / Select 5030"}]
["0005/COB",{"$f":"HYPERLINK(\"files\\5030.\"&Herstellerauswahl!$C$4,\"BMW 5er Limousine, 540i, G30, 340 PS / 250 kW\")","v":"BMW 5er Limousine, 540i, G30, 340 PS / 250 kW"},{"$f":"HYPERLINK(\"files\\5030.\"&Herstellerauswahl!$C$4,\"Auswahl / Select 5030\")","v":"Auswahl / Select 5030"}]
["0005/COD",{"$f":"HYPERLINK(\"files\\5030.\"&Herstellerauswahl!$C$4,\"BMW 5er Limousine, 540i xDrive, G30, 340 PS / 250 kW\")","v":"BMW 5er Limousine, 540i xDrive, G30, 340 PS / 250 kW"},{"$f":"HYPERLINK(\"files\\5030.\"&Herstellerauswahl!$C$4,\"Auswahl / Select 5030\")","v":"Auswahl / Select 5030"}]
["0005/COE",{"$f":"HYPERLINK(\"files\\5030.\"&Herstellerauswahl!$C$4,\"BMW 5er Limousine, 540i xDrive, G30, 360 PS / 265 kW\")","v":"BMW 5er Limousine, 540i xDrive, G30, 360 PS / 265 kW"},{"$f":"HYPERLINK(\"files\\5030.\"&Herstellerauswahl!$C$4,\"Auswahl / Select 5030\")","v":"Auswahl / Select 5030"}]
["0005/CPL",{"$f":"HYPERLINK(\"files\\5030.\"&Herstellerauswahl!$C$4,\"BMW 5er Limousine, M550d xDrive, G30, 400 PS / 294 kW\")","v":"BMW 5er Limousine, M550d xDrive, G30, 400 PS / 294 kW"},{"$f":"HYPERLINK(\"files\\5030.\"&Herstellerauswahl!$C$4,\"Auswahl / Select 5030\")","v":"Auswahl / Select 5030"}]
["0005/COP",{"$f":"HYPERLINK(\"files\\5030.\"&Herstellerauswahl!$C$4,\"BMW 5er Limousine, M550i xDrive, G30, 462 PS / 340 kW\")","v":"BMW 5er Limousine, M550i xDrive, G30, 462 PS / 340 kW"},{"$f":"HYPERLINK(\"files\\5030.\"&Herstellerauswahl!$C$4,\"Auswahl / Select 5030\")","v":"Auswahl / Select 5030"}]
["0005/CWU",{"$f":"HYPERLINK(\"files\\5030.\"&Herstellerauswahl!$C$4,\"BMW 5er Limousine, M550i xDrive, G30, 530 PS / 390 kW\")","v":"BMW 5er Limousine, M550i xDrive, G30, 530 PS / 390 kW"},{"$f":"HYPERLINK(\"files\\5030.\"&Herstellerauswahl!$C$4,\"Auswahl / Select 5030\")","v":"Auswahl / Select 5030"}]

{"sheet":"G30 Facelift Limousine","index":84,"n_rows":30,"n_cols":4,"rows_kept":30,"cut":false,"hidden":false,"merged":[]}
[]
[]
["TSN/HSN","Motorauswahl für G30 Facelift Limousine","Home","Zurück / back"]
[]
["0005/DDX",{"$f":"HYPERLINK(\"files\\5030.\"&Herstellerauswahl!$C$4,\"BMW 5er Limousine, 518d MHy, G30 (LCI), 136 PS / 100 kW\")","v":"BMW 5er Limousine, 518d MHy, G30 (LCI), 136 PS / 100 kW"},{"$f":"HYPERLINK(\"files\\5030.\"&Herstellerauswahl!$C$4,\"Auswahl / Select 5030\")","v":"Auswahl / Select 5030"}]
["0005/DDY",{"$f":"HYPERLINK(\"files\\5030.\"&Herstellerauswahl!$C$4,\"BMW 5er Limousine, 518d MHy, G30 (LCI), 150 PS / 110 kW\")","v":"BMW 5er Limousine, 518d MHy, G30 (LCI), 150 PS / 110 kW"},{"$f":"HYPERLINK(\"files\\5030.\"&Herstellerauswahl!$C$4,\"Auswahl / Select 5030\")","v":"Auswahl / Select 5030"}]
["0005/CXO",{"$f":"HYPERLINK(\"files\\5030.\"&Herstellerauswahl!$C$4,\"BMW 5er Limousine, 520e, G30 (LCI), 163 PS / 120 kW\")","v":"BMW 5er Limousine, 520e, G30 (LCI), 163 PS / 120 kW"},{"$f":"HYPERLINK(\"files\\5030.\"&Herstellerauswahl!$C$4,\"Auswahl / Select 5030\")","v":"Auswahl / Select 5030"}]
["0005/CNT",{"$f":"HYPERLINK(\"files\\5030.\"&Herstellerauswahl!$C$4,\"BMW 5er Limousine, 520d, G30 (LCI), 190 PS / 140 kW\")","v":"BMW 5er Limousine, 520d, G30 (LCI), 190 PS / 140 kW"},{"$f":"HYPERLINK(\"files\\5030.\"&Herstellerauswahl!$C$4,\"Auswahl / Select 5030\")","v":"Auswahl / Select 5030"}]
["0005/CXQ",{"$f":"HYPERLINK(\"files\\5030.\"&Herstellerauswahl!$C$4,\"BMW 5er Limousine, 520d MHy, G30 (LCI), 163 PS / 120 kW\")","v":"BMW 5er Limousine, 520d MHy, G30 (LCI), 163 PS / 120 kW"},{"$f":"HYPERLINK(\"files\\5030.\"&Herstellerauswahl!$C$4,\"Auswahl / Select 5030\")","v":"Auswahl / Select 5030"}]
["0005/CXR",{"$f":"HYPERLINK(\"files\\5030.\"&Herstellerauswahl!$C$4,\"BMW 5er Limousine, 520d MHy, G30 (LCI), 190 PS / 140 kW\")","v":"BMW 5er Limousine, 520d MHy, G30 (LCI), 190 PS / 140 kW"},{"$f":"HYPERLINK(\"files\\5030.\"&Herstellerauswahl!$C$4,\"Auswahl / Select 5030\")","v":"Auswahl / Select 5030"}]
["0005/CNV",{"$f":"HYPERLINK(\"files\\5030.\"&Herstellerauswahl!$C$4,\"BMW 5er Limousine, 520d xDrive, G30 (LCI), 190 PS / 140 kW\")","v":"BMW 5er Limousine, 520d xDrive, G30 (LCI), 190 PS / 140 kW"},{"$f":"HYPERLINK(\"files\\5030.\"&Herstellerauswahl!$C$4,\"Auswahl / Select 5030\")","v":"Auswahl / Select 5030"}]
["0005/CXT",{"$f":"HYPERLINK(\"files\\5030.\"&Herstellerauswahl!$C$4,\"BMW 5er Limousine, 520d MHy xDrive, G30 (LCI), 190 PS / 140 kW\")","v":"BMW 5er Limousine, 520d MHy xDrive, G30 (LCI), 190 PS / 140 kW"},{"$f":"HYPERLINK(\"files\\5030.\"&Herstellerauswahl!$C$4,\"Auswahl / Select 5030\")","v":"Auswahl / Select 5030"}]
["0005/CPE",{"$f":"HYPERLINK(\"files\\5030.\"&Herstellerauswahl!$C$4,\"BMW 5er Limousine, 520i, G30 (LCI), 170 PS / 125 kW\")","v":"BMW 5er Limousine, 520i, G30 (LCI), 170 PS / 125 kW"},{"$f":"HYPERLINK(\"files\\5030.\"&Herstellerauswahl!$C$4,\"Auswahl / Select 5030\")","v":"Auswahl / Select 5030"}]
["0005/DDW",{"$f":"HYPERLINK(\"files\\5030.\"&Herstellerauswahl!$C$4,\"BMW 5er Limousine, 520i MHy, G30 (LCI), 184 PS / 135 kW\")","v":"BMW 5er Limousine, 520i MHy, G30 (LCI), 184 PS / 135 kW"},{"$f":"HYPERLINK(\"files\\5030.\"&Herstellerauswahl!$C$4,\"Auswahl / Select 5030\")","v":"Auswahl / Select 5030"}]
["0005/DDV",{"$f":"HYPERLINK(\"files\\5030.\"&Herstellerauswahl!$C$4,\"BMW 5er Limousine, 520i MHy, G30 (LCI), 163 PS / 120 kW\")","v":"BMW 5er Limousine, 520i MHy, G30 (LCI), 163 PS / 120 kW"},{"$f":"HYPERLINK(\"files\\5030.\"&Herstellerauswahl!$C$4,\"Auswahl / Select 5030\")","v":"Auswahl / Select 5030"}]
["0005/DBL",{"$f":"HYPERLINK(\"files\\5030.\"&Herstellerauswahl!$C$4,\"BMW 5er Limousine, 530d MHy, G30 (LCI), 249 PS / 183 kW\")","v":"BMW 5er Limousine, 530d MHy, G30 (LCI), 249 PS / 183 kW"},{"$f":"HYPERLINK(\"files\\5030.\"&Herstellerauswahl!$C$4,\"Auswahl / Select 5030\")","v":"Auswahl / Select 5030"}]
["0005/DBM",{"$f":"HYPERLINK(\"files\\5030.\"&Herstellerauswahl!$C$4,\"BMW 5er Limousine, 530d MHy, G30 (LCI), 286 PS / 210 kW\")","v":"BMW 5er Limousine, 530d MHy, G30 (LCI), 286 PS / 210 kW"},{"$f":"HYPERLINK(\"files\\5030.\"&Herstellerauswahl!$C$4,\"Auswahl / Select 5030\")","v":"Auswahl / Select 5030"}]
["0005/DBN",{"$f":"HYPERLINK(\"files\\5030.\"&Herstellerauswahl!$C$4,\"BMW 5er Limousine, 530d MHy xDrive, G30 (LCI), 249 PS / 183 kW\")","v":"BMW 5er Limousine, 530d MHy xDrive, G30 (LCI), 249 PS / 183 kW"},{"$f":"HYPERLINK(\"files\\5030.\"&Herstellerauswahl!$C$4,\"Auswahl / Select 5030\")","v":"Auswahl / Select 5030"}]
["0005/DBO",{"$f":"HYPERLINK(\"files\\5030.\"&Herstellerauswahl!$C$4,\"BMW 5er Limousine, 530d MHy xDrive, G30 (LCI), 286 PS / 210 kW\")","v":"BMW 5er Limousine, 530d MHy xDrive, G30 (LCI), 286 PS / 210 kW"},{"$f":"HYPERLINK(\"files\\5030.\"&Herstellerauswahl!$C$4,\"Auswahl / Select 5030\")","v":"Auswahl / Select 5030"}]
["0005/COO",{"$f":"HYPERLINK(\"files\\5030.\"&Herstellerauswahl!$C$4,\"BMW 5er Limousine, 530e, G30 (LCI), 184 PS / 135 kW\")","v":"BMW 5er Limousine, 530e, G30 (LCI), 184 PS / 135 kW"},{"$f":"HYPERLINK(\"files\\5030.\"&Herstellerauswahl!$C$4,\"Auswahl / Select 5030\")","v":"Auswahl / Select 5030"}]
["0005/CXO",{"$f":"HYPERLINK(\"files\\5030.\"&Herstellerauswahl!$C$4,\"BMW 5er Limousine, 530e, G30 (LCI), 163 PS / 120 kW\")","v":"BMW 5er Limousine, 530e, G30 (LCI), 163 PS / 120 kW"},{"$f":"HYPERLINK(\"files\\5030.\"&Herstellerauswahl!$C$4,\"Auswahl / Select 5030\")","v":"Auswahl / Select 5030"}]
["0005/CWT",{"$f":"HYPERLINK(\"files\\5030.\"&Herstellerauswahl!$C$4,\"BMW 5er Limousine, 530e xDrive, G30 (LCI), 184 PS / 135 kW\")","v":"BMW 5er Limousine, 530e xDrive, G30 (LCI), 184 PS / 135 kW"},{"$f":"HYPERLINK(\"files\\5030.\"&Herstellerauswahl!$C$4,\"Auswahl / Select 5030\")","v":"Auswahl / Select 5030"}]
["0005/CXN",{"$f":"HYPERLINK(\"files\\5030.\"&Herstellerauswahl!$C$4,\"BMW 5er Limousine, 530e xDrive, G30 (LCI), 163 PS / 120 kW\")","v":"BMW 5er Limousine, 530e xDrive, G30 (LCI), 163 PS / 120 kW"},{"$f":"HYPERLINK(\"files\\5030.\"&Herstellerauswahl!$C$4,\"Auswahl / Select 5030\")","v":"Auswahl / Select 5030"}]
["0005/DDU",{"$f":"HYPERLINK(\"files\\5030.\"&Herstellerauswahl!$C$4,\"BMW 5er Limousine, 530i MHy, G30 (LCI), 252 PS / 185 kW\")","v":"BMW 5er Limousine, 530i MHy, G30 (LCI), 252 PS / 185 kW"},{"$f":"HYPERLINK(\"files\\5030.\"&Herstellerauswahl!$C$4,\"Auswahl / Select 5030\")","v":"Auswahl / Select 5030"}]
["0005/DDT",{"$f":"HYPERLINK(\"files\\5030.\"&Herstellerauswahl!$C$4,\"BMW 5er Limousine, 530i MHy xDrive, G30 (LCI), 252 PS / 185 kW\")","v":"BMW 5er Limousine, 530i MHy xDrive, G30 (LCI), 252 PS / 185 kW"},{"$f":"HYPERLINK(\"files\\5030.\"&Herstellerauswahl!$C$4,\"Auswahl / Select 5030\")","v":"Auswahl / Select 5030"}]
["0005/DBP",{"$f":"HYPERLINK(\"files\\5030.\"&Herstellerauswahl!$C$4,\"BMW 5er Limousine, 540d xDrive, G30 (LCI), 340 PS / 250 kW\")","v":"BMW 5er Limousine, 540d xDrive, G30 (LCI), 340 PS / 250 kW"},{"$f":"HYPERLINK(\"files\\5030.\"&Herstellerauswahl!$C$4,\"Auswahl / Select 5030\")","v":"Auswahl / Select 5030"}]
["0005/DBQ",{"$f":"HYPERLINK(\"files\\5030.\"&Herstellerauswahl!$C$4,\"BMW 5er Limousine, 540i MHy, G30 (LCI), 333 PS / 245 kW\")","v":"BMW 5er Limousine, 540i MHy, G30 (LCI), 333 PS / 245 kW"},{"$f":"HYPERLINK(\"files\\5030.\"&Herstellerauswahl!$C$4,\"Auswahl / Select 5030\")","v":"Auswahl / Select 5030"}]
["0005/DBR",{"$f":"HYPERLINK(\"files\\5030.\"&Herstellerauswahl!$C$4,\"BMW 5er Limousine, 540i MHy xDrive, G30 (LCI), 333 PS / 245 kW\")","v":"BMW 5er Limousine, 540i MHy xDrive, G30 (LCI), 333 PS / 245 kW"},{"$f":"HYPERLINK(\"files\\5030.\"&Herstellerauswahl!$C$4,\"Auswahl / Select 5030\")","v":"Auswahl / Select 5030"}]
["0005/DEP",{"$f":"HYPERLINK(\"files\\5030.\"&Herstellerauswahl!$C$4,\"BMW 5er Limousine, 545e xDrive, G30 (LCI), 286 PS / 210 kW\")","v":"BMW 5er Limousine, 545e xDrive, G30 (LCI), 286 PS / 210 kW"},{"$f":"HYPERLINK(\"files\\5030.\"&Herstellerauswahl!$C$4,\"Auswahl / Select 5030\")","v":"Auswahl / Select 5030"}]
["0005/CWU",{"$f":"HYPERLINK(\"files\\5030.\"&Herstellerauswahl!$C$4,\"BMW 5er Limousine, M550i xDrive, G30 (LCI), 530 PS / 390 kW\")","v":"BMW 5er Limousine, M550i xDrive, G30 (LCI), 530 PS / 390 kW"},{"$f":"HYPERLINK(\"files\\5030.\"&Herstellerauswahl!$C$4,\"Auswahl / Select 5030\")","v":"Auswahl / Select 5030"}]

{"sheet":"G31 Touring","index":85,"n_rows":28,"n_cols":4,"rows_kept":28,"cut":false,"hidden":false,"merged":[]}
[]
[]
["TSN/HSN","Motorauswahl für G31 Touring","Home","Zurück / back"]
[]
["0005/CSS",{"$f":"HYPERLINK(\"files\\5032.\"&Herstellerauswahl!$C$4,\"BMW 5er Touring, 518d, G31, 150 PS / 110 kW\")","v":"BMW 5er Touring, 518d, G31, 150 PS / 110 kW"},{"$f":"HYPERLINK(\"files\\5032.\"&Herstellerauswahl!$C$4,\"Auswahl / Select 5032\")","v":"Auswahl / Select 5032"}]
["0005/CST",{"$f":"HYPERLINK(\"files\\5032.\"&Herstellerauswahl!$C$4,\"BMW 5er Touring, 518d, G31, 136 PS / 100 kW\")","v":"BMW 5er Touring, 518d, G31, 136 PS / 100 kW"},{"$f":"HYPERLINK(\"files\\5032.\"&Herstellerauswahl!$C$4,\"Auswahl / Select 5032\")","v":"Auswahl / Select 5032"}]
["0005/CXU",{"$f":"HYPERLINK(\"files\\5032.\"&Herstellerauswahl!$C$4,\"BMW 5er Touring, 520d MHy, G31, 163 PS / 120 kW\")","v":"BMW 5er Touring, 520d MHy, G31, 163 PS / 120 kW"},{"$f":"HYPERLINK(\"files\\5032.\"&Herstellerauswahl!$C$4,\"Auswahl / Select 5032\")","v":"Auswahl / Select 5032"}]
["0005/CXV",{"$f":"HYPERLINK(\"files\\5032.\"&Herstellerauswahl!$C$4,\"BMW 5er Touring, 520d MHy, G31, 190 PS / 140 kW\")","v":"BMW 5er Touring, 520d MHy, G31, 190 PS / 140 kW"},{"$f":"HYPERLINK(\"files\\5032.\"&Herstellerauswahl!$C$4,\"Auswahl / Select 5032\")","v":"Auswahl / Select 5032"}]
["0005/COQ",{"$f":"HYPERLINK(\"files\\5032.\"&Herstellerauswahl!$C$4,\"BMW 5er Touring, 520d, G31, 163 PS / 120 kW\")","v":"BMW 5er Touring, 520d, G31, 163 PS / 120 kW"},{"$f":"HYPERLINK(\"files\\5032.\"&Herstellerauswahl!$C$4,\"Auswahl / Select 5032\")","v":"Auswahl / Select 5032"}]
["0005/COR",{"$f":"HYPERLINK(\"files\\5032.\"&Herstellerauswahl!$C$4,\"BMW 5er Touring, 520d, G31, 190 PS / 140 kW\")","v":"BMW 5er Touring, 520d, G31, 190 PS / 140 kW"},{"$f":"HYPERLINK(\"files\\5032.\"&Herstellerauswahl!$C$4,\"Auswahl / Select 5032\")","v":"Auswahl / Select 5032"}]
["0005/CXX",{"$f":"HYPERLINK(\"files\\5032.\"&Herstellerauswahl!$C$4,\"BMW 5er Touring, 520d MHy xDrive, G31, 190 PS / 140 kW\")","v":"BMW 5er Touring, 520d MHy xDrive, G31, 190 PS / 140 kW"},{"$f":"HYPERLINK(\"files\\5032.\"&Herstellerauswahl!$C$4,\"Auswahl / Select 5032\")","v":"Auswahl / Select 5032"}]
["0005/CPR",{"$f":"HYPERLINK(\"files\\5032.\"&Herstellerauswahl!$C$4,\"BMW 5er Touring, 520d xDrive, G31, 163 PS / 120 kW\")","v":"BMW 5er Touring, 520d xDrive, G31, 163 PS / 120 kW"},{"$f":"HYPERLINK(\"files\\5032.\"&Herstellerauswahl!$C$4,\"Auswahl / Select 5032\")","v":"Auswahl / Select 5032"}]
["0005/CPS",{"$f":"HYPERLINK(\"files\\5032.\"&Herstellerauswahl!$C$4,\"BMW 5er Touring, 520d xDrive, G31, 190 PS / 140 kW\")","v":"BMW 5er Touring, 520d xDrive, G31, 190 PS / 140 kW"},{"$f":"HYPERLINK(\"files\\5032.\"&Herstellerauswahl!$C$4,\"Auswahl / Select 5032\")","v":"Auswahl / Select 5032"}]
["0005/CPM",{"$f":"HYPERLINK(\"files\\5032.\"&Herstellerauswahl!$C$4,\"BMW 5er Touring, 520i, G31, 163 PS / 120 kW\")","v":"BMW 5er Touring, 520i, G31, 163 PS / 120 kW"},{"$f":"HYPERLINK(\"files\\5032.\"&Herstellerauswahl!$C$4,\"Auswahl / Select 5032\")","v":"Auswahl / Select 5032"}]
["0005/CPN",{"$f":"HYPERLINK(\"files\\5032.\"&Herstellerauswahl!$C$4,\"BMW 5er Touring, 520i, G31, 184 PS / 135 kW\")","v":"BMW 5er Touring, 520i, G31, 184 PS / 135 kW"},{"$f":"HYPERLINK(\"files\\5032.\"&Herstellerauswahl!$C$4,\"Auswahl / Select 5032\")","v":"Auswahl / Select 5032"}]
["0005/CPO",{"$f":"HYPERLINK(\"files\\5032.\"&Herstellerauswahl!$C$4,\"BMW 5er Touring, 520i, G31, 211 PS / 155 kW\")","v":"BMW 5er Touring, 520i, G31, 211 PS / 155 kW"},{"$f":"HYPERLINK(\"files\\5032.\"&Herstellerauswahl!$C$4,\"Auswahl / Select 5032\")","v":"Auswahl / Select 5032"}]
["0005/CPP",{"$f":"HYPERLINK(\"files\\5032.\"&Herstellerauswahl!$C$4,\"BMW 5er Touring, 525d, G31, 211 PS / 155 kW\")","v":"BMW 5er Touring, 525d, G31, 211 PS / 155 kW"},{"$f":"HYPERLINK(\"files\\5032.\"&Herstellerauswahl!$C$4,\"Auswahl / Select 5032\")","v":"Auswahl / Select 5032"}]
["0005/CPQ",{"$f":"HYPERLINK(\"files\\5032.\"&Herstellerauswahl!$C$4,\"BMW 5er Touring, 525d, G31, 231 PS / 170 kW\")","v":"BMW 5er Touring, 525d, G31, 231 PS / 170 kW"},{"$f":"HYPERLINK(\"files\\5032.\"&Herstellerauswahl!$C$4,\"Auswahl / Select 5032\")","v":"Auswahl / Select 5032"}]
["0005/COS",{"$f":"HYPERLINK(\"files\\5032.\"&Herstellerauswahl!$C$4,\"BMW 5er Touring, 530d, G31, 265 PS / 195 kW\")","v":"BMW 5er Touring, 530d, G31, 265 PS / 195 kW"},{"$f":"HYPERLINK(\"files\\5032.\"&Herstellerauswahl!$C$4,\"Auswahl / Select 5032\")","v":"Auswahl / Select 5032"}]
["0005/COX",{"$f":"HYPERLINK(\"files\\5032.\"&Herstellerauswahl!$C$4,\"BMW 5er Touring, 530d, G31, 249 PS / 183 kW\")","v":"BMW 5er Touring, 530d, G31, 249 PS / 183 kW"},{"$f":"HYPERLINK(\"files\\5032.\"&Herstellerauswahl!$C$4,\"Auswahl / Select 5032\")","v":"Auswahl / Select 5032"}]
["0005/COY",{"$f":"HYPERLINK(\"files\\5032.\"&Herstellerauswahl!$C$4,\"BMW 5er Touring, 530d xDrive, G31, 249 PS / 183 kW\")","v":"BMW 5er Touring, 530d xDrive, G31, 249 PS / 183 kW"},{"$f":"HYPERLINK(\"files\\5032.\"&Herstellerauswahl!$C$4,\"Auswahl / Select 5032\")","v":"Auswahl / Select 5032"}]
["0005/COT",{"$f":"HYPERLINK(\"files\\5032.\"&Herstellerauswahl!$C$4,\"BMW 5er Touring, 530d xDrive, G31, 265 PS / 195 kW\")","v":"BMW 5er Touring, 530d xDrive, G31, 265 PS / 195 kW"},{"$f":"HYPERLINK(\"files\\5032.\"&Herstellerauswahl!$C$4,\"Auswahl / Select 5032\")","v":"Auswahl / Select 5032"}]
["0005/COU",{"$f":"HYPERLINK(\"files\\5032.\"&Herstellerauswahl!$C$4,\"BMW 5er Touring, 530i, G31, 252 PS / 185 kW\")","v":"BMW 5er Touring, 530i, G31, 252 PS / 185 kW"},{"$f":"HYPERLINK(\"files\\5032.\"&Herstellerauswahl!$C$4,\"Auswahl / Select 5032\")","v":"Auswahl / Select 5032"}]
["0005/CPT",{"$f":"HYPERLINK(\"files\\5032.\"&Herstellerauswahl!$C$4,\"BMW 5er Touring, 530i xDrive, G31, 252 PS / 185 kW\")","v":"BMW 5er Touring, 530i xDrive, G31, 252 PS / 185 kW"},{"$f":"HYPERLINK(\"files\\5032.\"&Herstellerauswahl!$C$4,\"Auswahl / Select 5032\")","v":"Auswahl / Select 5032"}]
["0005/CPU",{"$f":"HYPERLINK(\"files\\5032.\"&Herstellerauswahl!$C$4,\"BMW 5er Touring, 540d xDrive, G31, 320 PS / 235 kW\")","v":"BMW 5er Touring, 540d xDrive, G31, 320 PS / 235 kW"},{"$f":"HYPERLINK(\"files\\5032.\"&Herstellerauswahl!$C$4,\"Auswahl / Select 5032\")","v":"Auswahl / Select 5032"}]
["0005/COV",{"$f":"HYPERLINK(\"files\\5032.\"&Herstellerauswahl!$C$4,\"BMW 5er Touring, 540i xDrive, G31, 340 PS / 250 kW\")","v":"BMW 5er Touring, 540i xDrive, G31, 340 PS / 250 kW"},{"$f":"HYPERLINK(\"files\\5032.\"&Herstellerauswahl!$C$4,\"Auswahl / Select 5032\")","v":"Auswahl / Select 5032"}]
["0005/COW",{"$f":"HYPERLINK(\"files\\5032.\"&Herstellerauswahl!$C$4,\"BMW 5er Touring, 540i xDrive, G31, 360 PS / 265 kW\")","v":"BMW 5er Touring, 540i xDrive, G31, 360 PS / 265 kW"},{"$f":"HYPERLINK(\"files\\5032.\"&Herstellerauswahl!$C$4,\"Auswahl / Select 5032\")","v":"Auswahl / Select 5032"}]
["0005/CRS",{"$f":"HYPERLINK(\"files\\5032.\"&Herstellerauswahl!$C$4,\"BMW 5er Touring, M550d xDrive, G31, 400 PS / 294 kW\")","v":"BMW 5er Touring, M550d xDrive, G31, 400 PS / 294 kW"},{"$f":"HYPERLINK(\"files\\5032.\"&Herstellerauswahl!$C$4,\"Auswahl / Select 5032\")","v":"Auswahl / Select 5032"}]

{"sheet":"G31 Facelift Touring","index":86,"n_rows":23,"n_cols":4,"rows_kept":23,"cut":false,"hidden":false,"merged":[]}
[]
[]
["TSN/HSN","Motorauswahl für G31 Facelift Touring","Home","Zurück / back"]
[]
["0005/DDO",{"$f":"HYPERLINK(\"files\\5032.\"&Herstellerauswahl!$C$4,\"BMW 5er Touring, 518d MHy, G31 (LCI), 150 PS / 110 kW\")","v":"BMW 5er Touring, 518d MHy, G31 (LCI), 150 PS / 110 kW"},{"$f":"HYPERLINK(\"files\\5032.\"&Herstellerauswahl!$C$4,\"Auswahl / Select 5032\")","v":"Auswahl / Select 5032"}]
["0005/DDR",{"$f":"HYPERLINK(\"files\\5032.\"&Herstellerauswahl!$C$4,\"BMW 5er Touring, 518d MHy, G31 (LCI), 136 PS / 100 kW\")","v":"BMW 5er Touring, 518d MHy, G31 (LCI), 136 PS / 100 kW"},{"$f":"HYPERLINK(\"files\\5032.\"&Herstellerauswahl!$C$4,\"Auswahl / Select 5032\")","v":"Auswahl / Select 5032"}]
["0005/DEQ",{"$f":"HYPERLINK(\"files\\5032.\"&Herstellerauswahl!$C$4,\"BMW 5er Touring, 520e, G31 (LCI), 163 PS / 120 kW\")","v":"BMW 5er Touring, 520e, G31 (LCI), 163 PS / 120 kW"},{"$f":"HYPERLINK(\"files\\5032.\"&Herstellerauswahl!$C$4,\"Auswahl / Select 5032\")","v":"Auswahl / Select 5032"}]
["0005/CXU",{"$f":"HYPERLINK(\"files\\5032.\"&Herstellerauswahl!$C$4,\"BMW 5er Touring, 520d MHy, G31 (LCI), 163 PS / 120 kW\")","v":"BMW 5er Touring, 520d MHy, G31 (LCI), 163 PS / 120 kW"},{"$f":"HYPERLINK(\"files\\5032.\"&Herstellerauswahl!$C$4,\"Auswahl / Select 5032\")","v":"Auswahl / Select 5032"}]
["0005/CXV",{"$f":"HYPERLINK(\"files\\5032.\"&Herstellerauswahl!$C$4,\"BMW 5er Touring, 520d MHy, G31 (LCI), 190 PS / 140 kW\")","v":"BMW 5er Touring, 520d MHy, G31 (LCI), 190 PS / 140 kW"},{"$f":"HYPERLINK(\"files\\5032.\"&Herstellerauswahl!$C$4,\"Auswahl / Select 5032\")","v":"Auswahl / Select 5032"}]
["0005/CXX",{"$f":"HYPERLINK(\"files\\5032.\"&Herstellerauswahl!$C$4,\"BMW 5er Touring, 520d MHy xDrive, G31 (LCI), 190 PS / 140 kW\")","v":"BMW 5er Touring, 520d MHy xDrive, G31 (LCI), 190 PS / 140 kW"},{"$f":"HYPERLINK(\"files\\5032.\"&Herstellerauswahl!$C$4,\"Auswahl / Select 5032\")","v":"Auswahl / Select 5032"}]
["0005/DDN",{"$f":"HYPERLINK(\"files\\5032.\"&Herstellerauswahl!$C$4,\"BMW 5er Touring, 520i MHy, G31 (LCI), 184 PS / 135 kW\")","v":"BMW 5er Touring, 520i MHy, G31 (LCI), 184 PS / 135 kW"},{"$f":"HYPERLINK(\"files\\5032.\"&Herstellerauswahl!$C$4,\"Auswahl / Select 5032\")","v":"Auswahl / Select 5032"}]
["0005/DDP",{"$f":"HYPERLINK(\"files\\5032.\"&Herstellerauswahl!$C$4,\"BMW 5er Touring, 520i MHy, G31 (LCI), 163 PS / 120 kW\")","v":"BMW 5er Touring, 520i MHy, G31 (LCI), 163 PS / 120 kW"},{"$f":"HYPERLINK(\"files\\5032.\"&Herstellerauswahl!$C$4,\"Auswahl / Select 5032\")","v":"Auswahl / Select 5032"}]
["0005/DER",{"$f":"HYPERLINK(\"files\\5032.\"&Herstellerauswahl!$C$4,\"BMW 5er Touring, 530e, G31 (LCI), 184 PS / 135 kW\")","v":"BMW 5er Touring, 530e, G31 (LCI), 184 PS / 135 kW"},{"$f":"HYPERLINK(\"files\\5032.\"&Herstellerauswahl!$C$4,\"Auswahl / Select 5032\")","v":"Auswahl / Select 5032"}]
["0005/DES",{"$f":"HYPERLINK(\"files\\5032.\"&Herstellerauswahl!$C$4,\"BMW 5er Touring, 530e xDrive, G31 (LCI), 184 PS / 135 kW\")","v":"BMW 5er Touring, 530e xDrive, G31 (LCI), 184 PS / 135 kW"},{"$f":"HYPERLINK(\"files\\5032.\"&Herstellerauswahl!$C$4,\"Auswahl / Select 5032\")","v":"Auswahl / Select 5032"}]
["0005/DFF",{"$f":"HYPERLINK(\"files\\5032.\"&Herstellerauswahl!$C$4,\"BMW 5er Touring, 530e xDrive, G31 (LCI), 163 PS / 120 kW\")","v":"BMW 5er Touring, 530e xDrive, G31 (LCI), 163 PS / 120 kW"},{"$f":"HYPERLINK(\"files\\5032.\"&Herstellerauswahl!$C$4,\"Auswahl / Select 5032\")","v":"Auswahl / Select 5032"}]
["0005/DCC",{"$f":"HYPERLINK(\"files\\5032.\"&Herstellerauswahl!$C$4,\"BMW 5er Touring, 530d MHy, G31 (LCI), 249 PS / 183 kW\")","v":"BMW 5er Touring, 530d MHy, G31 (LCI), 249 PS / 183 kW"},{"$f":"HYPERLINK(\"files\\5032.\"&Herstellerauswahl!$C$4,\"Auswahl / Select 5032\")","v":"Auswahl / Select 5032"}]
["0005/DCD",{"$f":"HYPERLINK(\"files\\5032.\"&Herstellerauswahl!$C$4,\"BMW 5er Touring, 530d MHy, G31 (LCI), 286 PS / 210 kW\")","v":"BMW 5er Touring, 530d MHy, G31 (LCI), 286 PS / 210 kW"},{"$f":"HYPERLINK(\"files\\5032.\"&Herstellerauswahl!$C$4,\"Auswahl / Select 5032\")","v":"Auswahl / Select 5032"}]
["0005/DCF",{"$f":"HYPERLINK(\"files\\5032.\"&Herstellerauswahl!$C$4,\"BMW 5er Touring, 530d MHy xDrive, G31 (LCI), 286 PS / 210 kW\")","v":"BMW 5er Touring, 530d MHy xDrive, G31 (LCI), 286 PS / 210 kW"},{"$f":"HYPERLINK(\"files\\5032.\"&Herstellerauswahl!$C$4,\"Auswahl / Select 5032\")","v":"Auswahl / Select 5032"}]
["0005/DCE",{"$f":"HYPERLINK(\"files\\5032.\"&Herstellerauswahl!$C$4,\"BMW 5er Touring, 530d MHy xDrive, G31 (LCI), 249 PS / 183 kW\")","v":"BMW 5er Touring, 530d MHy xDrive, G31 (LCI), 249 PS / 183 kW"},{"$f":"HYPERLINK(\"files\\5032.\"&Herstellerauswahl!$C$4,\"Auswahl / Select 5032\")","v":"Auswahl / Select 5032"}]
["0005/DDQ",{"$f":"HYPERLINK(\"files\\5032.\"&Herstellerauswahl!$C$4,\"BMW 5er Touring, 530i MHy, G31 (LCI), 252 PS / 185 kW\")","v":"BMW 5er Touring, 530i MHy, G31 (LCI), 252 PS / 185 kW"},{"$f":"HYPERLINK(\"files\\5032.\"&Herstellerauswahl!$C$4,\"Auswahl / Select 5032\")","v":"Auswahl / Select 5032"}]
["0005/DDS",{"$f":"HYPERLINK(\"files\\5032.\"&Herstellerauswahl!$C$4,\"BMW 5er Touring, 530i MHy xDrive, G31 (LCI), 252 PS / 185 kW\")","v":"BMW 5er Touring, 530i MHy xDrive, G31 (LCI), 252 PS / 185 kW"},{"$f":"HYPERLINK(\"files\\5032.\"&Herstellerauswahl!$C$4,\"Auswahl / Select 5032\")","v":"Auswahl / Select 5032"}]
["0005/DCG",{"$f":"HYPERLINK(\"files\\5032.\"&Herstellerauswahl!$C$4,\"BMW 5er Touring, 540d MHy xDrive, G31 (LCI), 340 PS / 250 kW\")","v":"BMW 5er Touring, 540d MHy xDrive, G31 (LCI), 340 PS / 250 kW"},{"$f":"HYPERLINK(\"files\\5032.\"&Herstellerauswahl!$C$4,\"Auswahl / Select 5032\")","v":"Auswahl / Select 5032"}]
["0005/DDM",{"$f":"HYPERLINK(\"files\\5032.\"&Herstellerauswahl!$C$4,\"BMW 5er Touring, 540i MHy xDrive, G31 (LCI), 333 PS / 245 kW\")","v":"BMW 5er Touring, 540i MHy xDrive, G31 (LCI), 333 PS / 245 kW"},{"$f":"HYPERLINK(\"files\\5032.\"&Herstellerauswahl!$C$4,\"Auswahl / Select 5032\")","v":"Auswahl / Select 5032"}]

{"sheet":"BMW 6er","index":87,"n_rows":21,"n_cols":4,"rows_kept":21,"cut":false,"hidden":false,"merged":[]}
[]
[]
[null,"Typauswahl für BMW 6er","Home","Zurück / back"]
[]
[null,"E63 Coupe","Auswahl / Select"]
[null,"E63 M Coupe","Auswahl / Select"]
[null,"E63 Facelift Coupe","Auswahl / Select"]
[null,"E64 Cabrio","Auswahl / Select"]
[null,"E64 M Cabrio","Auswahl / Select"]
[null,"E64 Facelift Cabrio","Auswahl / Select"]
[null,"F06 Gran Coupe","Auswahl / Select"]
[null,"F06 Facelift Gran Coupe","Auswahl / Select"]
[null,"F06 M Gran Coupe","Auswahl / Select"]
[null,"F12 Cabrio","Auswahl / Select"]
[null,"F12 Facelift Cabrio","Auswahl / Select"]
[null,"F12 M Cabrio","Auswahl / Select"]
[null,"F13 Coupe","Auswahl / Select"]
[null,"F13 Facelift Coupe","Auswahl / Select"]
[null,"F13 M Coupe","Auswahl / Select"]
[null,"G32 Gran Turismo","Auswahl / Select"]
[null,"G32 Facelift Gran Turismo","Auswahl / Select"]

{"sheet":"E63 Coupe","index":88,"n_rows":7,"n_cols":4,"rows_kept":7,"cut":false,"hidden":false,"merged":[]}
[]
[]
["TSN/HSN","Motorauswahl für E63 Coupe","Home","Zurück / back"]
[]
["0005/811",{"$f":"HYPERLINK(\"files\\4001.\"&Herstellerauswahl!$C$4,\"BMW 6er Coupe, 630i, E63, 258 PS / 190 kW\")","v":"BMW 6er Coupe, 630i, E63, 258 PS / 190 kW"},{"$f":"HYPERLINK(\"files\\4001.\"&Herstellerauswahl!$C$4,\"Auswahl / Select 4001\")","v":"Auswahl / Select 4001"}]
["0005/155",{"$f":"HYPERLINK(\"files\\4001.\"&Herstellerauswahl!$C$4,\"BMW 6er Coupe, 645i, E63, 333 PS / 245 kW\")","v":"BMW 6er Coupe, 645i, E63, 333 PS / 245 kW"},{"$f":"HYPERLINK(\"files\\4001.\"&Herstellerauswahl!$C$4,\"Auswahl / Select 4001\")","v":"Auswahl / Select 4001"}]
["0005/861",{"$f":"HYPERLINK(\"files\\4001.\"&Herstellerauswahl!$C$4,\"BMW 6er Coupe, 650i, E63, 367 PS / 270 kW\")","v":"BMW 6er Coupe, 650i, E63, 367 PS / 270 kW"},{"$f":"HYPERLINK(\"files\\4001.\"&Herstellerauswahl!$C$4,\"Auswahl / Select 4001\")","v":"Auswahl / Select 4001"}]

{"sheet":"E63 M Coupe","index":89,"n_rows":5,"n_cols":4,"rows_kept":5,"cut":false,"hidden":false,"merged":[]}
[]
[]
["TSN/HSN","Motorauswahl für E63 M Coupe","Home","Zurück / back"]
[]
["7909/AFF/AAR",{"$f":"HYPERLINK(\"files\\4011.\"&Herstellerauswahl!$C$4,\"BMW 6er M Coupe, M, E63, 507 PS / 373 kW\")","v":"BMW 6er M Coupe, M, E63, 507 PS / 373 kW"},{"$f":"HYPERLINK(\"files\\4011.\"&Herstellerauswahl!$C$4,\"Auswahl / Select 4011\")","v":"Auswahl / Select 4011"}]

{"sheet":"E63 Facelift Coupe","index":90,"n_rows":7,"n_cols":4,"rows_kept":7,"cut":false,"hidden":false,"merged":[]}
[]
[]
["TSN/HSN","Motorauswahl für E63 Facelift Coupe","Home","Zurück / back"]
[]
["0005/AKF",{"$f":"HYPERLINK(\"files\\4001.\"&Herstellerauswahl!$C$4,\"BMW 6er Coupe, 630i, E63 (LCI), 272 PS / 200 kW\")","v":"BMW 6er Coupe, 630i, E63 (LCI), 272 PS / 200 kW"},{"$f":"HYPERLINK(\"files\\4001.\"&Herstellerauswahl!$C$4,\"Auswahl / Select 4001\")","v":"Auswahl / Select 4001"}]
["0005/AKH",{"$f":"HYPERLINK(\"files\\4001.\"&Herstellerauswahl!$C$4,\"BMW 6er Coupe, 635d, E63 (LCI), 286 PS / 210 kW\")","v":"BMW 6er Coupe, 635d, E63 (LCI), 286 PS / 210 kW"},{"$f":"HYPERLINK(\"files\\4001.\"&Herstellerauswahl!$C$4,\"Auswahl / Select 4001\")","v":"Auswahl / Select 4001"}]
["0005/AGX",{"$f":"HYPERLINK(\"files\\4001.\"&Herstellerauswahl!$C$4,\"BMW 6er Coupe, 650i, E63 (LCI), 367 PS / 270 kW\")","v":"BMW 6er Coupe, 650i, E63 (LCI), 367 PS / 270 kW"},{"$f":"HYPERLINK(\"files\\4001.\"&Herstellerauswahl!$C$4,\"Auswahl / Select 4001\")","v":"Auswahl / Select 4001"}]

{"sheet":"E64 Cabrio","index":91,"n_rows":7,"n_cols":4,"rows_kept":7,"cut":false,"hidden":false,"merged":[]}
[]
[]
["TSN/HSN","Motorauswahl für E64 Cabrio","Home","Zurück / back"]
[]
["0005/812",{"$f":"HYPERLINK(\"files\\4001.\"&Herstellerauswahl!$C$4,\"BMW 6er Cabrio, 630i, E64, 258 PS / 190 kW\")","v":"BMW 6er Cabrio, 630i, E64, 258 PS / 190 kW"},{"$f":"HYPERLINK(\"files\\4001.\"&Herstellerauswahl!$C$4,\"Auswahl / Select 4001\")","v":"Auswahl / Select 4001"}]
["0005/156",{"$f":"HYPERLINK(\"files\\4001.\"&Herstellerauswahl!$C$4,\"BMW 6er Cabrio, 645Ci, E64, 333 PS / 245 kW\")","v":"BMW 6er Cabrio, 645Ci, E64, 333 PS / 245 kW"},{"$f":"HYPERLINK(\"files\\4001.\"&Herstellerauswahl!$C$4,\"Auswahl / Select 4001\")","v":"Auswahl / Select 4001"}]
["0005/862",{"$f":"HYPERLINK(\"files\\4001.\"&Herstellerauswahl!$C$4,\"BMW 6er Cabrio, 650i, E64, 367 PS / 270 kW\")","v":"BMW 6er Cabrio, 650i, E64, 367 PS / 270 kW"},{"$f":"HYPERLINK(\"files\\4001.\"&Herstellerauswahl!$C$4,\"Auswahl / Select 4001\")","v":"Auswahl / Select 4001"}]

{"sheet":"E64 M Cabrio","index":92,"n_rows":5,"n_cols":4,"rows_kept":5,"cut":false,"hidden":false,"merged":[]}
[]
[]
["TSN/HSN","Motorauswahl für E64 M Cabrio","Home","Zurück / back"]
[]
["7909/AAF/AAR",{"$f":"HYPERLINK(\"files\\4011.\"&Herstellerauswahl!$C$4,\"BMW 6er M Cabrio, M, E64, 507 PS / 373 kW\")","v":"BMW 6er M Cabrio, M, E64, 507 PS / 373 kW"},{"$f":"HYPERLINK(\"files\\4011.\"&Herstellerauswahl!$C$4,\"Auswahl / Select 4011\")","v":"Auswahl / Select 4011"}]

{"sheet":"E64 Facelift Cabrio","index":93,"n_rows":7,"n_cols":4,"rows_kept":7,"cut":false,"hidden":false,"merged":[]}
[]
[]
["TSN/HSN","Motorauswahl für E64 Facelift Cabrio","Home","Zurück / back"]
[]
["0005/AKG",{"$f":"HYPERLINK(\"files\\4001.\"&Herstellerauswahl!$C$4,\"BMW 6er Cabrio, 630i, E64 (LCI), 272 PS / 200 kW\")","v":"BMW 6er Cabrio, 630i, E64 (LCI), 272 PS / 200 kW"},{"$f":"HYPERLINK(\"files\\4001.\"&Herstellerauswahl!$C$4,\"Auswahl / Select 4001\")","v":"Auswahl / Select 4001"}]
["0005/AKI",{"$f":"HYPERLINK(\"files\\4001.\"&Herstellerauswahl!$C$4,\"BMW 6er Cabrio, 635d, E64 (LCI), 286 PS / 210 kW\")","v":"BMW 6er Cabrio, 635d, E64 (LCI), 286 PS / 210 kW"},{"$f":"HYPERLINK(\"files\\4001.\"&Herstellerauswahl!$C$4,\"Auswahl / Select 4001\")","v":"Auswahl / Select 4001"}]
["0005/AHA",{"$f":"HYPERLINK(\"files\\4001.\"&Herstellerauswahl!$C$4,\"BMW 6er Cabrio, 650i, E64 (LCI), 367 PS / 270 kW\")","v":"BMW 6er Cabrio, 650i, E64 (LCI), 367 PS / 270 kW"},{"$f":"HYPERLINK(\"files\\4001.\"&Herstellerauswahl!$C$4,\"Auswahl / Select 4001\")","v":"Auswahl / Select 4001"}]

{"sheet":"F06 Gran Coupe","index":94,"n_rows":10,"n_cols":4,"rows_kept":10,"cut":false,"hidden":false,"merged":[]}
[]
[]
["TSN/HSN","Motorauswahl für F06 Gran Coupe","Home","Zurück / back"]
[]
["0005/BIB",{"$f":"HYPERLINK(\"files\\4013.\"&Herstellerauswahl!$C$4,\"BMW 6er Gran Coupe, 640d, F06, 313 PS / 230 kW\")","v":"BMW 6er Gran Coupe, 640d, F06, 313 PS / 230 kW"},{"$f":"HYPERLINK(\"files\\4013.\"&Herstellerauswahl!$C$4,\"Auswahl / Select 4013\")","v":"Auswahl / Select 4013"}]
["0005/BOC",{"$f":"HYPERLINK(\"files\\4013.\"&Herstellerauswahl!$C$4,\"BMW 6er Gran Coupe, 640d xDrive, F06, 313 PS / 230 kW\")","v":"BMW 6er Gran Coupe, 640d xDrive, F06, 313 PS / 230 kW"},{"$f":"HYPERLINK(\"files\\4013.\"&Herstellerauswahl!$C$4,\"Auswahl / Select 4013\")","v":"Auswahl / Select 4013"}]
["0005/BIA",{"$f":"HYPERLINK(\"files\\4013.\"&Herstellerauswahl!$C$4,\"BMW 6er Gran Coupe, 640i, F06, 320 PS / 235 kW\")","v":"BMW 6er Gran Coupe, 640i, F06, 320 PS / 235 kW"},{"$f":"HYPERLINK(\"files\\4013.\"&Herstellerauswahl!$C$4,\"Auswahl / Select 4013\")","v":"Auswahl / Select 4013"}]
["0005/BNZ",{"$f":"HYPERLINK(\"files\\4013.\"&Herstellerauswahl!$C$4,\"BMW 6er Gran Coupe, 640i xDrive, F06, 320 PS / 235 kW\")","v":"BMW 6er Gran Coupe, 640i xDrive, F06, 320 PS / 235 kW"},{"$f":"HYPERLINK(\"files\\4013.\"&Herstellerauswahl!$C$4,\"Auswahl / Select 4013\")","v":"Auswahl / Select 4013"}]
["0005/BJI",{"$f":"HYPERLINK(\"files\\4019.\"&Herstellerauswahl!$C$4,\"BMW 6er Gran Coupe, 650i, F06, 449 PS / 330 kW\")","v":"BMW 6er Gran Coupe, 650i, F06, 449 PS / 330 kW"},{"$f":"HYPERLINK(\"files\\4019.\"&Herstellerauswahl!$C$4,\"Auswahl / Select 4019\")","v":"Auswahl / Select 4019"}]
["0005/BJJ",{"$f":"HYPERLINK(\"files\\4019.\"&Herstellerauswahl!$C$4,\"BMW 6er Gran Coupe, 650i xDrive, F06, 449 PS / 330 kW\")","v":"BMW 6er Gran Coupe, 650i xDrive, F06, 449 PS / 330 kW"},{"$f":"HYPERLINK(\"files\\4019.\"&Herstellerauswahl!$C$4,\"Auswahl / Select 4019\")","v":"Auswahl / Select 4019"}]

{"sheet":"F06 Facelift Gran Coupe","index":95,"n_rows":10,"n_cols":4,"rows_kept":10,"cut":false,"hidden":false,"merged":[]}
[]
[]
["TSN/HSN","Motorauswahl für F06 Facelift Gran Coupe","Home","Zurück / back"]
[]
["0005/BIB",{"$f":"HYPERLINK(\"files\\4013.\"&Herstellerauswahl!$C$4,\"BMW 6er Gran Coupe, 640d, F06 (LCI), 313 PS / 230 kW\")","v":"BMW 6er Gran Coupe, 640d, F06 (LCI), 313 PS / 230 kW"},{"$f":"HYPERLINK(\"files\\4013.\"&Herstellerauswahl!$C$4,\"Auswahl / Select 4013\")","v":"Auswahl / Select 4013"}]
["0005/BOC",{"$f":"HYPERLINK(\"files\\4013.\"&Herstellerauswahl!$C$4,\"BMW 6er Gran Coupe, 640d xDrive, F06 (LCI), 313 PS / 230 kW\")","v":"BMW 6er Gran Coupe, 640d xDrive, F06 (LCI), 313 PS / 230 kW"},{"$f":"HYPERLINK(\"files\\4013.\"&Herstellerauswahl!$C$4,\"Auswahl / Select 4013\")","v":"Auswahl / Select 4013"}]
["0005/BIA",{"$f":"HYPERLINK(\"files\\4013.\"&Herstellerauswahl!$C$4,\"BMW 6er Gran Coupe, 640i, F06 (LCI), 320 PS / 235 kW\")","v":"BMW 6er Gran Coupe, 640i, F06 (LCI), 320 PS / 235 kW"},{"$f":"HYPERLINK(\"files\\4013.\"&Herstellerauswahl!$C$4,\"Auswahl / Select 4013\")","v":"Auswahl / Select 4013"}]
["0005/BNZ",{"$f":"HYPERLINK(\"files\\4013.\"&Herstellerauswahl!$C$4,\"BMW 6er Gran Coupe, 640i xDrive, F06 (LCI), 320 PS / 235 kW\")","v":"BMW 6er Gran Coupe, 640i xDrive, F06 (LCI), 320 PS / 235 kW"},{"$f":"HYPERLINK(\"files\\4013.\"&Herstellerauswahl!$C$4,\"Auswahl / Select 4013\")","v":"Auswahl / Select 4013"}]
["0005/BJI",{"$f":"HYPERLINK(\"files\\4019.\"&Herstellerauswahl!$C$4,\"BMW 6er Gran Coupe, 650i, F06 (LCI), 449 PS / 330 kW\")","v":"BMW 6er Gran Coupe, 650i, F06 (LCI), 449 PS / 330 kW"},{"$f":"HYPERLINK(\"files\\4019.\"&Herstellerauswahl!$C$4,\"Auswahl / Select 4019\")","v":"Auswahl / Select 4019"}]
["0005/BJJ",{"$f":"HYPERLINK(\"files\\4019.\"&Herstellerauswahl!$C$4,\"BMW 6er Gran Coupe, 650i xDrive, F06 (LCI), 449 PS / 330 kW\")","v":"BMW 6er Gran Coupe, 650i xDrive, F06 (LCI), 449 PS / 330 kW"},{"$f":"HYPERLINK(\"files\\4019.\"&Herstellerauswahl!$C$4,\"Auswahl / Select 4019\")","v":"Auswahl / Select 4019"}]

{"sheet":"F06 M Gran Coupe","index":96,"n_rows":7,"n_cols":4,"rows_kept":7,"cut":false,"hidden":false,"merged":[]}
[]
[]
["TSN/HSN","Motorauswahl für F06 M Gran Coupe","Home","Zurück / back"]
[]
["7909/ABB",{"$f":"HYPERLINK(\"files\\4017.\"&Herstellerauswahl!$C$4,\"BMW 6er M Gran Coupe, M, F06, 560 PS / 412 kW\")","v":"BMW 6er M Gran Coupe, M, F06, 560 PS / 412 kW"},{"$f":"HYPERLINK(\"files\\4017.\"&Herstellerauswahl!$C$4,\"Auswahl / Select 4017\")","v":"Auswahl / Select 4017"}]
["7909/ABF",{"$f":"HYPERLINK(\"files\\4017.\"&Herstellerauswahl!$C$4,\"BMW 6er M Gran Coupe, M Competition, F06, 575 PS / 423 kW\")","v":"BMW 6er M Gran Coupe, M Competition, F06, 575 PS / 423 kW"},{"$f":"HYPERLINK(\"files\\4017.\"&Herstellerauswahl!$C$4,\"Auswahl / Select 4017\")","v":"Auswahl / Select 4017"}]
["7909/ABM",{"$f":"HYPERLINK(\"files\\4017.\"&Herstellerauswahl!$C$4,\"BMW 6er M Gran Coupe, M Competition, F06, 600 PS / 441 kW\")","v":"BMW 6er M Gran Coupe, M Competition, F06, 600 PS / 441 kW"},{"$f":"HYPERLINK(\"files\\4017.\"&Herstellerauswahl!$C$4,\"Auswahl / Select 4017\")","v":"Auswahl / Select 4017"}]

{"sheet":"F12 Cabrio","index":97,"n_rows":12,"n_cols":4,"rows_kept":12,"cut":false,"hidden":false,"merged":[]}
[]
[]
["TSN/HSN","Motorauswahl für F12 Cabrio","Home","Zurück / back"]
[]
["0005/BDD",{"$f":"HYPERLINK(\"files\\4008.\"&Herstellerauswahl!$C$4,\"BMW 6er Cabrio, 640d, F12, 313 PS / 230 kW\")","v":"BMW 6er Cabrio, 640d, F12, 313 PS / 230 kW"},{"$f":"HYPERLINK(\"files\\4008.\"&Herstellerauswahl!$C$4,\"Auswahl / Select 4008\")","v":"Auswahl / Select 4008"}]
["0005/BIC",{"$f":"HYPERLINK(\"files\\4008.\"&Herstellerauswahl!$C$4,\"BMW 6er Cabrio, 640d xDrive, F12, 313 PS / 230 kW\")","v":"BMW 6er Cabrio, 640d xDrive, F12, 313 PS / 230 kW"},{"$f":"HYPERLINK(\"files\\4008.\"&Herstellerauswahl!$C$4,\"Auswahl / Select 4008\")","v":"Auswahl / Select 4008"}]
["0005/AZJ",{"$f":"HYPERLINK(\"files\\4008.\"&Herstellerauswahl!$C$4,\"BMW 6er Cabrio, 640i, F12, 320 PS / 235 kW\")","v":"BMW 6er Cabrio, 640i, F12, 320 PS / 235 kW"},{"$f":"HYPERLINK(\"files\\4008.\"&Herstellerauswahl!$C$4,\"Auswahl / Select 4008\")","v":"Auswahl / Select 4008"}]
["0005/BOB",{"$f":"HYPERLINK(\"files\\4008.\"&Herstellerauswahl!$C$4,\"BMW 6er Cabrio, 640i xDrive, F12, 320 PS / 235 kW\")","v":"BMW 6er Cabrio, 640i xDrive, F12, 320 PS / 235 kW"},{"$f":"HYPERLINK(\"files\\4008.\"&Herstellerauswahl!$C$4,\"Auswahl / Select 4008\")","v":"Auswahl / Select 4008"}]
["0005/AZK",{"$f":"HYPERLINK(\"files\\4009.\"&Herstellerauswahl!$C$4,\"BMW 6er Cabrio, 650i, F12, 408 PS / 300 kW\")","v":"BMW 6er Cabrio, 650i, F12, 408 PS / 300 kW"},{"$f":"HYPERLINK(\"files\\4009.\"&Herstellerauswahl!$C$4,\"Auswahl / Select 4009\")","v":"Auswahl / Select 4009"}]
["0005/BJK",{"$f":"HYPERLINK(\"files\\4009.\"&Herstellerauswahl!$C$4,\"BMW 6er Cabrio, 650i, F12, 449 PS / 330 kW\")","v":"BMW 6er Cabrio, 650i, F12, 449 PS / 330 kW"},{"$f":"HYPERLINK(\"files\\4009.\"&Herstellerauswahl!$C$4,\"Auswahl / Select 4009\")","v":"Auswahl / Select 4009"}]
["0005/BDC",{"$f":"HYPERLINK(\"files\\4009.\"&Herstellerauswahl!$C$4,\"BMW 6er Cabrio, 650i xDrive, F12, 408 PS / 300 kW\")","v":"BMW 6er Cabrio, 650i xDrive, F12, 408 PS / 300 kW"},{"$f":"HYPERLINK(\"files\\4009.\"&Herstellerauswahl!$C$4,\"Auswahl / Select 4009\")","v":"Auswahl / Select 4009"}]
["0005/BJL",{"$f":"HYPERLINK(\"files\\4009.\"&Herstellerauswahl!$C$4,\"BMW 6er Cabrio, 650i xDrive, F12, 449 PS / 330 kW\")","v":"BMW 6er Cabrio, 650i xDrive, F12, 449 PS / 330 kW"},{"$f":"HYPERLINK(\"files\\4009.\"&Herstellerauswahl!$C$4,\"Auswahl / Select 4009\")","v":"Auswahl / Select 4009"}]

{"sheet":"F12 Facelift Cabrio","index":98,"n_rows":10,"n_cols":4,"rows_kept":10,"cut":false,"hidden":false,"merged":[]}
[]
[]
["TSN/HSN","Motorauswahl für F12 Facelift Cabrio","Home","Zurück / back"]
[]
["0005/BDD",{"$f":"HYPERLINK(\"files\\4009.\"&Herstellerauswahl!$C$4,\"BMW 6er Cabrio, 640d, F12 (LCI), 313 PS / 230 kW\")","v":"BMW 6er Cabrio, 640d, F12 (LCI), 313 PS / 230 kW"},{"$f":"HYPERLINK(\"files\\4009.\"&Herstellerauswahl!$C$4,\"Auswahl / Select 4009\")","v":"Auswahl / Select 4009"}]
["0005/BIC",{"$f":"HYPERLINK(\"files\\4009.\"&Herstellerauswahl!$C$4,\"BMW 6er Cabrio, 640d xDrive, F12 (LCI), 313 PS / 230 kW\")","v":"BMW 6er Cabrio, 640d xDrive, F12 (LCI), 313 PS / 230 kW"},{"$f":"HYPERLINK(\"files\\4009.\"&Herstellerauswahl!$C$4,\"Auswahl / Select 4009\")","v":"Auswahl / Select 4009"}]
["0005/AZJ",{"$f":"HYPERLINK(\"files\\4009.\"&Herstellerauswahl!$C$4,\"BMW 6er Cabrio, 640i, F12 (LCI), 320 PS / 235 kW\")","v":"BMW 6er Cabrio, 640i, F12 (LCI), 320 PS / 235 kW"},{"$f":"HYPERLINK(\"files\\4009.\"&Herstellerauswahl!$C$4,\"Auswahl / Select 4009\")","v":"Auswahl / Select 4009"}]
["0005/BOB",{"$f":"HYPERLINK(\"files\\4009.\"&Herstellerauswahl!$C$4,\"BMW 6er Cabrio, 640i xDrive, F12 (LCI), 320 PS / 235 kW\")","v":"BMW 6er Cabrio, 640i xDrive, F12 (LCI), 320 PS / 235 kW"},{"$f":"HYPERLINK(\"files\\4009.\"&Herstellerauswahl!$C$4,\"Auswahl / Select 4009\")","v":"Auswahl / Select 4009"}]
["0005/BJK",{"$f":"HYPERLINK(\"files\\4009.\"&Herstellerauswahl!$C$4,\"BMW 6er Cabrio, 650i, F12 (LCI), 449 PS / 330 kW\")","v":"BMW 6er Cabrio, 650i, F12 (LCI), 449 PS / 330 kW"},{"$f":"HYPERLINK(\"files\\4009.\"&Herstellerauswahl!$C$4,\"Auswahl / Select 4009\")","v":"Auswahl / Select 4009"}]
["0005/BJL",{"$f":"HYPERLINK(\"files\\4009.\"&Herstellerauswahl!$C$4,\"BMW 6er Cabrio, 650i xDrive, F12 (LCI), 449 PS / 330 kW\")","v":"BMW 6er Cabrio, 650i xDrive, F12 (LCI), 449 PS / 330 kW"},{"$f":"HYPERLINK(\"files\\4009.\"&Herstellerauswahl!$C$4,\"Auswahl / Select 4009\")","v":"Auswahl / Select 4009"}]

{"sheet":"F12 M Cabrio","index":99,"n_rows":7,"n_cols":4,"rows_kept":7,"cut":false,"hidden":false,"merged":[]}
[]
[]
["TSN/HSN","Motorauswahl für F12 M Cabrio","Home","Zurück / back"]
[]
["7909/AAZ",{"$f":"HYPERLINK(\"files\\4014.\"&Herstellerauswahl!$C$4,\"BMW 6er M Cabrio, M, F12, 560 PS / 412 kW\")","v":"BMW 6er M Cabrio, M, F12, 560 PS / 412 kW"},{"$f":"HYPERLINK(\"files\\4014.\"&Herstellerauswahl!$C$4,\"Auswahl / Select 4014\")","v":"Auswahl / Select 4014"}]
["7909/ABE",{"$f":"HYPERLINK(\"files\\4014.\"&Herstellerauswahl!$C$4,\"BMW 6er M Cabrio, M Competition, F12, 575 PS / 423 kW\")","v":"BMW 6er M Cabrio, M Competition, F12, 575 PS / 423 kW"},{"$f":"HYPERLINK(\"files\\4014.\"&Herstellerauswahl!$C$4,\"Auswahl / Select 4014\")","v":"Auswahl / Select 4014"}]
["7909/ABN",{"$f":"HYPERLINK(\"files\\4014.\"&Herstellerauswahl!$C$4,\"BMW 6er M Cabrio, M Competition, F12, 600 PS / 441 kW\")","v":"BMW 6er M Cabrio, M Competition, F12, 600 PS / 441 kW"},{"$f":"HYPERLINK(\"files\\4014.\"&Herstellerauswahl!$C$4,\"Auswahl / Select 4014\")","v":"Auswahl / Select 4014"}]

{"sheet":"F13 Coupe","index":100,"n_rows":12,"n_cols":4,"rows_kept":12,"cut":false,"hidden":false,"merged":[]}
[]
[]
["TSN/HSN","Motorauswahl für F13 Coupe","Home","Zurück / back"]
[]
["0005/BDB",{"$f":"HYPERLINK(\"files\\4008.\"&Herstellerauswahl!$C$4,\"BMW 6er Coupe, 640d, F13, 313 PS / 230 kW\")","v":"BMW 6er Coupe, 640d, F13, 313 PS / 230 kW"},{"$f":"HYPERLINK(\"files\\4008.\"&Herstellerauswahl!$C$4,\"Auswahl / Select 4008\")","v":"Auswahl / Select 4008"}]
["0005/BID",{"$f":"HYPERLINK(\"files\\4008.\"&Herstellerauswahl!$C$4,\"BMW 6er Coupe, 640d xDrive, F13, 313 PS / 230 kW\")","v":"BMW 6er Coupe, 640d xDrive, F13, 313 PS / 230 kW"},{"$f":"HYPERLINK(\"files\\4008.\"&Herstellerauswahl!$C$4,\"Auswahl / Select 4008\")","v":"Auswahl / Select 4008"}]
["0005/BAK",{"$f":"HYPERLINK(\"files\\4008.\"&Herstellerauswahl!$C$4,\"BMW 6er Coupe, 640i, F13, 320 PS / 235 kW\")","v":"BMW 6er Coupe, 640i, F13, 320 PS / 235 kW"},{"$f":"HYPERLINK(\"files\\4008.\"&Herstellerauswahl!$C$4,\"Auswahl / Select 4008\")","v":"Auswahl / Select 4008"}]
["0005/BOA",{"$f":"HYPERLINK(\"files\\4008.\"&Herstellerauswahl!$C$4,\"BMW 6er Coupe, 640i xDrive, F13, 320 PS / 235 kW\")","v":"BMW 6er Coupe, 640i xDrive, F13, 320 PS / 235 kW"},{"$f":"HYPERLINK(\"files\\4008.\"&Herstellerauswahl!$C$4,\"Auswahl / Select 4008\")","v":"Auswahl / Select 4008"}]
["0005/BAL",{"$f":"HYPERLINK(\"files\\4009.\"&Herstellerauswahl!$C$4,\"BMW 6er Coupe, 650i, F13, 408 PS / 300 kW\")","v":"BMW 6er Coupe, 650i, F13, 408 PS / 300 kW"},{"$f":"HYPERLINK(\"files\\4009.\"&Herstellerauswahl!$C$4,\"Auswahl / Select 4009\")","v":"Auswahl / Select 4009"}]
["0005/BJM",{"$f":"HYPERLINK(\"files\\4009.\"&Herstellerauswahl!$C$4,\"BMW 6er Coupe, 650i, F13, 449 PS / 330 kW\")","v":"BMW 6er Coupe, 650i, F13, 449 PS / 330 kW"},{"$f":"HYPERLINK(\"files\\4009.\"&Herstellerauswahl!$C$4,\"Auswahl / Select 4009\")","v":"Auswahl / Select 4009"}]
["0005/BDA",{"$f":"HYPERLINK(\"files\\4009.\"&Herstellerauswahl!$C$4,\"BMW 6er Coupe, 650i xDrive, F13, 408 PS / 300 kW\")","v":"BMW 6er Coupe, 650i xDrive, F13, 408 PS / 300 kW"},{"$f":"HYPERLINK(\"files\\4009.\"&Herstellerauswahl!$C$4,\"Auswahl / Select 4009\")","v":"Auswahl / Select 4009"}]
["0005/BJN",{"$f":"HYPERLINK(\"files\\4009.\"&Herstellerauswahl!$C$4,\"BMW 6er Coupe, 650i xDrive, F13, 449 PS / 330 kW\")","v":"BMW 6er Coupe, 650i xDrive, F13, 449 PS / 330 kW"},{"$f":"HYPERLINK(\"files\\4009.\"&Herstellerauswahl!$C$4,\"Auswahl / Select 4009\")","v":"Auswahl / Select 4009"}]

{"sheet":"F13 Facelift Coupe","index":101,"n_rows":10,"n_cols":4,"rows_kept":10,"cut":false,"hidden":false,"merged":[]}
[]
[]
["TSN/HSN","Motorauswahl für F13 Facelift Coupe","Home","Zurück / back"]
[]
["0005/BDB",{"$f":"HYPERLINK(\"files\\4009.\"&Herstellerauswahl!$C$4,\"BMW 6er Coupe, 640d, F13 (LCI), 313 PS / 230 kW\")","v":"BMW 6er Coupe, 640d, F13 (LCI), 313 PS / 230 kW"},{"$f":"HYPERLINK(\"files\\4009.\"&Herstellerauswahl!$C$4,\"Auswahl / Select 4009\")","v":"Auswahl / Select 4009"}]
["0005/BID",{"$f":"HYPERLINK(\"files\\4009.\"&Herstellerauswahl!$C$4,\"BMW 6er Coupe, 640d xDrive, F13 (LCI), 313 PS / 230 kW\")","v":"BMW 6er Coupe, 640d xDrive, F13 (LCI), 313 PS / 230 kW"},{"$f":"HYPERLINK(\"files\\4009.\"&Herstellerauswahl!$C$4,\"Auswahl / Select 4009\")","v":"Auswahl / Select 4009"}]
["0005/BAK",{"$f":"HYPERLINK(\"files\\4009.\"&Herstellerauswahl!$C$4,\"BMW 6er Coupe, 640i, F13 (LCI), 320 PS / 235 kW\")","v":"BMW 6er Coupe, 640i, F13 (LCI), 320 PS / 235 kW"},{"$f":"HYPERLINK(\"files\\4009.\"&Herstellerauswahl!$C$4,\"Auswahl / Select 4009\")","v":"Auswahl / Select 4009"}]
["0005/BOA",{"$f":"HYPERLINK(\"files\\4009.\"&Herstellerauswahl!$C$4,\"BMW 6er Coupe, 640i xDrive, F13 (LCI), 320 PS / 235 kW\")","v":"BMW 6er Coupe, 640i xDrive, F13 (LCI), 320 PS / 235 kW"},{"$f":"HYPERLINK(\"files\\4009.\"&Herstellerauswahl!$C$4,\"Auswahl / Select 4009\")","v":"Auswahl / Select 4009"}]
["0005/BJM",{"$f":"HYPERLINK(\"files\\4009.\"&Herstellerauswahl!$C$4,\"BMW 6er Coupe, 650i, F13 (LCI), 449 PS / 330 kW\")","v":"BMW 6er Coupe, 650i, F13 (LCI), 449 PS / 330 kW"},{"$f":"HYPERLINK(\"files\\4009.\"&Herstellerauswahl!$C$4,\"Auswahl / Select 4009\")","v":"Auswahl / Select 4009"}]
["0005/BJN",{"$f":"HYPERLINK(\"files\\4009.\"&Herstellerauswahl!$C$4,\"BMW 6er Coupe, 650i xDrive, F13 (LCI), 449 PS / 330 kW\")","v":"BMW 6er Coupe, 650i xDrive, F13 (LCI), 449 PS / 330 kW"},{"$f":"HYPERLINK(\"files\\4009.\"&Herstellerauswahl!$C$4,\"Auswahl / Select 4009\")","v":"Auswahl / Select 4009"}]

{"sheet":"F13 M Coupe","index":102,"n_rows":7,"n_cols":4,"rows_kept":7,"cut":false,"hidden":false,"merged":[]}
[]
[]
["TSN/HSN","Motorauswahl für F13 M Coupe","Home","Zurück / back"]
[]
["7909/ABB",{"$f":"HYPERLINK(\"files\\4014.\"&Herstellerauswahl!$C$4,\"BMW 6er M Coupe, M, F13, 560 PS / 412 kW\")","v":"BMW 6er M Coupe, M, F13, 560 PS / 412 kW"},{"$f":"HYPERLINK(\"files\\4014.\"&Herstellerauswahl!$C$4,\"Auswahl / Select 4014\")","v":"Auswahl / Select 4014"}]
["7909/ABF",{"$f":"HYPERLINK(\"files\\4014.\"&Herstellerauswahl!$C$4,\"BMW 6er M Coupe, M Competition, F13, 575 PS / 423 kW\")","v":"BMW 6er M Coupe, M Competition, F13, 575 PS / 423 kW"},{"$f":"HYPERLINK(\"files\\4014.\"&Herstellerauswahl!$C$4,\"Auswahl / Select 4014\")","v":"Auswahl / Select 4014"}]
["7909/ABM",{"$f":"HYPERLINK(\"files\\4014.\"&Herstellerauswahl!$C$4,\"BMW 6er M Coupe, M Competition, F13, 600 PS / 441 kW\")","v":"BMW 6er M Coupe, M Competition, F13, 600 PS / 441 kW"},{"$f":"HYPERLINK(\"files\\4014.\"&Herstellerauswahl!$C$4,\"Auswahl / Select 4014\")","v":"Auswahl / Select 4014"}]

{"sheet":"G32 Gran Turismo","index":103,"n_rows":20,"n_cols":4,"rows_kept":20,"cut":false,"hidden":false,"merged":[]}
[]
[]
["TSN/HSN","Motorauswahl für G32 Gran Turismo","Home","Zurück / back"]
[]
["0005/CSU",{"$f":"HYPERLINK(\"files\\6006.\"&Herstellerauswahl!$C$4,\"BMW 6er Gran Turismo, 620d, G32, 190 PS / 140 kW\")","v":"BMW 6er Gran Turismo, 620d, G32, 190 PS / 140 kW"},{"$f":"HYPERLINK(\"files\\6006.\"&Herstellerauswahl!$C$4,\"Auswahl / Select 6006\")","v":"Auswahl / Select 6006"}]
["0005/CSW",{"$f":"HYPERLINK(\"files\\6006.\"&Herstellerauswahl!$C$4,\"BMW 6er Gran Turismo, 620d, G32, 163 PS / 120 kW\")","v":"BMW 6er Gran Turismo, 620d, G32, 163 PS / 120 kW"},{"$f":"HYPERLINK(\"files\\6006.\"&Herstellerauswahl!$C$4,\"Auswahl / Select 6006\")","v":"Auswahl / Select 6006"}]
["0005/CSV",{"$f":"HYPERLINK(\"files\\6006.\"&Herstellerauswahl!$C$4,\"BMW 6er Gran Turismo, 620d xDrive, G32, 190 PS / 140 kW\")","v":"BMW 6er Gran Turismo, 620d xDrive, G32, 190 PS / 140 kW"},{"$f":"HYPERLINK(\"files\\6006.\"&Herstellerauswahl!$C$4,\"Auswahl / Select 6006\")","v":"Auswahl / Select 6006"}]
["0005/CSX",{"$f":"HYPERLINK(\"files\\6006.\"&Herstellerauswahl!$C$4,\"BMW 6er Gran Turismo, 620d xDrive, G32, 163 PS / 120 kW\")","v":"BMW 6er Gran Turismo, 620d xDrive, G32, 163 PS / 120 kW"},{"$f":"HYPERLINK(\"files\\6006.\"&Herstellerauswahl!$C$4,\"Auswahl / Select 6006\")","v":"Auswahl / Select 6006"}]
["0005/CPY",{"$f":"HYPERLINK(\"files\\6006.\"&Herstellerauswahl!$C$4,\"BMW 6er Gran Turismo, 630d, G32, 211 PS / 155 kW\")","v":"BMW 6er Gran Turismo, 630d, G32, 211 PS / 155 kW"},{"$f":"HYPERLINK(\"files\\6006.\"&Herstellerauswahl!$C$4,\"Auswahl / Select 6006\")","v":"Auswahl / Select 6006"}]
["0005/CPZ",{"$f":"HYPERLINK(\"files\\6006.\"&Herstellerauswahl!$C$4,\"BMW 6er Gran Turismo, 630d, G32, 249 PS / 183 kW\")","v":"BMW 6er Gran Turismo, 630d, G32, 249 PS / 183 kW"},{"$f":"HYPERLINK(\"files\\6006.\"&Herstellerauswahl!$C$4,\"Auswahl / Select 6006\")","v":"Auswahl / Select 6006"}]
["0005/CQA",{"$f":"HYPERLINK(\"files\\6006.\"&Herstellerauswahl!$C$4,\"BMW 6er Gran Turismo, 630d, G32, 265 PS / 195 kW\")","v":"BMW 6er Gran Turismo, 630d, G32, 265 PS / 195 kW"},{"$f":"HYPERLINK(\"files\\6006.\"&Herstellerauswahl!$C$4,\"Auswahl / Select 6006\")","v":"Auswahl / Select 6006"}]
["0005/CQB",{"$f":"HYPERLINK(\"files\\6006.\"&Herstellerauswahl!$C$4,\"BMW 6er Gran Turismo, 630d xDrive, G32, 211 PS / 155 kW\")","v":"BMW 6er Gran Turismo, 630d xDrive, G32, 211 PS / 155 kW"},{"$f":"HYPERLINK(\"files\\6006.\"&Herstellerauswahl!$C$4,\"Auswahl / Select 6006\")","v":"Auswahl / Select 6006"}]
["0005/CQC",{"$f":"HYPERLINK(\"files\\6006.\"&Herstellerauswahl!$C$4,\"BMW 6er Gran Turismo, 630d xDrive, G32, 249 PS / 183 kW\")","v":"BMW 6er Gran Turismo, 630d xDrive, G32, 249 PS / 183 kW"},{"$f":"HYPERLINK(\"files\\6006.\"&Herstellerauswahl!$C$4,\"Auswahl / Select 6006\")","v":"Auswahl / Select 6006"}]
["0005/CQD",{"$f":"HYPERLINK(\"files\\6006.\"&Herstellerauswahl!$C$4,\"BMW 6er Gran Turismo, 630d xDrive, G32, 265 PS / 195 kW\")","v":"BMW 6er Gran Turismo, 630d xDrive, G32, 265 PS / 195 kW"},{"$f":"HYPERLINK(\"files\\6006.\"&Herstellerauswahl!$C$4,\"Auswahl / Select 6006\")","v":"Auswahl / Select 6006"}]
["0005/CPV",{"$f":"HYPERLINK(\"files\\6006.\"&Herstellerauswahl!$C$4,\"BMW 6er Gran Turismo, 630i, G32, 258 PS / 190 kW\")","v":"BMW 6er Gran Turismo, 630i, G32, 258 PS / 190 kW"},{"$f":"HYPERLINK(\"files\\6006.\"&Herstellerauswahl!$C$4,\"Auswahl / Select 6006\")","v":"Auswahl / Select 6006"}]
["0005/CRT",{"$f":"HYPERLINK(\"files\\6006.\"&Herstellerauswahl!$C$4,\"BMW 6er Gran Turismo, 640d xDrive, G32, 320 PS / 235 kW\")","v":"BMW 6er Gran Turismo, 640d xDrive, G32, 320 PS / 235 kW"},{"$f":"HYPERLINK(\"files\\6006.\"&Herstellerauswahl!$C$4,\"Auswahl / Select 6006\")","v":"Auswahl / Select 6006"}]
["0005/CPW",{"$f":"HYPERLINK(\"files\\6006.\"&Herstellerauswahl!$C$4,\"BMW 6er Gran Turismo, 640i, G32, 340 PS / 250 kW\")","v":"BMW 6er Gran Turismo, 640i, G32, 340 PS / 250 kW"},{"$f":"HYPERLINK(\"files\\6006.\"&Herstellerauswahl!$C$4,\"Auswahl / Select 6006\")","v":"Auswahl / Select 6006"}]
["0005/CQT",{"$f":"HYPERLINK(\"files\\6006.\"&Herstellerauswahl!$C$4,\"BMW 6er Gran Turismo, 640i, G32, 360 PS / 265 kW\")","v":"BMW 6er Gran Turismo, 640i, G32, 360 PS / 265 kW"},{"$f":"HYPERLINK(\"files\\6006.\"&Herstellerauswahl!$C$4,\"Auswahl / Select 6006\")","v":"Auswahl / Select 6006"}]
["0005/CPX",{"$f":"HYPERLINK(\"files\\6006.\"&Herstellerauswahl!$C$4,\"BMW 6er Gran Turismo, 640i xDrive, G32, 340 PS / 250 kW\")","v":"BMW 6er Gran Turismo, 640i xDrive, G32, 340 PS / 250 kW"},{"$f":"HYPERLINK(\"files\\6006.\"&Herstellerauswahl!$C$4,\"Auswahl / Select 6006\")","v":"Auswahl / Select 6006"}]
["0005/CQU",{"$f":"HYPERLINK(\"files\\6006.\"&Herstellerauswahl!$C$4,\"BMW 6er Gran Turismo, 640i xDrive, G32, 360 PS / 265 kW\")","v":"BMW 6er Gran Turismo, 640i xDrive, G32, 360 PS / 265 kW"},{"$f":"HYPERLINK(\"files\\6006.\"&Herstellerauswahl!$C$4,\"Auswahl / Select 6006\")","v":"Auswahl / Select 6006"}]

{"sheet":"G32 Facelift Gran Turismo","index":104,"n_rows":14,"n_cols":4,"rows_kept":14,"cut":false,"hidden":false,"merged":[]}
[]
[]
["TSN/HSN","Motorauswahl für G32 Facelift Gran Turismo","Home","Zurück / back"]
[]
["0005/DBS",{"$f":"HYPERLINK(\"files\\6006.\"&Herstellerauswahl!$C$4,\"BMW 6er Gran Turismo, 620d MHy, G32 (LCI), 163 PS / 120 kW\")","v":"BMW 6er Gran Turismo, 620d MHy, G32 (LCI), 163 PS / 120 kW"},{"$f":"HYPERLINK(\"files\\6006.\"&Herstellerauswahl!$C$4,\"Auswahl / Select 6006\")","v":"Auswahl / Select 6006"}]
["0005/DBT",{"$f":"HYPERLINK(\"files\\6006.\"&Herstellerauswahl!$C$4,\"BMW 6er Gran Turismo, 620d MHy, G32 (LCI), 190 PS / 140 kW\")","v":"BMW 6er Gran Turismo, 620d MHy, G32 (LCI), 190 PS / 140 kW"},{"$f":"HYPERLINK(\"files\\6006.\"&Herstellerauswahl!$C$4,\"Auswahl / Select 6006\")","v":"Auswahl / Select 6006"}]
["0005/DBU",{"$f":"HYPERLINK(\"files\\6006.\"&Herstellerauswahl!$C$4,\"BMW 6er Gran Turismo, 620d MHy xDrive, G32 (LCI), 190 PS / 140 kW\")","v":"BMW 6er Gran Turismo, 620d MHy xDrive, G32 (LCI), 190 PS / 140 kW"},{"$f":"HYPERLINK(\"files\\6006.\"&Herstellerauswahl!$C$4,\"Auswahl / Select 6006\")","v":"Auswahl / Select 6006"}]
["0005/DBW",{"$f":"HYPERLINK(\"files\\6006.\"&Herstellerauswahl!$C$4,\"BMW 6er Gran Turismo, 630d MHy, G32 (LCI), 286 PS / 210 kW\")","v":"BMW 6er Gran Turismo, 630d MHy, G32 (LCI), 286 PS / 210 kW"},{"$f":"HYPERLINK(\"files\\6006.\"&Herstellerauswahl!$C$4,\"Auswahl / Select 6006\")","v":"Auswahl / Select 6006"}]
["0005/DBV",{"$f":"HYPERLINK(\"files\\6006.\"&Herstellerauswahl!$C$4,\"BMW 6er Gran Turismo, 630d MHy, G32 (LCI), 211 PS / 155 kW\")","v":"BMW 6er Gran Turismo, 630d MHy, G32 (LCI), 211 PS / 155 kW"},{"$f":"HYPERLINK(\"files\\6006.\"&Herstellerauswahl!$C$4,\"Auswahl / Select 6006\")","v":"Auswahl / Select 6006"}]
["0005/DBY",{"$f":"HYPERLINK(\"files\\6006.\"&Herstellerauswahl!$C$4,\"BMW 6er Gran Turismo, 630d MHy xDrive, G32 (LCI), 286 PS / 210 kW\")","v":"BMW 6er Gran Turismo, 630d MHy xDrive, G32 (LCI), 286 PS / 210 kW"},{"$f":"HYPERLINK(\"files\\6006.\"&Herstellerauswahl!$C$4,\"Auswahl / Select 6006\")","v":"Auswahl / Select 6006"}]
["0005/DDD",{"$f":"HYPERLINK(\"files\\6006.\"&Herstellerauswahl!$C$4,\"BMW 6er Gran Turismo, 630i MHy, G32 (LCI), 258 PS / 190 kW\")","v":"BMW 6er Gran Turismo, 630i MHy, G32 (LCI), 258 PS / 190 kW"},{"$f":"HYPERLINK(\"files\\6006.\"&Herstellerauswahl!$C$4,\"Auswahl / Select 6006\")","v":"Auswahl / Select 6006"}]
["0005/DBZ",{"$f":"HYPERLINK(\"files\\6006.\"&Herstellerauswahl!$C$4,\"BMW 6er Gran Turismo, 640d MHy xDrive, G32 (LCI), 340 PS / 250 kW\")","v":"BMW 6er Gran Turismo, 640d MHy xDrive, G32 (LCI), 340 PS / 250 kW"},{"$f":"HYPERLINK(\"files\\6006.\"&Herstellerauswahl!$C$4,\"Auswahl / Select 6006\")","v":"Auswahl / Select 6006"}]
["0005/DCA",{"$f":"HYPERLINK(\"files\\6006.\"&Herstellerauswahl!$C$4,\"BMW 6er Gran Turismo, 640i MHy, G32 (LCI), 333 PS / 245 kW\")","v":"BMW 6er Gran Turismo, 640i MHy, G32 (LCI), 333 PS / 245 kW"},{"$f":"HYPERLINK(\"files\\6006.\"&Herstellerauswahl!$C$4,\"Auswahl / Select 6006\")","v":"Auswahl / Select 6006"}]
["0005/DCB",{"$f":"HYPERLINK(\"files\\6006.\"&Herstellerauswahl!$C$4,\"BMW 6er Gran Turismo, 640i MHy xDrive, G32 (LCI), 333 PS / 245 kW\")","v":"BMW 6er Gran Turismo, 640i MHy xDrive, G32 (LCI), 333 PS / 245 kW"},{"$f":"HYPERLINK(\"files\\6006.\"&Herstellerauswahl!$C$4,\"Auswahl / Select 6006\")","v":"Auswahl / Select 6006"}]

{"sheet":"BMW 7er","index":105,"n_rows":16,"n_cols":4,"rows_kept":16,"cut":false,"hidden":false,"merged":[]}
[]
[]
[null,"Typauswahl für BMW 7er","Home","Zurück / back"]
[]
[null,"E65 Limousine","Auswahl / Select"]
[null,"E65 Facelift Limousine","Auswahl / Select"]
[null,"E66 Limousine","Auswahl / Select"]
[null,"E66 Facelift Limousine","Auswahl / Select"]
[null,"F01 Limousine","Auswahl / Select"]
[null,"F01 Facelift Limousine","Auswahl / Select"]
[null,"F02 Limousine","Auswahl / Select"]
[null,"F02 Facelift Limousine","Auswahl / Select"]
[null,"G11 Limousine","Auswahl / Select"]
[null,"G11 Facelift Limousine","Auswahl / Select"]
[null,"G12 Limousine","Auswahl / Select"]
[null,"G12 Facelift Limousine","Auswahl / Select"]

{"sheet":"E65 Limousine","index":106,"n_rows":10,"n_cols":4,"rows_kept":10,"cut":false,"hidden":false,"merged":[]}
[]
[]
["TSN/HSN","Motorauswahl für E65 Limousine","Home","Zurück / back"]
[]
["0005/750",{"$f":"HYPERLINK(\"files\\5001.\"&Herstellerauswahl!$C$4,\"BMW 7er Limousine, 730i, E65, 231 PS / 170 kW\")","v":"BMW 7er Limousine, 730i, E65, 231 PS / 170 kW"},{"$f":"HYPERLINK(\"files\\5001.\"&Herstellerauswahl!$C$4,\"Auswahl / Select 5001\")","v":"Auswahl / Select 5001"}]
["0005/746",{"$f":"HYPERLINK(\"files\\5001.\"&Herstellerauswahl!$C$4,\"BMW 7er Limousine, 730d, E65, 218 PS / 160 kW\")","v":"BMW 7er Limousine, 730d, E65, 218 PS / 160 kW"},{"$f":"HYPERLINK(\"files\\5001.\"&Herstellerauswahl!$C$4,\"Auswahl / Select 5001\")","v":"Auswahl / Select 5001"}]
["0005/723",{"$f":"HYPERLINK(\"files\\5001.\"&Herstellerauswahl!$C$4,\"BMW 7er Limousine, 735i, E65, 272 PS / 200 kW\")","v":"BMW 7er Limousine, 735i, E65, 272 PS / 200 kW"},{"$f":"HYPERLINK(\"files\\5001.\"&Herstellerauswahl!$C$4,\"Auswahl / Select 5001\")","v":"Auswahl / Select 5001"}]
["0005/747",{"$f":"HYPERLINK(\"files\\5001.\"&Herstellerauswahl!$C$4,\"BMW 7er Limousine, 740d, E65, 258 PS / 190 kW\")","v":"BMW 7er Limousine, 740d, E65, 258 PS / 190 kW"},{"$f":"HYPERLINK(\"files\\5001.\"&Herstellerauswahl!$C$4,\"Auswahl / Select 5001\")","v":"Auswahl / Select 5001"}]
["0005/724",{"$f":"HYPERLINK(\"files\\5001.\"&Herstellerauswahl!$C$4,\"BMW 7er Limousine, 745i, E65, 333 PS / 245 kW\")","v":"BMW 7er Limousine, 745i, E65, 333 PS / 245 kW"},{"$f":"HYPERLINK(\"files\\5001.\"&Herstellerauswahl!$C$4,\"Auswahl / Select 5001\")","v":"Auswahl / Select 5001"}]
["0005/751",{"$f":"HYPERLINK(\"files\\5001.\"&Herstellerauswahl!$C$4,\"BMW 7er Limousine, 760i, E65, 445 PS / 327 kW\")","v":"BMW 7er Limousine, 760i, E65, 445 PS / 327 kW"},{"$f":"HYPERLINK(\"files\\5001.\"&Herstellerauswahl!$C$4,\"Auswahl / Select 5001\")","v":"Auswahl / Select 5001"}]

{"sheet":"E65 Facelift Limousine","index":107,"n_rows":11,"n_cols":4,"rows_kept":11,"cut":false,"hidden":false,"merged":[]}
[]
[]
["TSN/HSN","Motorauswahl für E65Facelift Limousine","Home","Zurück / back"]
[]
["0005/825/ACM",{"$f":"HYPERLINK(\"files\\5001.\"&Herstellerauswahl!$C$4,\"BMW 7er Limousine, 730i, E65 (LCI), 258 PS / 190 kW\")","v":"BMW 7er Limousine, 730i, E65 (LCI), 258 PS / 190 kW"},{"$f":"HYPERLINK(\"files\\5001.\"&Herstellerauswahl!$C$4,\"Auswahl / Select 5001\")","v":"Auswahl / Select 5001"}]
["0005/824/ACK",{"$f":"HYPERLINK(\"files\\5001.\"&Herstellerauswahl!$C$4,\"BMW 7er Limousine, 730d, E65 (LCI), 231 PS / 170 kW\")","v":"BMW 7er Limousine, 730d, E65 (LCI), 231 PS / 170 kW"},{"$f":"HYPERLINK(\"files\\5001.\"&Herstellerauswahl!$C$4,\"Auswahl / Select 5001\")","v":"Auswahl / Select 5001"}]
["0005/827/ACL",{"$f":"HYPERLINK(\"files\\5001.\"&Herstellerauswahl!$C$4,\"BMW 7er Limousine, 740i, E65 (LCI), 306 PS / 225 kW\")","v":"BMW 7er Limousine, 740i, E65 (LCI), 306 PS / 225 kW"},{"$f":"HYPERLINK(\"files\\5001.\"&Herstellerauswahl!$C$4,\"Auswahl / Select 5001\")","v":"Auswahl / Select 5001"}]
["0005/826",{"$f":"HYPERLINK(\"files\\5001.\"&Herstellerauswahl!$C$4,\"BMW 7er Limousine, 745d, E65 (LCI), 299 PS / 220 kW\")","v":"BMW 7er Limousine, 745d, E65 (LCI), 299 PS / 220 kW"},{"$f":"HYPERLINK(\"files\\5001.\"&Herstellerauswahl!$C$4,\"Auswahl / Select 5001\")","v":"Auswahl / Select 5001"}]
["0005/886/ACJ",{"$f":"HYPERLINK(\"files\\5001.\"&Herstellerauswahl!$C$4,\"BMW 7er Limousine, 745d, E65 (LCI), 329 PS / 242 kW\")","v":"BMW 7er Limousine, 745d, E65 (LCI), 329 PS / 242 kW"},{"$f":"HYPERLINK(\"files\\5001.\"&Herstellerauswahl!$C$4,\"Auswahl / Select 5001\")","v":"Auswahl / Select 5001"}]
["0005/828/ACG",{"$f":"HYPERLINK(\"files\\5001.\"&Herstellerauswahl!$C$4,\"BMW 7er Limousine, 750i, E65 (LCI), 367 PS / 270 kW\")","v":"BMW 7er Limousine, 750i, E65 (LCI), 367 PS / 270 kW"},{"$f":"HYPERLINK(\"files\\5001.\"&Herstellerauswahl!$C$4,\"Auswahl / Select 5001\")","v":"Auswahl / Select 5001"}]
["0005/751/ACH",{"$f":"HYPERLINK(\"files\\5001.\"&Herstellerauswahl!$C$4,\"BMW 7er Limousine, 760i, E65 (LCI), 445 PS / 327 kW\")","v":"BMW 7er Limousine, 760i, E65 (LCI), 445 PS / 327 kW"},{"$f":"HYPERLINK(\"files\\5001.\"&Herstellerauswahl!$C$4,\"Auswahl / Select 5001\")","v":"Auswahl / Select 5001"}]

{"sheet":"E66 Limousine","index":108,"n_rows":7,"n_cols":4,"rows_kept":7,"cut":false,"hidden":false,"merged":[]}
[]
[]
["TSN/HSN","Motorauswahl für E66 Limousine","Home","Zurück / back"]
[]
["0005/750",{"$f":"HYPERLINK(\"files\\5001.\"&Herstellerauswahl!$C$4,\"BMW 7er Limousine, 730i, E66, 231 PS / 170 kW\")","v":"BMW 7er Limousine, 730i, E66, 231 PS / 170 kW"},{"$f":"HYPERLINK(\"files\\5001.\"&Herstellerauswahl!$C$4,\"Auswahl / Select 5001\")","v":"Auswahl / Select 5001"}]
["0005/723",{"$f":"HYPERLINK(\"files\\5001.\"&Herstellerauswahl!$C$4,\"BMW 7er Limousine, 735i, E66, 272 PS / 200 kW\")","v":"BMW 7er Limousine, 735i, E66, 272 PS / 200 kW"},{"$f":"HYPERLINK(\"files\\5001.\"&Herstellerauswahl!$C$4,\"Auswahl / Select 5001\")","v":"Auswahl / Select 5001"}]
["0005/724",{"$f":"HYPERLINK(\"files\\5001.\"&Herstellerauswahl!$C$4,\"BMW 7er Limousine, 745i, E66, 333 PS / 245 kW\")","v":"BMW 7er Limousine, 745i, E66, 333 PS / 245 kW"},{"$f":"HYPERLINK(\"files\\5001.\"&Herstellerauswahl!$C$4,\"Auswahl / Select 5001\")","v":"Auswahl / Select 5001"}]

{"sheet":"E66 Facelift Limousine","index":109,"n_rows":11,"n_cols":4,"rows_kept":11,"cut":false,"hidden":false,"merged":[]}
[]
[]
["TSN/HSN","Motorauswahl für E66Facelift Limousine","Home","Zurück / back"]
[]
["0005/ASU",{"$f":"HYPERLINK(\"files\\5001.\"&Herstellerauswahl!$C$4,\"BMW 7er Limousine, 730d, E66 (LCI), 211 PS / 155 kW\")","v":"BMW 7er Limousine, 730d, E66 (LCI), 211 PS / 155 kW"},{"$f":"HYPERLINK(\"files\\5001.\"&Herstellerauswahl!$C$4,\"Auswahl / Select 5001\")","v":"Auswahl / Select 5001"}]
["",{"$f":"HYPERLINK(\"files\\5001.\"&Herstellerauswahl!$C$4,\"BMW 7er Limousine, 730d, E66 (LCI), 231 PS / 170 kW\")","v":"BMW 7er Limousine, 730d, E66 (LCI), 231 PS / 170 kW"},{"$f":"HYPERLINK(\"files\\5001.\"&Herstellerauswahl!$C$4,\"Auswahl / Select 5001\")","v":"Auswahl / Select 5001"}]
["0005/APM",{"$f":"HYPERLINK(\"files\\5001.\"&Herstellerauswahl!$C$4,\"BMW 7er Limousine, 730i, E66 (LCI), 258 PS / 190 kW\")","v":"BMW 7er Limousine, 730i, E66 (LCI), 258 PS / 190 kW"},{"$f":"HYPERLINK(\"files\\5001.\"&Herstellerauswahl!$C$4,\"Auswahl / Select 5001\")","v":"Auswahl / Select 5001"}]
["0005/827/ACL",{"$f":"HYPERLINK(\"files\\5001.\"&Herstellerauswahl!$C$4,\"BMW 7er Limousine, 740i, E66 (LCI), 306 PS / 225 kW\")","v":"BMW 7er Limousine, 740i, E66 (LCI), 306 PS / 225 kW"},{"$f":"HYPERLINK(\"files\\5001.\"&Herstellerauswahl!$C$4,\"Auswahl / Select 5001\")","v":"Auswahl / Select 5001"}]
["0005/781",{"$f":"HYPERLINK(\"files\\5001.\"&Herstellerauswahl!$C$4,\"BMW 7er Limousine, 745i, E66 (LCI), 333 PS / 245 kW\")","v":"BMW 7er Limousine, 745i, E66 (LCI), 333 PS / 245 kW"},{"$f":"HYPERLINK(\"files\\5001.\"&Herstellerauswahl!$C$4,\"Auswahl / Select 5001\")","v":"Auswahl / Select 5001"}]
["0005/828/ACG",{"$f":"HYPERLINK(\"files\\5001.\"&Herstellerauswahl!$C$4,\"BMW 7er Limousine, 750i, E66 (LCI), 367 PS / 270 kW\")","v":"BMW 7er Limousine, 750i, E66 (LCI), 367 PS / 270 kW"},{"$f":"HYPERLINK(\"files\\5001.\"&Herstellerauswahl!$C$4,\"Auswahl / Select 5001\")","v":"Auswahl / Select 5001"}]
["0005/751/ACH",{"$f":"HYPERLINK(\"files\\5001.\"&Herstellerauswahl!$C$4,\"BMW 7er Limousine, 760i, E66 (LCI), 445 PS / 327 kW\")","v":"BMW 7er Limousine, 760i, E66 (LCI), 445 PS / 327 kW"},{"$f":"HYPERLINK(\"files\\5001.\"&Herstellerauswahl!$C$4,\"Auswahl / Select 5001\")","v":"Auswahl / Select 5001"}]

{"sheet":"F01 Limousine","index":110,"n_rows":9,"n_cols":4,"rows_kept":9,"cut":false,"hidden":false,"merged":[]}
[]
[]
["TSN/HSN","Motorauswahl für F01 Limousine","Home","Zurück / back"]
[]
["0005/ANO/ASR",{"$f":"HYPERLINK(\"files\\5004.\"&Herstellerauswahl!$C$4,\"BMW 7er Limousine, 730d, F01, 245 PS / 180 kW\")","v":"BMW 7er Limousine, 730d, F01, 245 PS / 180 kW"},{"$f":"HYPERLINK(\"files\\5004.\"&Herstellerauswahl!$C$4,\"Auswahl / Select 5004\")","v":"Auswahl / Select 5004"}]
["0005/APN",{"$f":"HYPERLINK(\"files\\5004.\"&Herstellerauswahl!$C$4,\"BMW 7er Limousine, 740d, F01, 306 PS / 225 kW\")","v":"BMW 7er Limousine, 740d, F01, 306 PS / 225 kW"},{"$f":"HYPERLINK(\"files\\5004.\"&Herstellerauswahl!$C$4,\"Auswahl / Select 5004\")","v":"Auswahl / Select 5004"}]
["0005/APM",{"$f":"HYPERLINK(\"files\\5004.\"&Herstellerauswahl!$C$4,\"BMW 7er Limousine, 730i, F01, 258 PS / 190 kW\")","v":"BMW 7er Limousine, 730i, F01, 258 PS / 190 kW"},{"$f":"HYPERLINK(\"files\\5004.\"&Herstellerauswahl!$C$4,\"Auswahl / Select 5004\")","v":"Auswahl / Select 5004"}]
["0005/ANP/AST",{"$f":"HYPERLINK(\"files\\5004.\"&Herstellerauswahl!$C$4,\"BMW 7er Limousine, 740i, F01, 326 PS / 240 kW\")","v":"BMW 7er Limousine, 740i, F01, 326 PS / 240 kW"},{"$f":"HYPERLINK(\"files\\5004.\"&Herstellerauswahl!$C$4,\"Auswahl / Select 5004\")","v":"Auswahl / Select 5004"}]
["0005/APK",{"$f":"HYPERLINK(\"files\\5007.\"&Herstellerauswahl!$C$4,\"BMW 7er Limousine, 760i, F01, 544 PS / 400 kW\")","v":"BMW 7er Limousine, 760i, F01, 544 PS / 400 kW"},{"$f":"HYPERLINK(\"files\\5007.\"&Herstellerauswahl!$C$4,\"Auswahl / Select 5007\")","v":"Auswahl / Select 5007"}]

{"sheet":"F01 Facelift Limousine","index":111,"n_rows":14,"n_cols":4,"rows_kept":14,"cut":false,"hidden":false,"merged":[]}
[]
[]
["TSN/HSN","Motorauswahl für F01 Facelift Limousine","Home","Zurück / back"]
[]
["0005/BJD",{"$f":"HYPERLINK(\"files\\5004.\"&Herstellerauswahl!$C$4,\"BMW 7er Limousine, 730d, F01 (LCI), 258 PS / 190 kW\")","v":"BMW 7er Limousine, 730d, F01 (LCI), 258 PS / 190 kW"},{"$f":"HYPERLINK(\"files\\5004.\"&Herstellerauswahl!$C$4,\"Auswahl / Select 5004\")","v":"Auswahl / Select 5004"}]
["0005/BJE",{"$f":"HYPERLINK(\"files\\5004.\"&Herstellerauswahl!$C$4,\"BMW 7er Limousine, 730d xDrive, F01 (LCI), 258 PS / 190 kW\")","v":"BMW 7er Limousine, 730d xDrive, F01 (LCI), 258 PS / 190 kW"},{"$f":"HYPERLINK(\"files\\5004.\"&Herstellerauswahl!$C$4,\"Auswahl / Select 5004\")","v":"Auswahl / Select 5004"}]
["0005/APM",{"$f":"HYPERLINK(\"files\\5004.\"&Herstellerauswahl!$C$4,\"BMW 7er Limousine, 730i, F01 (LCI), 258 PS / 190 kW\")","v":"BMW 7er Limousine, 730i, F01 (LCI), 258 PS / 190 kW"},{"$f":"HYPERLINK(\"files\\5004.\"&Herstellerauswahl!$C$4,\"Auswahl / Select 5004\")","v":"Auswahl / Select 5004"}]
["0005/BJF",{"$f":"HYPERLINK(\"files\\5004.\"&Herstellerauswahl!$C$4,\"BMW 7er Limousine, 740d, F01 (LCI), 313 PS / 230 kW\")","v":"BMW 7er Limousine, 740d, F01 (LCI), 313 PS / 230 kW"},{"$f":"HYPERLINK(\"files\\5004.\"&Herstellerauswahl!$C$4,\"Auswahl / Select 5004\")","v":"Auswahl / Select 5004"}]
["0005/BJG",{"$f":"HYPERLINK(\"files\\5004.\"&Herstellerauswahl!$C$4,\"BMW 7er Limousine, 740d xDrive, F01 (LCI), 313 PS / 230 kW\")","v":"BMW 7er Limousine, 740d xDrive, F01 (LCI), 313 PS / 230 kW"},{"$f":"HYPERLINK(\"files\\5004.\"&Herstellerauswahl!$C$4,\"Auswahl / Select 5004\")","v":"Auswahl / Select 5004"}]
["0005/BIZ",{"$f":"HYPERLINK(\"files\\5004.\"&Herstellerauswahl!$C$4,\"BMW 7er Limousine, 740i, F01 (LCI), 320 PS / 235 kW\")","v":"BMW 7er Limousine, 740i, F01 (LCI), 320 PS / 235 kW"},{"$f":"HYPERLINK(\"files\\5004.\"&Herstellerauswahl!$C$4,\"Auswahl / Select 5004\")","v":"Auswahl / Select 5004"}]
["0005/BJH",{"$f":"HYPERLINK(\"files\\5007.\"&Herstellerauswahl!$C$4,\"BMW 7er Limousine, 750d xDrive, F01 (LCI), 381 PS / 280 kW\")","v":"BMW 7er Limousine, 750d xDrive, F01 (LCI), 381 PS / 280 kW"},{"$f":"HYPERLINK(\"files\\5007.\"&Herstellerauswahl!$C$4,\"Auswahl / Select 5007\")","v":"Auswahl / Select 5007"}]
["0005/BJB",{"$f":"HYPERLINK(\"files\\5007.\"&Herstellerauswahl!$C$4,\"BMW 7er Limousine, 750i, F01 (LCI), 449 PS / 330 kW\")","v":"BMW 7er Limousine, 750i, F01 (LCI), 449 PS / 330 kW"},{"$f":"HYPERLINK(\"files\\5007.\"&Herstellerauswahl!$C$4,\"Auswahl / Select 5007\")","v":"Auswahl / Select 5007"}]
["0005/BJC",{"$f":"HYPERLINK(\"files\\5007.\"&Herstellerauswahl!$C$4,\"BMW 7er Limousine, 750i xDrive, F01 (LCI), 449 PS / 330 kW\")","v":"BMW 7er Limousine, 750i xDrive, F01 (LCI), 449 PS / 330 kW"},{"$f":"HYPERLINK(\"files\\5007.\"&Herstellerauswahl!$C$4,\"Auswahl / Select 5007\")","v":"Auswahl / Select 5007"}]
["0005/APK",{"$f":"HYPERLINK(\"files\\5007.\"&Herstellerauswahl!$C$4,\"BMW 7er Limousine, 760i, F01 (LCI), 544 PS / 400 kW\")","v":"BMW 7er Limousine, 760i, F01 (LCI), 544 PS / 400 kW"},{"$f":"HYPERLINK(\"files\\5007.\"&Herstellerauswahl!$C$4,\"Auswahl / Select 5007\")","v":"Auswahl / Select 5007"}]

{"sheet":"F02 Limousine","index":112,"n_rows":8,"n_cols":4,"rows_kept":8,"cut":false,"hidden":false,"merged":[]}
[]
[]
["TSN/HSN","Motorauswahl für F02 Limousine","Home","Zurück / back"]
[]
["0005/ANO/ASR",{"$f":"HYPERLINK(\"files\\5004.\"&Herstellerauswahl!$C$4,\"BMW 7er Limousine, 730d, F02, 258 PS / 190 kW\")","v":"BMW 7er Limousine, 730d, F02, 258 PS / 190 kW"},{"$f":"HYPERLINK(\"files\\5004.\"&Herstellerauswahl!$C$4,\"Auswahl / Select 5004\")","v":"Auswahl / Select 5004"}]
["0005/APM",{"$f":"HYPERLINK(\"files\\5004.\"&Herstellerauswahl!$C$4,\"BMW 7er Limousine, 730i, F02, 258 PS / 190 kW\")","v":"BMW 7er Limousine, 730i, F02, 258 PS / 190 kW"},{"$f":"HYPERLINK(\"files\\5004.\"&Herstellerauswahl!$C$4,\"Auswahl / Select 5004\")","v":"Auswahl / Select 5004"}]
["0005/ANP/AST",{"$f":"HYPERLINK(\"files\\5004.\"&Herstellerauswahl!$C$4,\"BMW 7er Limousine, 740i, F02, 326 PS / 240 kW\")","v":"BMW 7er Limousine, 740i, F02, 326 PS / 240 kW"},{"$f":"HYPERLINK(\"files\\5004.\"&Herstellerauswahl!$C$4,\"Auswahl / Select 5004\")","v":"Auswahl / Select 5004"}]
["0005/APK",{"$f":"HYPERLINK(\"files\\5007.\"&Herstellerauswahl!$C$4,\"BMW 7er Limousine, 760i, F02, 544 PS / 400 kW\")","v":"BMW 7er Limousine, 760i, F02, 544 PS / 400 kW"},{"$f":"HYPERLINK(\"files\\5007.\"&Herstellerauswahl!$C$4,\"Auswahl / Select 5007\")","v":"Auswahl / Select 5007"}]

{"sheet":"F02 Facelift Limousine","index":113,"n_rows":12,"n_cols":4,"rows_kept":12,"cut":false,"hidden":false,"merged":[]}
[]
[]
["TSN/HSN","Motorauswahl für F02 Facelift Limousine","Home","Zurück / back"]
[]
["0005/BJD",{"$f":"HYPERLINK(\"files\\5004.\"&Herstellerauswahl!$C$4,\"BMW 7er Limousine, 730d, F02 (LCI), 258 PS / 190 kW\")","v":"BMW 7er Limousine, 730d, F02 (LCI), 258 PS / 190 kW"},{"$f":"HYPERLINK(\"files\\5004.\"&Herstellerauswahl!$C$4,\"Auswahl / Select 5004\")","v":"Auswahl / Select 5004"}]
["0005/APM",{"$f":"HYPERLINK(\"files\\5004.\"&Herstellerauswahl!$C$4,\"BMW 7er Limousine, 730i, F02 (LCI), 258 PS / 190 kW\")","v":"BMW 7er Limousine, 730i, F02 (LCI), 258 PS / 190 kW"},{"$f":"HYPERLINK(\"files\\5004.\"&Herstellerauswahl!$C$4,\"Auswahl / Select 5004\")","v":"Auswahl / Select 5004"}]
["0005/BIZ",{"$f":"HYPERLINK(\"files\\5004.\"&Herstellerauswahl!$C$4,\"BMW 7er Limousine, 740i, F02 (LCI), 320 PS / 235 kW\")","v":"BMW 7er Limousine, 740i, F02 (LCI), 320 PS / 235 kW"},{"$f":"HYPERLINK(\"files\\5004.\"&Herstellerauswahl!$C$4,\"Auswahl / Select 5004\")","v":"Auswahl / Select 5004"}]
["0005/BJH",{"$f":"HYPERLINK(\"files\\5007.\"&Herstellerauswahl!$C$4,\"BMW 7er Limousine, 750d xDrive, F02 (LCI), 381 PS / 280 kW\")","v":"BMW 7er Limousine, 750d xDrive, F02 (LCI), 381 PS / 280 kW"},{"$f":"HYPERLINK(\"files\\5007.\"&Herstellerauswahl!$C$4,\"Auswahl / Select 5007\")","v":"Auswahl / Select 5007"}]
["0005/APP",{"$f":"HYPERLINK(\"files\\5007.\"&Herstellerauswahl!$C$4,\"BMW 7er Limousine, 750i, F02 (LCI), 408 PS / 300 kW\")","v":"BMW 7er Limousine, 750i, F02 (LCI), 408 PS / 300 kW"},{"$f":"HYPERLINK(\"files\\5007.\"&Herstellerauswahl!$C$4,\"Auswahl / Select 5007\")","v":"Auswahl / Select 5007"}]
["0005/BJB",{"$f":"HYPERLINK(\"files\\5007.\"&Herstellerauswahl!$C$4,\"BMW 7er Limousine, 750i, F02 (LCI), 449 PS / 330 kW\")","v":"BMW 7er Limousine, 750i, F02 (LCI), 449 PS / 330 kW"},{"$f":"HYPERLINK(\"files\\5007.\"&Herstellerauswahl!$C$4,\"Auswahl / Select 5007\")","v":"Auswahl / Select 5007"}]
["0005/BJC",{"$f":"HYPERLINK(\"files\\5007.\"&Herstellerauswahl!$C$4,\"BMW 7er Limousine, 750i xDrive, F02 (LCI), 449 PS / 330 kW\")","v":"BMW 7er Limousine, 750i xDrive, F02 (LCI), 449 PS / 330 kW"},{"$f":"HYPERLINK(\"files\\5007.\"&Herstellerauswahl!$C$4,\"Auswahl / Select 5007\")","v":"Auswahl / Select 5007"}]
["0005/APK",{"$f":"HYPERLINK(\"files\\5007.\"&Herstellerauswahl!$C$4,\"BMW 7er Limousine, 760i, F02 (LCI), 544 PS / 400 kW\")","v":"BMW 7er Limousine, 760i, F02 (LCI), 544 PS / 400 kW"},{"$f":"HYPERLINK(\"files\\5007.\"&Herstellerauswahl!$C$4,\"Auswahl / Select 5007\")","v":"Auswahl / Select 5007"}]

{"sheet":"G11 Limousine","index":114,"n_rows":17,"n_cols":4,"rows_kept":17,"cut":false,"hidden":false,"merged":[]}
[]
[]
["TSN/HSN","Motorauswahl für G11 Limousine","Home","Zurück / back"]
[]
["0005/CGL",{"$f":"HYPERLINK(\"files\\5010.\"&Herstellerauswahl!$C$4,\"BMW 7er Limousine, 725d, G11, 231 PS / 170 kW\")","v":"BMW 7er Limousine, 725d, G11, 231 PS / 170 kW"},{"$f":"HYPERLINK(\"files\\5010.\"&Herstellerauswahl!$C$4,\"Auswahl / Select 5010\")","v":"Auswahl / Select 5010"}]
["0005/CIW",{"$f":"HYPERLINK(\"files\\5010.\"&Herstellerauswahl!$C$4,\"BMW 7er Limousine, 725d, G11, 211 PS / 155 kW\")","v":"BMW 7er Limousine, 725d, G11, 211 PS / 155 kW"},{"$f":"HYPERLINK(\"files\\5010.\"&Herstellerauswahl!$C$4,\"Auswahl / Select 5010\")","v":"Auswahl / Select 5010"}]
["0005/CEE",{"$f":"HYPERLINK(\"files\\5010.\"&Herstellerauswahl!$C$4,\"BMW 7er Limousine, 730d, G11, 211 PS / 155 kW\")","v":"BMW 7er Limousine, 730d, G11, 211 PS / 155 kW"},{"$f":"HYPERLINK(\"files\\5010.\"&Herstellerauswahl!$C$4,\"Auswahl / Select 5010\")","v":"Auswahl / Select 5010"}]
["0005/CEG",{"$f":"HYPERLINK(\"files\\5010.\"&Herstellerauswahl!$C$4,\"BMW 7er Limousine, 730d, G11, 265 PS / 195 kW\")","v":"BMW 7er Limousine, 730d, G11, 265 PS / 195 kW"},{"$f":"HYPERLINK(\"files\\5010.\"&Herstellerauswahl!$C$4,\"Auswahl / Select 5010\")","v":"Auswahl / Select 5010"}]
["0005/CEI",{"$f":"HYPERLINK(\"files\\5010.\"&Herstellerauswahl!$C$4,\"BMW 7er Limousine, 730d xDrive, G11, 211 PS / 155 kW\")","v":"BMW 7er Limousine, 730d xDrive, G11, 211 PS / 155 kW"},{"$f":"HYPERLINK(\"files\\5010.\"&Herstellerauswahl!$C$4,\"Auswahl / Select 5010\")","v":"Auswahl / Select 5010"}]
["0005/CFB",{"$f":"HYPERLINK(\"files\\5010.\"&Herstellerauswahl!$C$4,\"BMW 7er Limousine, 730d xDrive, G11, 265 PS / 195 kW\")","v":"BMW 7er Limousine, 730d xDrive, G11, 265 PS / 195 kW"},{"$f":"HYPERLINK(\"files\\5010.\"&Herstellerauswahl!$C$4,\"Auswahl / Select 5010\")","v":"Auswahl / Select 5010"}]
["0005/CGH",{"$f":"HYPERLINK(\"files\\5010.\"&Herstellerauswahl!$C$4,\"BMW 7er Limousine, 730i, G11, 258 PS / 190 kW\")","v":"BMW 7er Limousine, 730i, G11, 258 PS / 190 kW"},{"$f":"HYPERLINK(\"files\\5010.\"&Herstellerauswahl!$C$4,\"Auswahl / Select 5010\")","v":"Auswahl / Select 5010"}]
["0005/CFU",{"$f":"HYPERLINK(\"files\\5010.\"&Herstellerauswahl!$C$4,\"BMW 7er Limousine, 740d xDrive, G11, 320 PS / 235 kW\")","v":"BMW 7er Limousine, 740d xDrive, G11, 320 PS / 235 kW"},{"$f":"HYPERLINK(\"files\\5010.\"&Herstellerauswahl!$C$4,\"Auswahl / Select 5010\")","v":"Auswahl / Select 5010"}]
["0005/CGI",{"$f":"HYPERLINK(\"files\\5010.\"&Herstellerauswahl!$C$4,\"BMW 7er Limousine, 740e, G11, 258 PS / 190 kW\")","v":"BMW 7er Limousine, 740e, G11, 258 PS / 190 kW"},{"$f":"HYPERLINK(\"files\\5010.\"&Herstellerauswahl!$C$4,\"Auswahl / Select 5010\")","v":"Auswahl / Select 5010"}]
["0005/CEK",{"$f":"HYPERLINK(\"files\\5010.\"&Herstellerauswahl!$C$4,\"BMW 7er Limousine, 740i, G11, 326 PS / 240 kW\")","v":"BMW 7er Limousine, 740i, G11, 326 PS / 240 kW"},{"$f":"HYPERLINK(\"files\\5010.\"&Herstellerauswahl!$C$4,\"Auswahl / Select 5010\")","v":"Auswahl / Select 5010"}]
["0005/CGN",{"$f":"HYPERLINK(\"files\\5010.\"&Herstellerauswahl!$C$4,\"BMW 7er Limousine, 750d xDrive, G11, 400 PS / 294 kW\")","v":"BMW 7er Limousine, 750d xDrive, G11, 400 PS / 294 kW"},{"$f":"HYPERLINK(\"files\\5010.\"&Herstellerauswahl!$C$4,\"Auswahl / Select 5010\")","v":"Auswahl / Select 5010"}]
["0005/CFW",{"$f":"HYPERLINK(\"files\\5010.\"&Herstellerauswahl!$C$4,\"BMW 7er Limousine, 750i, G11, 449 PS / 330 kW\")","v":"BMW 7er Limousine, 750i, G11, 449 PS / 330 kW"},{"$f":"HYPERLINK(\"files\\5010.\"&Herstellerauswahl!$C$4,\"Auswahl / Select 5010\")","v":"Auswahl / Select 5010"}]
["0005/CEM",{"$f":"HYPERLINK(\"files\\5010.\"&Herstellerauswahl!$C$4,\"BMW 7er Limousine, 750i xDrive, G11, 449 PS / 330 kW\")","v":"BMW 7er Limousine, 750i xDrive, G11, 449 PS / 330 kW"},{"$f":"HYPERLINK(\"files\\5010.\"&Herstellerauswahl!$C$4,\"Auswahl / Select 5010\")","v":"Auswahl / Select 5010"}]

{"sheet":"G11 Facelift Limousine","index":115,"n_rows":13,"n_cols":4,"rows_kept":13,"cut":false,"hidden":false,"merged":[]}
[]
[]
["TSN/HSN","Motorauswahl für G11 Facelift Limousine","Home","Zurück / back"]
[]
["0005/DCI",{"$f":"HYPERLINK(\"files\\5010.\"&Herstellerauswahl!$C$4,\"BMW 7er Limousine, 730d MHy, G11 (LCI), 286 PS / 210 kW\")","v":"BMW 7er Limousine, 730d MHy, G11 (LCI), 286 PS / 210 kW"},{"$f":"HYPERLINK(\"files\\5010.\"&Herstellerauswahl!$C$4,\"Auswahl / Select 5010\")","v":"Auswahl / Select 5010"}]
["0005/DCK",{"$f":"HYPERLINK(\"files\\5010.\"&Herstellerauswahl!$C$4,\"BMW 7er Limousine, 730d MHy xDrive, G11 (LCI), 286 PS / 210 kW\")","v":"BMW 7er Limousine, 730d MHy xDrive, G11 (LCI), 286 PS / 210 kW"},{"$f":"HYPERLINK(\"files\\5010.\"&Herstellerauswahl!$C$4,\"Auswahl / Select 5010\")","v":"Auswahl / Select 5010"}]
["0005/DCL",{"$f":"HYPERLINK(\"files\\5010.\"&Herstellerauswahl!$C$4,\"BMW 7er Limousine, 730d Mhy xDrive, G11 (LCI), 211 PS / 155 kW\")","v":"BMW 7er Limousine, 730d Mhy xDrive, G11 (LCI), 211 PS / 155 kW"},{"$f":"HYPERLINK(\"files\\5010.\"&Herstellerauswahl!$C$4,\"Auswahl / Select 5010\")","v":"Auswahl / Select 5010"}]
["0005/CWG",{"$f":"HYPERLINK(\"files\\5010.\"&Herstellerauswahl!$C$4,\"BMW 7er Limousine, 730i, G11 (LCI), 265 PS / 195 kW\")","v":"BMW 7er Limousine, 730i, G11 (LCI), 265 PS / 195 kW"},{"$f":"HYPERLINK(\"files\\5010.\"&Herstellerauswahl!$C$4,\"Auswahl / Select 5010\")","v":"Auswahl / Select 5010"}]
["0005/DCN",{"$f":"HYPERLINK(\"files\\5010.\"&Herstellerauswahl!$C$4,\"BMW 7er Limousine, 740d MHy xDrive, G11 (LCI), 340 PS / 250 kW\")","v":"BMW 7er Limousine, 740d MHy xDrive, G11 (LCI), 340 PS / 250 kW"},{"$f":"HYPERLINK(\"files\\5010.\"&Herstellerauswahl!$C$4,\"Auswahl / Select 5010\")","v":"Auswahl / Select 5010"}]
["0005/CUQ",{"$f":"HYPERLINK(\"files\\5010.\"&Herstellerauswahl!$C$4,\"BMW 7er Limousine, 740i, G11 (LCI), 340 PS / 250 kW\")","v":"BMW 7er Limousine, 740i, G11 (LCI), 340 PS / 250 kW"},{"$f":"HYPERLINK(\"files\\5010.\"&Herstellerauswahl!$C$4,\"Auswahl / Select 5010\")","v":"Auswahl / Select 5010"}]
["0005/DCP",{"$f":"HYPERLINK(\"files\\5010.\"&Herstellerauswahl!$C$4,\"BMW 7er Limousine, 740i, G11 (LCI), 333 PS / 245 kW\")","v":"BMW 7er Limousine, 740i, G11 (LCI), 333 PS / 245 kW"},{"$f":"HYPERLINK(\"files\\5010.\"&Herstellerauswahl!$C$4,\"Auswahl / Select 5010\")","v":"Auswahl / Select 5010"}]
["0005/CUT",{"$f":"HYPERLINK(\"files\\5010.\"&Herstellerauswahl!$C$4,\"BMW 7er Limousine, 745e, G11 (LCI), 286 PS / 210 kW\")","v":"BMW 7er Limousine, 745e, G11 (LCI), 286 PS / 210 kW"},{"$f":"HYPERLINK(\"files\\5010.\"&Herstellerauswahl!$C$4,\"Auswahl / Select 5010\")","v":"Auswahl / Select 5010"}]
["0005/CUW",{"$f":"HYPERLINK(\"files\\5010.\"&Herstellerauswahl!$C$4,\"BMW 7er Limousine, 750i xDrive, G11 (LCI), 530 PS / 390 kW\")","v":"BMW 7er Limousine, 750i xDrive, G11 (LCI), 530 PS / 390 kW"},{"$f":"HYPERLINK(\"files\\5010.\"&Herstellerauswahl!$C$4,\"Auswahl / Select 5010\")","v":"Auswahl / Select 5010"}]

{"sheet":"G12 Limousine","index":116,"n_rows":20,"n_cols":4,"rows_kept":20,"cut":false,"hidden":false,"merged":[]}
[]
[]
["TSN/HSN","Motorauswahl für G12 Limousine","Home","Zurück / back"]
[]
["0005/CIX",{"$f":"HYPERLINK(\"files\\5010.\"&Herstellerauswahl!$C$4,\"BMW 7er Limousine, 725Ld, G12, 211 PS / 155 kW\")","v":"BMW 7er Limousine, 725Ld, G12, 211 PS / 155 kW"},{"$f":"HYPERLINK(\"files\\5010.\"&Herstellerauswahl!$C$4,\"Auswahl / Select 5010\")","v":"Auswahl / Select 5010"}]
["0005/CGM",{"$f":"HYPERLINK(\"files\\5010.\"&Herstellerauswahl!$C$4,\"BMW 7er Limousine, 725Ld, G12, 231 PS / 170 kW\")","v":"BMW 7er Limousine, 725Ld, G12, 231 PS / 170 kW"},{"$f":"HYPERLINK(\"files\\5010.\"&Herstellerauswahl!$C$4,\"Auswahl / Select 5010\")","v":"Auswahl / Select 5010"}]
["0005/CEF",{"$f":"HYPERLINK(\"files\\5010.\"&Herstellerauswahl!$C$4,\"BMW 7er Limousine, 730Ld, G12, 211 PS / 155 kW\")","v":"BMW 7er Limousine, 730Ld, G12, 211 PS / 155 kW"},{"$f":"HYPERLINK(\"files\\5010.\"&Herstellerauswahl!$C$4,\"Auswahl / Select 5010\")","v":"Auswahl / Select 5010"}]
["0005/CEH",{"$f":"HYPERLINK(\"files\\5010.\"&Herstellerauswahl!$C$4,\"BMW 7er Limousine, 730Ld, G12, 265 PS / 195 kW\")","v":"BMW 7er Limousine, 730Ld, G12, 265 PS / 195 kW"},{"$f":"HYPERLINK(\"files\\5010.\"&Herstellerauswahl!$C$4,\"Auswahl / Select 5010\")","v":"Auswahl / Select 5010"}]
["0005/CEJ",{"$f":"HYPERLINK(\"files\\5010.\"&Herstellerauswahl!$C$4,\"BMW 7er Limousine, 730Ld xDrive, G12, 211 PS / 155 kW\")","v":"BMW 7er Limousine, 730Ld xDrive, G12, 211 PS / 155 kW"},{"$f":"HYPERLINK(\"files\\5010.\"&Herstellerauswahl!$C$4,\"Auswahl / Select 5010\")","v":"Auswahl / Select 5010"}]
["0005/CFC",{"$f":"HYPERLINK(\"files\\5010.\"&Herstellerauswahl!$C$4,\"BMW 7er Limousine, 730Ld xDrive, G12, 265 PS / 195 kW\")","v":"BMW 7er Limousine, 730Ld xDrive, G12, 265 PS / 195 kW"},{"$f":"HYPERLINK(\"files\\5010.\"&Herstellerauswahl!$C$4,\"Auswahl / Select 5010\")","v":"Auswahl / Select 5010"}]
["0005/CGG",{"$f":"HYPERLINK(\"files\\5010.\"&Herstellerauswahl!$C$4,\"BMW 7er Limousine, 730Li, G12, 258 PS / 190 kW\")","v":"BMW 7er Limousine, 730Li, G12, 258 PS / 190 kW"},{"$f":"HYPERLINK(\"files\\5010.\"&Herstellerauswahl!$C$4,\"Auswahl / Select 5010\")","v":"Auswahl / Select 5010"}]
["0005/CFV",{"$f":"HYPERLINK(\"files\\5010.\"&Herstellerauswahl!$C$4,\"BMW 7er Limousine, 740Ld xDrive, G12, 320 PS / 235 kW\")","v":"BMW 7er Limousine, 740Ld xDrive, G12, 320 PS / 235 kW"},{"$f":"HYPERLINK(\"files\\5010.\"&Herstellerauswahl!$C$4,\"Auswahl / Select 5010\")","v":"Auswahl / Select 5010"}]
["0005/CGJ",{"$f":"HYPERLINK(\"files\\5010.\"&Herstellerauswahl!$C$4,\"BMW 7er Limousine, 740Le, G12, 258 PS / 190 kW\")","v":"BMW 7er Limousine, 740Le, G12, 258 PS / 190 kW"},{"$f":"HYPERLINK(\"files\\5010.\"&Herstellerauswahl!$C$4,\"Auswahl / Select 5010\")","v":"Auswahl / Select 5010"}]
["0005/CGK",{"$f":"HYPERLINK(\"files\\5010.\"&Herstellerauswahl!$C$4,\"BMW 7er Limousine, 740Le xDrive, G12, 258 PS / 190 kW\")","v":"BMW 7er Limousine, 740Le xDrive, G12, 258 PS / 190 kW"},{"$f":"HYPERLINK(\"files\\5010.\"&Herstellerauswahl!$C$4,\"Auswahl / Select 5010\")","v":"Auswahl / Select 5010"}]
["0005/CEL",{"$f":"HYPERLINK(\"files\\5010.\"&Herstellerauswahl!$C$4,\"BMW 7er Limousine, 740Li, G12, 326 PS / 240 kW\")","v":"BMW 7er Limousine, 740Li, G12, 326 PS / 240 kW"},{"$f":"HYPERLINK(\"files\\5010.\"&Herstellerauswahl!$C$4,\"Auswahl / Select 5010\")","v":"Auswahl / Select 5010"}]
["0005/CGP",{"$f":"HYPERLINK(\"files\\5010.\"&Herstellerauswahl!$C$4,\"BMW 7er Limousine, 740Li xDrive, G12, 326 PS / 240 kW\")","v":"BMW 7er Limousine, 740Li xDrive, G12, 326 PS / 240 kW"},{"$f":"HYPERLINK(\"files\\5010.\"&Herstellerauswahl!$C$4,\"Auswahl / Select 5010\")","v":"Auswahl / Select 5010"}]
["0005/CGO",{"$f":"HYPERLINK(\"files\\5010.\"&Herstellerauswahl!$C$4,\"BMW 7er Limousine, 750Ld xDrive, G12, 400 PS / 294 kW\")","v":"BMW 7er Limousine, 750Ld xDrive, G12, 400 PS / 294 kW"},{"$f":"HYPERLINK(\"files\\5010.\"&Herstellerauswahl!$C$4,\"Auswahl / Select 5010\")","v":"Auswahl / Select 5010"}]
["0005/CFX",{"$f":"HYPERLINK(\"files\\5010.\"&Herstellerauswahl!$C$4,\"BMW 7er Limousine, 750Li, G12, 449 PS / 330 kW\")","v":"BMW 7er Limousine, 750Li, G12, 449 PS / 330 kW"},{"$f":"HYPERLINK(\"files\\5010.\"&Herstellerauswahl!$C$4,\"Auswahl / Select 5010\")","v":"Auswahl / Select 5010"}]
["0005/CEN",{"$f":"HYPERLINK(\"files\\5010.\"&Herstellerauswahl!$C$4,\"BMW 7er Limousine, 750Li xDrive, G12, 449 PS / 330 kW\")","v":"BMW 7er Limousine, 750Li xDrive, G12, 449 PS / 330 kW"},{"$f":"HYPERLINK(\"files\\5010.\"&Herstellerauswahl!$C$4,\"Auswahl / Select 5010\")","v":"Auswahl / Select 5010"}]
["0005/CGQ",{"$f":"HYPERLINK(\"files\\5010.\"&Herstellerauswahl!$C$4,\"BMW 7er Limousine, M760Li xDrive, G12, 609 PS / 448 kW\")","v":"BMW 7er Limousine, M760Li xDrive, G12, 609 PS / 448 kW"},{"$f":"HYPERLINK(\"files\\5010.\"&Herstellerauswahl!$C$4,\"Auswahl / Select 5010\")","v":"Auswahl / Select 5010"}]

{"sheet":"G12 Facelift Limousine","index":117,"n_rows":16,"n_cols":4,"rows_kept":16,"cut":false,"hidden":false,"merged":[]}
[]
[]
["TSN/HSN","Motorauswahl für G12 Facelift Limousine","Home","Zurück / back"]
[]
["0005/DCJ",{"$f":"HYPERLINK(\"files\\5010.\"&Herstellerauswahl!$C$4,\"BMW 7er Limousine, 730Ld MHy, G12 (LCI), 286 PS / 210 kW\")","v":"BMW 7er Limousine, 730Ld MHy, G12 (LCI), 286 PS / 210 kW"},{"$f":"HYPERLINK(\"files\\5010.\"&Herstellerauswahl!$C$4,\"Auswahl / Select 5010\")","v":"Auswahl / Select 5010"}]
["0005/DCM",{"$f":"HYPERLINK(\"files\\5010.\"&Herstellerauswahl!$C$4,\"BMW 7er Limousine, 730Ld MHy xDrive, G12 (LCI), 286 PS / 210 kW\")","v":"BMW 7er Limousine, 730Ld MHy xDrive, G12 (LCI), 286 PS / 210 kW"},{"$f":"HYPERLINK(\"files\\5010.\"&Herstellerauswahl!$C$4,\"Auswahl / Select 5010\")","v":"Auswahl / Select 5010"}]
["0005/CWF",{"$f":"HYPERLINK(\"files\\5010.\"&Herstellerauswahl!$C$4,\"BMW 7er Limousine, 730Li, G12 (LCI), 265 PS / 195 kW\")","v":"BMW 7er Limousine, 730Li, G12 (LCI), 265 PS / 195 kW"},{"$f":"HYPERLINK(\"files\\5010.\"&Herstellerauswahl!$C$4,\"Auswahl / Select 5010\")","v":"Auswahl / Select 5010"}]
["0005/DCO",{"$f":"HYPERLINK(\"files\\5010.\"&Herstellerauswahl!$C$4,\"BMW 7er Limousine, 740Ld Mhy xDrive, G12 (LCI), 340 PS / 250 kW\")","v":"BMW 7er Limousine, 740Ld Mhy xDrive, G12 (LCI), 340 PS / 250 kW"},{"$f":"HYPERLINK(\"files\\5010.\"&Herstellerauswahl!$C$4,\"Auswahl / Select 5010\")","v":"Auswahl / Select 5010"}]
["0005/CUR",{"$f":"HYPERLINK(\"files\\5010.\"&Herstellerauswahl!$C$4,\"BMW 7er Limousine, 740Li, G12 (LCI), 340 PS / 250 kW\")","v":"BMW 7er Limousine, 740Li, G12 (LCI), 340 PS / 250 kW"},{"$f":"HYPERLINK(\"files\\5010.\"&Herstellerauswahl!$C$4,\"Auswahl / Select 5010\")","v":"Auswahl / Select 5010"}]
["0005/DCQ",{"$f":"HYPERLINK(\"files\\5010.\"&Herstellerauswahl!$C$4,\"BMW 7er Limousine, 740Li, G12 (LCI), 333 PS / 245 kW\")","v":"BMW 7er Limousine, 740Li, G12 (LCI), 333 PS / 245 kW"},{"$f":"HYPERLINK(\"files\\5010.\"&Herstellerauswahl!$C$4,\"Auswahl / Select 5010\")","v":"Auswahl / Select 5010"}]
["0005/CUS",{"$f":"HYPERLINK(\"files\\5010.\"&Herstellerauswahl!$C$4,\"BMW 7er Limousine, 740Li xDrive, G12 (LCI), 340 PS / 250 kW\")","v":"BMW 7er Limousine, 740Li xDrive, G12 (LCI), 340 PS / 250 kW"},{"$f":"HYPERLINK(\"files\\5010.\"&Herstellerauswahl!$C$4,\"Auswahl / Select 5010\")","v":"Auswahl / Select 5010"}]
["0005/DCR",{"$f":"HYPERLINK(\"files\\5010.\"&Herstellerauswahl!$C$4,\"BMW 7er Limousine, 740Li xDrive, G12 (LCI), 333 PS / 245 kW\")","v":"BMW 7er Limousine, 740Li xDrive, G12 (LCI), 333 PS / 245 kW"},{"$f":"HYPERLINK(\"files\\5010.\"&Herstellerauswahl!$C$4,\"Auswahl / Select 5010\")","v":"Auswahl / Select 5010"}]
["0005/CUX",{"$f":"HYPERLINK(\"files\\5010.\"&Herstellerauswahl!$C$4,\"BMW 7er Limousine, 750Li xDrive, G12 (LCI), 530 PS / 390 kW\")","v":"BMW 7er Limousine, 750Li xDrive, G12 (LCI), 530 PS / 390 kW"},{"$f":"HYPERLINK(\"files\\5010.\"&Herstellerauswahl!$C$4,\"Auswahl / Select 5010\")","v":"Auswahl / Select 5010"}]
["0005/CUU",{"$f":"HYPERLINK(\"files\\5010.\"&Herstellerauswahl!$C$4,\"BMW 7er Limousine, 745Le, G12 (LCI), 286 PS / 210 kW\")","v":"BMW 7er Limousine, 745Le, G12 (LCI), 286 PS / 210 kW"},{"$f":"HYPERLINK(\"files\\5010.\"&Herstellerauswahl!$C$4,\"Auswahl / Select 5010\")","v":"Auswahl / Select 5010"}]
["0005/CUV",{"$f":"HYPERLINK(\"files\\5010.\"&Herstellerauswahl!$C$4,\"BMW 7er Limousine, 745Le xDrive, G12 (LCI), 286 PS / 210 kW\")","v":"BMW 7er Limousine, 745Le xDrive, G12 (LCI), 286 PS / 210 kW"},{"$f":"HYPERLINK(\"files\\5010.\"&Herstellerauswahl!$C$4,\"Auswahl / Select 5010\")","v":"Auswahl / Select 5010"}]
["0005/CVC",{"$f":"HYPERLINK(\"files\\5010.\"&Herstellerauswahl!$C$4,\"BMW 7er Limousine, M760Li xDrive, G12 (LCI), 585 PS / 430 kW\")","v":"BMW 7er Limousine, M760Li xDrive, G12 (LCI), 585 PS / 430 kW"},{"$f":"HYPERLINK(\"files\\5010.\"&Herstellerauswahl!$C$4,\"Auswahl / Select 5010\")","v":"Auswahl / Select 5010"}]

{"sheet":"BMW 8er","index":118,"n_rows":10,"n_cols":4,"rows_kept":10,"cut":false,"hidden":false,"merged":[]}
[]
[]
[null,"Typauswahl für BMW 8er","Home","Zurück / back"]
[]
[null,"F91 M Cabrio","Auswahl / Select"]
[null,"F92 M Coupe","Auswahl / Select"]
[null,"F93 M Gran Coupe","Auswahl / Select"]
[null,"G14 Cabrio","Auswahl / Select"]
[null,"G15 Coupe","Auswahl / Select"]
[null,"G16 Gran Coupe","Auswahl / Select"]

{"sheet":"F91 M Cabrio","index":119,"n_rows":6,"n_cols":4,"rows_kept":6,"cut":false,"hidden":false,"merged":[]}
[]
[]
["TSN/HSN","Motorauswahl für F91 M Cabrio","Home","Zurück / back"]
[]
["7909/ABZ",{"$f":"HYPERLINK(\"files\\8051.\"&Herstellerauswahl!$C$4,\"BMW 8er M Cabrio, M8 xDrive, F91, 600 PS / 441 kW\")","v":"BMW 8er M Cabrio, M8 xDrive, F91, 600 PS / 441 kW"},{"$f":"HYPERLINK(\"files\\8051.\"&Herstellerauswahl!$C$4,\"Auswahl / Select 8051\")","v":"Auswahl / Select 8051"}]
["7909/ACA",{"$f":"HYPERLINK(\"files\\8051.\"&Herstellerauswahl!$C$4,\"BMW 8er M Cabrio, M8 Competition xDrive, F91, 626 PS / 460 kW\")","v":"BMW 8er M Cabrio, M8 Competition xDrive, F91, 626 PS / 460 kW"},{"$f":"HYPERLINK(\"files\\8051.\"&Herstellerauswahl!$C$4,\"Auswahl / Select 8051\")","v":"Auswahl / Select 8051"}]

{"sheet":"F92 M Coupe","index":120,"n_rows":6,"n_cols":4,"rows_kept":6,"cut":false,"hidden":false,"merged":[]}
[]
[]
["TSN/HSN","Motorauswahl für F92 M Coupe","Home","Zurück / back"]
[]
["7909/ACB",{"$f":"HYPERLINK(\"files\\8051.\"&Herstellerauswahl!$C$4,\"BMW 8er M Coupe, M8 xDrive, F92, 600 PS / 441 kW\")","v":"BMW 8er M Coupe, M8 xDrive, F92, 600 PS / 441 kW"},{"$f":"HYPERLINK(\"files\\8051.\"&Herstellerauswahl!$C$4,\"Auswahl / Select 8051\")","v":"Auswahl / Select 8051"}]
["7909/ACC",{"$f":"HYPERLINK(\"files\\8051.\"&Herstellerauswahl!$C$4,\"BMW 8er M Coupe, M8 Competition xDrive, F92, 626 PS / 460 kW\")","v":"BMW 8er M Coupe, M8 Competition xDrive, F92, 626 PS / 460 kW"},{"$f":"HYPERLINK(\"files\\8051.\"&Herstellerauswahl!$C$4,\"Auswahl / Select 8051\")","v":"Auswahl / Select 8051"}]

{"sheet":"F93 M Gran Coupe","index":121,"n_rows":6,"n_cols":4,"rows_kept":6,"cut":false,"hidden":false,"merged":[]}
[]
[]
["TSN/HSN","Motorauswahl für F93 M Gran Coupe","Home","Zurück / back"]
[]
["7909/ACD",{"$f":"HYPERLINK(\"files\\8051.\"&Herstellerauswahl!$C$4,\"BMW 8er M Gran Coupe, M8 xDrive, F93, 600 PS / 441 kW\")","v":"BMW 8er M Gran Coupe, M8 xDrive, F93, 600 PS / 441 kW"},{"$f":"HYPERLINK(\"files\\8051.\"&Herstellerauswahl!$C$4,\"Auswahl / Select 8051\")","v":"Auswahl / Select 8051"}]
["7909/ACE",{"$f":"HYPERLINK(\"files\\8051.\"&Herstellerauswahl!$C$4,\"BMW 8er M Gran Coupe, M8 Competition xDrive, F93, 626 PS / 460 kW\")","v":"BMW 8er M Gran Coupe, M8 Competition xDrive, F93, 626 PS / 460 kW"},{"$f":"HYPERLINK(\"files\\8051.\"&Herstellerauswahl!$C$4,\"Auswahl / Select 8051\")","v":"Auswahl / Select 8051"}]

{"sheet":"G14 Cabrio","index":122,"n_rows":11,"n_cols":4,"rows_kept":11,"cut":false,"hidden":false,"merged":[]}
[]
[]
["TSN/HSN","Motorauswahl für G14 Cabrio","Home","Zurück / back"]
[]
["0005/DEE",{"$f":"HYPERLINK(\"files\\8050.\"&Herstellerauswahl!$C$4,\"BMW 8er Cabrio, 840i, G14, 333 PS / 245 kW\")","v":"BMW 8er Cabrio, 840i, G14, 333 PS / 245 kW"},{"$f":"HYPERLINK(\"files\\8050.\"&Herstellerauswahl!$C$4,\"Auswahl / Select 8050\")","v":"Auswahl / Select 8050"}]
["0005/CVD",{"$f":"HYPERLINK(\"files\\8050.\"&Herstellerauswahl!$C$4,\"BMW 8er Cabrio, 840i, G14, 340 PS / 250 kW\")","v":"BMW 8er Cabrio, 840i, G14, 340 PS / 250 kW"},{"$f":"HYPERLINK(\"files\\8050.\"&Herstellerauswahl!$C$4,\"Auswahl / Select 8050\")","v":"Auswahl / Select 8050"}]
["0005/DEF",{"$f":"HYPERLINK(\"files\\8050.\"&Herstellerauswahl!$C$4,\"BMW 8er Cabrio, 840i xDrive, G14, 333 PS / 245 kW\")","v":"BMW 8er Cabrio, 840i xDrive, G14, 333 PS / 245 kW"},{"$f":"HYPERLINK(\"files\\8050.\"&Herstellerauswahl!$C$4,\"Auswahl / Select 8050\")","v":"Auswahl / Select 8050"}]
["0005/CVE",{"$f":"HYPERLINK(\"files\\8050.\"&Herstellerauswahl!$C$4,\"BMW 8er Cabrio, 840i xDrive, G14, 340 PS / 250 kW\")","v":"BMW 8er Cabrio, 840i xDrive, G14, 340 PS / 250 kW"},{"$f":"HYPERLINK(\"files\\8050.\"&Herstellerauswahl!$C$4,\"Auswahl / Select 8050\")","v":"Auswahl / Select 8050"}]
["0005/CTF",{"$f":"HYPERLINK(\"files\\8050.\"&Herstellerauswahl!$C$4,\"BMW 8er Cabrio, 840d xDrive, G14, 320 PS / 235 kW\")","v":"BMW 8er Cabrio, 840d xDrive, G14, 320 PS / 235 kW"},{"$f":"HYPERLINK(\"files\\8050.\"&Herstellerauswahl!$C$4,\"Auswahl / Select 8050\")","v":"Auswahl / Select 8050"}]
["0005/DEA",{"$f":"HYPERLINK(\"files\\8050.\"&Herstellerauswahl!$C$4,\"BMW 8er Cabrio, 840d MHy xDrive, G14, 340 PS / 250 kW\")","v":"BMW 8er Cabrio, 840d MHy xDrive, G14, 340 PS / 250 kW"},{"$f":"HYPERLINK(\"files\\8050.\"&Herstellerauswahl!$C$4,\"Auswahl / Select 8050\")","v":"Auswahl / Select 8050"}]
["0005/CTE",{"$f":"HYPERLINK(\"files\\8050.\"&Herstellerauswahl!$C$4,\"BMW 8er Cabrio, M850i xDrive, G14, 530 PS / 390 kW\")","v":"BMW 8er Cabrio, M850i xDrive, G14, 530 PS / 390 kW"},{"$f":"HYPERLINK(\"files\\8050.\"&Herstellerauswahl!$C$4,\"Auswahl / Select 8050\")","v":"Auswahl / Select 8050"}]

{"sheet":"G15 Coupe","index":123,"n_rows":11,"n_cols":4,"rows_kept":11,"cut":false,"hidden":false,"merged":[]}
[]
[]
["TSN/HSN","Motorauswahl für G15 Coupe","Home","Zurück / back"]
[]
["0005/DEC",{"$f":"HYPERLINK(\"files\\8050.\"&Herstellerauswahl!$C$4,\"BMW 8er Coupe, 840i, G15, 326 PS / 240 kW\")","v":"BMW 8er Coupe, 840i, G15, 326 PS / 240 kW"},{"$f":"HYPERLINK(\"files\\8050.\"&Herstellerauswahl!$C$4,\"Auswahl / Select 8050\")","v":"Auswahl / Select 8050"}]
["0005/CVF",{"$f":"HYPERLINK(\"files\\8050.\"&Herstellerauswahl!$C$4,\"BMW 8er Coupe, 840i, G15, 340 PS / 250 kW\")","v":"BMW 8er Coupe, 840i, G15, 340 PS / 250 kW"},{"$f":"HYPERLINK(\"files\\8050.\"&Herstellerauswahl!$C$4,\"Auswahl / Select 8050\")","v":"Auswahl / Select 8050"}]
["0005/DED",{"$f":"HYPERLINK(\"files\\8050.\"&Herstellerauswahl!$C$4,\"BMW 8er Coupe, 840i xDrive, G15, 326 PS / 240 kW\")","v":"BMW 8er Coupe, 840i xDrive, G15, 326 PS / 240 kW"},{"$f":"HYPERLINK(\"files\\8050.\"&Herstellerauswahl!$C$4,\"Auswahl / Select 8050\")","v":"Auswahl / Select 8050"}]
["0005/CVG",{"$f":"HYPERLINK(\"files\\8050.\"&Herstellerauswahl!$C$4,\"BMW 8er Coupe, 840i xDrive, G15, 340 PS / 250 kW\")","v":"BMW 8er Coupe, 840i xDrive, G15, 340 PS / 250 kW"},{"$f":"HYPERLINK(\"files\\8050.\"&Herstellerauswahl!$C$4,\"Auswahl / Select 8050\")","v":"Auswahl / Select 8050"}]
["0005/CSY",{"$f":"HYPERLINK(\"files\\8050.\"&Herstellerauswahl!$C$4,\"BMW 8er Coupe, 840d xDrive, G15, 320 PS / 235 kW\")","v":"BMW 8er Coupe, 840d xDrive, G15, 320 PS / 235 kW"},{"$f":"HYPERLINK(\"files\\8050.\"&Herstellerauswahl!$C$4,\"Auswahl / Select 8050\")","v":"Auswahl / Select 8050"}]
["0005/DDZ",{"$f":"HYPERLINK(\"files\\8050.\"&Herstellerauswahl!$C$4,\"BMW 8er Coupe, 840d MHy xDrive, G15, 340 PS / 250 kW\")","v":"BMW 8er Coupe, 840d MHy xDrive, G15, 340 PS / 250 kW"},{"$f":"HYPERLINK(\"files\\8050.\"&Herstellerauswahl!$C$4,\"Auswahl / Select 8050\")","v":"Auswahl / Select 8050"}]
["0005/CTD",{"$f":"HYPERLINK(\"files\\8050.\"&Herstellerauswahl!$C$4,\"BMW 8er Coupe, M850i xDrive, G15, 530 PS / 390 kW\")","v":"BMW 8er Coupe, M850i xDrive, G15, 530 PS / 390 kW"},{"$f":"HYPERLINK(\"files\\8050.\"&Herstellerauswahl!$C$4,\"Auswahl / Select 8050\")","v":"Auswahl / Select 8050"}]

{"sheet":"G16 Gran Coupe","index":124,"n_rows":11,"n_cols":4,"rows_kept":11,"cut":false,"hidden":false,"merged":[]}
[]
[]
["TSN/HSN","Motorauswahl für G16 Gran Coupe","Home","Zurück / back"]
[]
["0005/DEG",{"$f":"HYPERLINK(\"files\\8050.\"&Herstellerauswahl!$C$4,\"BMW 8er Gran Coupe, 840i, G16, 333 PS / 245 kW\")","v":"BMW 8er Gran Coupe, 840i, G16, 333 PS / 245 kW"},{"$f":"HYPERLINK(\"files\\8050.\"&Herstellerauswahl!$C$4,\"Auswahl / Select 8050\")","v":"Auswahl / Select 8050"}]
["0005/CVH",{"$f":"HYPERLINK(\"files\\8050.\"&Herstellerauswahl!$C$4,\"BMW 8er Gran Coupe, 840i, G16, 340 PS / 250 kW\")","v":"BMW 8er Gran Coupe, 840i, G16, 340 PS / 250 kW"},{"$f":"HYPERLINK(\"files\\8050.\"&Herstellerauswahl!$C$4,\"Auswahl / Select 8050\")","v":"Auswahl / Select 8050"}]
["0005/DEH",{"$f":"HYPERLINK(\"files\\8050.\"&Herstellerauswahl!$C$4,\"BMW 8er Gran Coupe, 840i xDrive, G16, 333 PS / 245 kW\")","v":"BMW 8er Gran Coupe, 840i xDrive, G16, 333 PS / 245 kW"},{"$f":"HYPERLINK(\"files\\8050.\"&Herstellerauswahl!$C$4,\"Auswahl / Select 8050\")","v":"Auswahl / Select 8050"}]
["0005/CVI",{"$f":"HYPERLINK(\"files\\8050.\"&Herstellerauswahl!$C$4,\"BMW 8er Gran Coupe, 840i xDrive, G16, 340 PS / 250 kW\")","v":"BMW 8er Gran Coupe, 840i xDrive, G16, 340 PS / 250 kW"},{"$f":"HYPERLINK(\"files\\8050.\"&Herstellerauswahl!$C$4,\"Auswahl / Select 8050\")","v":"Auswahl / Select 8050"}]
["0005/CVK",{"$f":"HYPERLINK(\"files\\8050.\"&Herstellerauswahl!$C$4,\"BMW 8er Gran Coupe, 840d xDrive, G16, 320 PS / 235 kW\")","v":"BMW 8er Gran Coupe, 840d xDrive, G16, 320 PS / 235 kW"},{"$f":"HYPERLINK(\"files\\8050.\"&Herstellerauswahl!$C$4,\"Auswahl / Select 8050\")","v":"Auswahl / Select 8050"}]
["0005/DEB",{"$f":"HYPERLINK(\"files\\8050.\"&Herstellerauswahl!$C$4,\"BMW 8er Gran Coupe, 840d MHy xDrive, G16, 340 PS / 250 kW\")","v":"BMW 8er Gran Coupe, 840d MHy xDrive, G16, 340 PS / 250 kW"},{"$f":"HYPERLINK(\"files\\8050.\"&Herstellerauswahl!$C$4,\"Auswahl / Select 8050\")","v":"Auswahl / Select 8050"}]
["0005/CVJ",{"$f":"HYPERLINK(\"files\\8050.\"&Herstellerauswahl!$C$4,\"BMW 8er Gran Coupe, M850i xDrive, G16, 530 PS / 390 kW\")","v":"BMW 8er Gran Coupe, M850i xDrive, G16, 530 PS / 390 kW"},{"$f":"HYPERLINK(\"files\\8050.\"&Herstellerauswahl!$C$4,\"Auswahl / Select 8050\")","v":"Auswahl / Select 8050"}]

{"sheet":"BMW X1","index":125,"n_rows":8,"n_cols":4,"rows_kept":8,"cut":false,"hidden":false,"merged":[]}
[]
[]
[null,"Typauswahl für BMW X1","Home","Zurück / back"]
[]
[null,"E84","Auswahl / Select"]
[null,"E84 Facelift","Auswahl / Select"]
[null,"F48","Auswahl / Select"]
[null,"F48 Facelift","Auswahl / Select"]

{"sheet":"E84","index":126,"n_rows":13,"n_cols":4,"rows_kept":13,"cut":false,"hidden":false,"merged":[]}
[]
[]
["TSN/HSN","Motorauswahl für E84","Home","Zurück / back"]
[]
["0005/APY/BDL",{"$f":"HYPERLINK(\"files\\6001.\"&Herstellerauswahl!$C$4,\"BMW X1, 18d sDrive, E84, 143 PS / 105 kW\")","v":"BMW X1, 18d sDrive, E84, 143 PS / 105 kW"},{"$f":"HYPERLINK(\"files\\6001.\"&Herstellerauswahl!$C$4,\"Auswahl / Select 6001\")","v":"Auswahl / Select 6001"}]
["0005/APW/BDP",{"$f":"HYPERLINK(\"files\\6001.\"&Herstellerauswahl!$C$4,\"BMW X1, 20d sDrive, E84, 163 PS / 120 kW\")","v":"BMW X1, 20d sDrive, E84, 163 PS / 120 kW"},{"$f":"HYPERLINK(\"files\\6001.\"&Herstellerauswahl!$C$4,\"Auswahl / Select 6001\")","v":"Auswahl / Select 6001"}]
["0005/APS/BDM",{"$f":"HYPERLINK(\"files\\6001.\"&Herstellerauswahl!$C$4,\"BMW X1, 20d sDrive, E84, 177 PS / 130 kW\")","v":"BMW X1, 20d sDrive, E84, 177 PS / 130 kW"},{"$f":"HYPERLINK(\"files\\6001.\"&Herstellerauswahl!$C$4,\"Auswahl / Select 6001\")","v":"Auswahl / Select 6001"}]
["0005/BHB/BHO",{"$f":"HYPERLINK(\"files\\6001.\"&Herstellerauswahl!$C$4,\"BMW X1, 20d xDrive, E84, 184 PS / 135 kW\")","v":"BMW X1, 20d xDrive, E84, 184 PS / 135 kW"},{"$f":"HYPERLINK(\"files\\6001.\"&Herstellerauswahl!$C$4,\"Auswahl / Select 6001\")","v":"Auswahl / Select 6001"}]
["0005/BGZ",{"$f":"HYPERLINK(\"files\\6001.\"&Herstellerauswahl!$C$4,\"BMW X1, 20i xDrive, E84, 184 PS / 135 kW\")","v":"BMW X1, 20i xDrive, E84, 184 PS / 135 kW"},{"$f":"HYPERLINK(\"files\\6001.\"&Herstellerauswahl!$C$4,\"Auswahl / Select 6001\")","v":"Auswahl / Select 6001"}]
["0005/APU/BAV/BBI/BDK",{"$f":"HYPERLINK(\"files\\6001.\"&Herstellerauswahl!$C$4,\"BMW X1, 23d xDrive, E84, 204 PS / 150 kW\")","v":"BMW X1, 23d xDrive, E84, 204 PS / 150 kW"},{"$f":"HYPERLINK(\"files\\6001.\"&Herstellerauswahl!$C$4,\"Auswahl / Select 6001\")","v":"Auswahl / Select 6001"}]
["0005/AYP",{"$f":"HYPERLINK(\"files\\6001.\"&Herstellerauswahl!$C$4,\"BMW X1, 25i xDrive, E84, 218 PS / 160 kW\")","v":"BMW X1, 25i xDrive, E84, 218 PS / 160 kW"},{"$f":"HYPERLINK(\"files\\6001.\"&Herstellerauswahl!$C$4,\"Auswahl / Select 6001\")","v":"Auswahl / Select 6001"}]
["0005/BED",{"$f":"HYPERLINK(\"files\\6001.\"&Herstellerauswahl!$C$4,\"BMW X1, 28i xDrive, E84, 245 PS / 180 kW\")","v":"BMW X1, 28i xDrive, E84, 245 PS / 180 kW"},{"$f":"HYPERLINK(\"files\\6001.\"&Herstellerauswahl!$C$4,\"Auswahl / Select 6001\")","v":"Auswahl / Select 6001"}]
["0005/APV",{"$f":"HYPERLINK(\"files\\6001.\"&Herstellerauswahl!$C$4,\"BMW X1, 28i xDrive, E84, 258 PS / 190 kW\")","v":"BMW X1, 28i xDrive, E84, 258 PS / 190 kW"},{"$f":"HYPERLINK(\"files\\6001.\"&Herstellerauswahl!$C$4,\"Auswahl / Select 6001\")","v":"Auswahl / Select 6001"}]

{"sheet":"E84 Facelift","index":127,"n_rows":13,"n_cols":4,"rows_kept":13,"cut":false,"hidden":false,"merged":[]}
[]
[]
["TSN/HSN","Motorauswahl für E84 Facelift","Home","Zurück / back"]
[]
["0005/BKF/BNA",{"$f":"HYPERLINK(\"files\\6001.\"&Herstellerauswahl!$C$4,\"BMW X1, 16d sDrive, E84 (LCI), 116 PS / 85 kW\")","v":"BMW X1, 16d sDrive, E84 (LCI), 116 PS / 85 kW"},{"$f":"HYPERLINK(\"files\\6001.\"&Herstellerauswahl!$C$4,\"Auswahl / Select 6001\")","v":"Auswahl / Select 6001"}]
["0005/APY/BDL",{"$f":"HYPERLINK(\"files\\6001.\"&Herstellerauswahl!$C$4,\"BMW X1, 18d sDrive, E84 (LCI), 143 PS / 105 kW\")","v":"BMW X1, 18d sDrive, E84 (LCI), 143 PS / 105 kW"},{"$f":"HYPERLINK(\"files\\6001.\"&Herstellerauswahl!$C$4,\"Auswahl / Select 6001\")","v":"Auswahl / Select 6001"}]
["0005/APZ/AYR/BDQ",{"$f":"HYPERLINK(\"files\\6001.\"&Herstellerauswahl!$C$4,\"BMW X1, 18i sDrive, E84 (LCI), 136 PS / 100 kW\")","v":"BMW X1, 18i sDrive, E84 (LCI), 136 PS / 100 kW"},{"$f":"HYPERLINK(\"files\\6001.\"&Herstellerauswahl!$C$4,\"Auswahl / Select 6001\")","v":"Auswahl / Select 6001"}]
["0005/AYQ",{"$f":"HYPERLINK(\"files\\6001.\"&Herstellerauswahl!$C$4,\"BMW X1, 18i sDrive, E84 (LCI), 150 PS / 110 kW\")","v":"BMW X1, 18i sDrive, E84 (LCI), 150 PS / 110 kW"},{"$f":"HYPERLINK(\"files\\6001.\"&Herstellerauswahl!$C$4,\"Auswahl / Select 6001\")","v":"Auswahl / Select 6001"}]
["0005/BGZ",{"$f":"HYPERLINK(\"files\\6001.\"&Herstellerauswahl!$C$4,\"BMW X1, 20i sDrive, E84 (LCI), 184 PS / 135 kW\")","v":"BMW X1, 20i sDrive, E84 (LCI), 184 PS / 135 kW"},{"$f":"HYPERLINK(\"files\\6001.\"&Herstellerauswahl!$C$4,\"Auswahl / Select 6001\")","v":"Auswahl / Select 6001"}]
["0005/APW/BDP",{"$f":"HYPERLINK(\"files\\6001.\"&Herstellerauswahl!$C$4,\"BMW X1, 20d sDrive, E84 (LCI), 163 PS / 120 kW\")","v":"BMW X1, 20d sDrive, E84 (LCI), 163 PS / 120 kW"},{"$f":"HYPERLINK(\"files\\6001.\"&Herstellerauswahl!$C$4,\"Auswahl / Select 6001\")","v":"Auswahl / Select 6001"}]
["0005/BHB/BHO",{"$f":"HYPERLINK(\"files\\6001.\"&Herstellerauswahl!$C$4,\"BMW X1, 20d sDrive, E84 (LCI), 184 PS / 135 kW\")","v":"BMW X1, 20d sDrive, E84 (LCI), 184 PS / 135 kW"},{"$f":"HYPERLINK(\"files\\6001.\"&Herstellerauswahl!$C$4,\"Auswahl / Select 6001\")","v":"Auswahl / Select 6001"}]
["0005/BHD/BHM",{"$f":"HYPERLINK(\"files\\6001.\"&Herstellerauswahl!$C$4,\"BMW X1, 25d xDrive, E84 (LCI), 218 PS / 160 kW\")","v":"BMW X1, 25d xDrive, E84 (LCI), 218 PS / 160 kW"},{"$f":"HYPERLINK(\"files\\6001.\"&Herstellerauswahl!$C$4,\"Auswahl / Select 6001\")","v":"Auswahl / Select 6001"}]
["0005/BED",{"$f":"HYPERLINK(\"files\\6001.\"&Herstellerauswahl!$C$4,\"BMW X1, 28i xDrive, E84 (LCI), 245 PS / 180 kW\")","v":"BMW X1, 28i xDrive, E84 (LCI), 245 PS / 180 kW"},{"$f":"HYPERLINK(\"files\\6001.\"&Herstellerauswahl!$C$4,\"Auswahl / Select 6001\")","v":"Auswahl / Select 6001"}]

{"sheet":"F48","index":128,"n_rows":19,"n_cols":4,"rows_kept":19,"cut":false,"hidden":false,"merged":[]}
[]
[]
["TSN/HSN","Motorauswahl für F48","Home","Zurück / back"]
[]
["0005/CCD/CKU",{"$f":"HYPERLINK(\"files\\6005.\"&Herstellerauswahl!$C$4,\"BMW X1, 16d sDrive, F48, 116 PS / 85 kW\")","v":"BMW X1, 16d sDrive, F48, 116 PS / 85 kW"},{"$f":"HYPERLINK(\"files\\6005.\"&Herstellerauswahl!$C$4,\"Auswahl / Select 6005\")","v":"Auswahl / Select 6005"}]
["0005/CCF/CKW",{"$f":"HYPERLINK(\"files\\6005.\"&Herstellerauswahl!$C$4,\"BMW X1, 18d sDrive, F48, 136 PS / 100 kW\")","v":"BMW X1, 18d sDrive, F48, 136 PS / 100 kW"},{"$f":"HYPERLINK(\"files\\6005.\"&Herstellerauswahl!$C$4,\"Auswahl / Select 6005\")","v":"Auswahl / Select 6005"}]
["0005/CCE/CKV",{"$f":"HYPERLINK(\"files\\6005.\"&Herstellerauswahl!$C$4,\"BMW X1, 18d sDrive, F48, 150 PS / 110 kW\")","v":"BMW X1, 18d sDrive, F48, 150 PS / 110 kW"},{"$f":"HYPERLINK(\"files\\6005.\"&Herstellerauswahl!$C$4,\"Auswahl / Select 6005\")","v":"Auswahl / Select 6005"}]
["0005/CBZ/CKQ",{"$f":"HYPERLINK(\"files\\6005.\"&Herstellerauswahl!$C$4,\"BMW X1, 18i sDrive, F48, 136 PS / 100 kW\")","v":"BMW X1, 18i sDrive, F48, 136 PS / 100 kW"},{"$f":"HYPERLINK(\"files\\6005.\"&Herstellerauswahl!$C$4,\"Auswahl / Select 6005\")","v":"Auswahl / Select 6005"}]
["0005/CPA",{"$f":"HYPERLINK(\"files\\6005.\"&Herstellerauswahl!$C$4,\"BMW X1, 18i sDrive, F48, 140 PS / 103 kW\")","v":"BMW X1, 18i sDrive, F48, 140 PS / 103 kW"},{"$f":"HYPERLINK(\"files\\6005.\"&Herstellerauswahl!$C$4,\"Auswahl / Select 6005\")","v":"Auswahl / Select 6005"}]
["0005/CCG/CKX",{"$f":"HYPERLINK(\"files\\6005.\"&Herstellerauswahl!$C$4,\"BMW X1, 20d sDrive, F48, 190 PS / 140 kW\")","v":"BMW X1, 20d sDrive, F48, 190 PS / 140 kW"},{"$f":"HYPERLINK(\"files\\6005.\"&Herstellerauswahl!$C$4,\"Auswahl / Select 6005\")","v":"Auswahl / Select 6005"}]
["0005/CCH/CKY",{"$f":"HYPERLINK(\"files\\6005.\"&Herstellerauswahl!$C$4,\"BMW X1, 20d sDrive, F48, 163 PS / 120 kW\")","v":"BMW X1, 20d sDrive, F48, 163 PS / 120 kW"},{"$f":"HYPERLINK(\"files\\6005.\"&Herstellerauswahl!$C$4,\"Auswahl / Select 6005\")","v":"Auswahl / Select 6005"}]
["0005/CCA/CKR",{"$f":"HYPERLINK(\"files\\6005.\"&Herstellerauswahl!$C$4,\"BMW X1, 20i sDrive, F48, 192 PS / 141 kW\")","v":"BMW X1, 20i sDrive, F48, 192 PS / 141 kW"},{"$f":"HYPERLINK(\"files\\6005.\"&Herstellerauswahl!$C$4,\"Auswahl / Select 6005\")","v":"Auswahl / Select 6005"}]
["0005/CCI/CKZ",{"$f":"HYPERLINK(\"files\\6005.\"&Herstellerauswahl!$C$4,\"BMW X1, 18d xDrive, F48, 150 PS / 110 kW\")","v":"BMW X1, 18d xDrive, F48, 150 PS / 110 kW"},{"$f":"HYPERLINK(\"files\\6005.\"&Herstellerauswahl!$C$4,\"Auswahl / Select 6005\")","v":"Auswahl / Select 6005"}]
["0005/CCJ/CLA",{"$f":"HYPERLINK(\"files\\6005.\"&Herstellerauswahl!$C$4,\"BMW X1, 18d xDrive, F48, 136 PS / 100 kW\")","v":"BMW X1, 18d xDrive, F48, 136 PS / 100 kW"},{"$f":"HYPERLINK(\"files\\6005.\"&Herstellerauswahl!$C$4,\"Auswahl / Select 6005\")","v":"Auswahl / Select 6005"}]
["0005/CCL/CLC",{"$f":"HYPERLINK(\"files\\6005.\"&Herstellerauswahl!$C$4,\"BMW X1, 20d xDrive, F48, 163 PS / 120 kW\")","v":"BMW X1, 20d xDrive, F48, 163 PS / 120 kW"},{"$f":"HYPERLINK(\"files\\6005.\"&Herstellerauswahl!$C$4,\"Auswahl / Select 6005\")","v":"Auswahl / Select 6005"}]
["0005/CCK/CLB",{"$f":"HYPERLINK(\"files\\6005.\"&Herstellerauswahl!$C$4,\"BMW X1, 20d xDrive, F48, 190 PS / 140 kW\")","v":"BMW X1, 20d xDrive, F48, 190 PS / 140 kW"},{"$f":"HYPERLINK(\"files\\6005.\"&Herstellerauswahl!$C$4,\"Auswahl / Select 6005\")","v":"Auswahl / Select 6005"}]
["0005/CCB/CKS",{"$f":"HYPERLINK(\"files\\6005.\"&Herstellerauswahl!$C$4,\"BMW X1, 20i xDrive, F48, 192 PS / 141 kW\")","v":"BMW X1, 20i xDrive, F48, 192 PS / 141 kW"},{"$f":"HYPERLINK(\"files\\6005.\"&Herstellerauswahl!$C$4,\"Auswahl / Select 6005\")","v":"Auswahl / Select 6005"}]
["0005/CCM/CLD",{"$f":"HYPERLINK(\"files\\6005.\"&Herstellerauswahl!$C$4,\"BMW X1, 25d xDrive, F48, 231 PS / 170 kW\")","v":"BMW X1, 25d xDrive, F48, 231 PS / 170 kW"},{"$f":"HYPERLINK(\"files\\6005.\"&Herstellerauswahl!$C$4,\"Auswahl / Select 6005\")","v":"Auswahl / Select 6005"}]
["0005/CCC/CKT",{"$f":"HYPERLINK(\"files\\6005.\"&Herstellerauswahl!$C$4,\"BMW X1, 25i xDrive, F48, 231 PS / 170 kW\")","v":"BMW X1, 25i xDrive, F48, 231 PS / 170 kW"},{"$f":"HYPERLINK(\"files\\6005.\"&Herstellerauswahl!$C$4,\"Auswahl / Select 6005\")","v":"Auswahl / Select 6005"}]

{"sheet":"F48 Facelift","index":129,"n_rows":22,"n_cols":4,"rows_kept":22,"cut":false,"hidden":false,"merged":[]}
[]
[]
["TSN/HSN","Motorauswahl für F48 Facelift","Home","Zurück / back"]
[]
["0005/CKU",{"$f":"HYPERLINK(\"files\\6005.\"&Herstellerauswahl!$C$4,\"BMW X1, 16d sDrive, F48 (LCI), 116 PS / 85 kW\")","v":"BMW X1, 16d sDrive, F48 (LCI), 116 PS / 85 kW"},{"$f":"HYPERLINK(\"files\\6005.\"&Herstellerauswahl!$C$4,\"Auswahl / Select 6005\")","v":"Auswahl / Select 6005"}]
["0005/CKW",{"$f":"HYPERLINK(\"files\\6005.\"&Herstellerauswahl!$C$4,\"BMW X1, 18d sDrive, F48 (LCI), 136 PS / 100 kW\")","v":"BMW X1, 18d sDrive, F48 (LCI), 136 PS / 100 kW"},{"$f":"HYPERLINK(\"files\\6005.\"&Herstellerauswahl!$C$4,\"Auswahl / Select 6005\")","v":"Auswahl / Select 6005"}]
["0005/CKV",{"$f":"HYPERLINK(\"files\\6005.\"&Herstellerauswahl!$C$4,\"BMW X1, 18d sDrive, F48 (LCI), 150 PS / 110 kW\")","v":"BMW X1, 18d sDrive, F48 (LCI), 150 PS / 110 kW"},{"$f":"HYPERLINK(\"files\\6005.\"&Herstellerauswahl!$C$4,\"Auswahl / Select 6005\")","v":"Auswahl / Select 6005"}]
["0005/CKQ",{"$f":"HYPERLINK(\"files\\6005.\"&Herstellerauswahl!$C$4,\"BMW X1, 18i sDrive, F48 (LCI), 136 PS / 100 kW\")","v":"BMW X1, 18i sDrive, F48 (LCI), 136 PS / 100 kW"},{"$f":"HYPERLINK(\"files\\6005.\"&Herstellerauswahl!$C$4,\"Auswahl / Select 6005\")","v":"Auswahl / Select 6005"}]
["0005/CPA",{"$f":"HYPERLINK(\"files\\6005.\"&Herstellerauswahl!$C$4,\"BMW X1, 18i sDrive, F48 (LCI), 140 PS / 103 kW\")","v":"BMW X1, 18i sDrive, F48 (LCI), 140 PS / 103 kW"},{"$f":"HYPERLINK(\"files\\6005.\"&Herstellerauswahl!$C$4,\"Auswahl / Select 6005\")","v":"Auswahl / Select 6005"}]
["0005/CKY",{"$f":"HYPERLINK(\"files\\6005.\"&Herstellerauswahl!$C$4,\"BMW X1, 20d sDrive, F48 (LCI), 163 PS / 120 kW\")","v":"BMW X1, 20d sDrive, F48 (LCI), 163 PS / 120 kW"},{"$f":"HYPERLINK(\"files\\6005.\"&Herstellerauswahl!$C$4,\"Auswahl / Select 6005\")","v":"Auswahl / Select 6005"}]
["0005/CKX",{"$f":"HYPERLINK(\"files\\6005.\"&Herstellerauswahl!$C$4,\"BMW X1, 20d sDrive, F48 (LCI), 190 PS / 140 kW\")","v":"BMW X1, 20d sDrive, F48 (LCI), 190 PS / 140 kW"},{"$f":"HYPERLINK(\"files\\6005.\"&Herstellerauswahl!$C$4,\"Auswahl / Select 6005\")","v":"Auswahl / Select 6005"}]
["0005/CKR",{"$f":"HYPERLINK(\"files\\6005.\"&Herstellerauswahl!$C$4,\"BMW X1, 20i sDrive, F48 (LCI), 192 PS / 141 kW\")","v":"BMW X1, 20i sDrive, F48 (LCI), 192 PS / 141 kW"},{"$f":"HYPERLINK(\"files\\6005.\"&Herstellerauswahl!$C$4,\"Auswahl / Select 6005\")","v":"Auswahl / Select 6005"}]
["0005/DCU",{"$f":"HYPERLINK(\"files\\6005.\"&Herstellerauswahl!$C$4,\"BMW X1, 20i sDrive, F48 (LCI), 178 PS / 131 kW\")","v":"BMW X1, 20i sDrive, F48 (LCI), 178 PS / 131 kW"},{"$f":"HYPERLINK(\"files\\6005.\"&Herstellerauswahl!$C$4,\"Auswahl / Select 6005\")","v":"Auswahl / Select 6005"}]
["0005/CLA",{"$f":"HYPERLINK(\"files\\6005.\"&Herstellerauswahl!$C$4,\"BMW X1, 18d xDrive, F48 (LCI), 136 PS / 100 kW\")","v":"BMW X1, 18d xDrive, F48 (LCI), 136 PS / 100 kW"},{"$f":"HYPERLINK(\"files\\6005.\"&Herstellerauswahl!$C$4,\"Auswahl / Select 6005\")","v":"Auswahl / Select 6005"}]
["0005/CKZ",{"$f":"HYPERLINK(\"files\\6005.\"&Herstellerauswahl!$C$4,\"BMW X1, 18d xDrive, F48 (LCI), 150 PS / 110 kW\")","v":"BMW X1, 18d xDrive, F48 (LCI), 150 PS / 110 kW"},{"$f":"HYPERLINK(\"files\\6005.\"&Herstellerauswahl!$C$4,\"Auswahl / Select 6005\")","v":"Auswahl / Select 6005"}]
["0005/CLC",{"$f":"HYPERLINK(\"files\\6005.\"&Herstellerauswahl!$C$4,\"BMW X1, 20d xDrive, F48 (LCI), 163 PS / 120 kW\")","v":"BMW X1, 20d xDrive, F48 (LCI), 163 PS / 120 kW"},{"$f":"HYPERLINK(\"files\\6005.\"&Herstellerauswahl!$C$4,\"Auswahl / Select 6005\")","v":"Auswahl / Select 6005"}]
["0005/CLB",{"$f":"HYPERLINK(\"files\\6005.\"&Herstellerauswahl!$C$4,\"BMW X1, 20d xDrive, F48 (LCI), 190 PS / 140 kW\")","v":"BMW X1, 20d xDrive, F48 (LCI), 190 PS / 140 kW"},{"$f":"HYPERLINK(\"files\\6005.\"&Herstellerauswahl!$C$4,\"Auswahl / Select 6005\")","v":"Auswahl / Select 6005"}]
["0005/CKS",{"$f":"HYPERLINK(\"files\\6005.\"&Herstellerauswahl!$C$4,\"BMW X1, 20i xDrive, F48 (LCI), 192 PS / 141 kW\")","v":"BMW X1, 20i xDrive, F48 (LCI), 192 PS / 141 kW"},{"$f":"HYPERLINK(\"files\\6005.\"&Herstellerauswahl!$C$4,\"Auswahl / Select 6005\")","v":"Auswahl / Select 6005"}]
["0005/DCV",{"$f":"HYPERLINK(\"files\\6005.\"&Herstellerauswahl!$C$4,\"BMW X1, 20i xDrive, F48 (LCI), 178 PS / 131 kW\")","v":"BMW X1, 20i xDrive, F48 (LCI), 178 PS / 131 kW"},{"$f":"HYPERLINK(\"files\\6005.\"&Herstellerauswahl!$C$4,\"Auswahl / Select 6005\")","v":"Auswahl / Select 6005"}]
["0005/CLD",{"$f":"HYPERLINK(\"files\\6005.\"&Herstellerauswahl!$C$4,\"BMW X1, 25d xDrive, F48 (LCI), 231 PS / 170 kW\")","v":"BMW X1, 25d xDrive, F48 (LCI), 231 PS / 170 kW"},{"$f":"HYPERLINK(\"files\\6005.\"&Herstellerauswahl!$C$4,\"Auswahl / Select 6005\")","v":"Auswahl / Select 6005"}]
["0005/CKT",{"$f":"HYPERLINK(\"files\\6005.\"&Herstellerauswahl!$C$4,\"BMW X1, 25i xDrive, F48 (LCI), 231 PS / 170 kW\")","v":"BMW X1, 25i xDrive, F48 (LCI), 231 PS / 170 kW"},{"$f":"HYPERLINK(\"files\\6005.\"&Herstellerauswahl!$C$4,\"Auswahl / Select 6005\")","v":"Auswahl / Select 6005"}]
["0005/CYH",{"$f":"HYPERLINK(\"files\\6005.\"&Herstellerauswahl!$C$4,\"BMW X1, 25e xDrive, F48 (LCI), 125 PS / 92 kW\")","v":"BMW X1, 25e xDrive, F48 (LCI), 125 PS / 92 kW"},{"$f":"HYPERLINK(\"files\\6005.\"&Herstellerauswahl!$C$4,\"Auswahl / Select 6005\")","v":"Auswahl / Select 6005"}]

{"sheet":"BMW X2","index":130,"n_rows":5,"n_cols":4,"rows_kept":5,"cut":false,"hidden":false,"merged":[]}
[]
[]
[null,"Typauswahl für BMW X2","Home","Zurück / back"]
[]
[null,"F39","Auswahl / Select"]

{"sheet":"F39","index":131,"n_rows":22,"n_cols":4,"rows_kept":22,"cut":false,"hidden":false,"merged":[]}
[]
[]
["TSN/HSN","Motorauswahl für F39","Home","Zurück / back"]
[]
["0005/CRC",{"$f":"HYPERLINK(\"files\\6007.\"&Herstellerauswahl!$C$4,\"BMW X2, M35i xDrive, F39, 306 PS / 225 kW\")","v":"BMW X2, M35i xDrive, F39, 306 PS / 225 kW"},{"$f":"HYPERLINK(\"files\\6007.\"&Herstellerauswahl!$C$4,\"Auswahl / Select 6007\")","v":"Auswahl / Select 6007"}]
["0005/CRD",{"$f":"HYPERLINK(\"files\\6007.\"&Herstellerauswahl!$C$4,\"BMW X2, 16d sDrive, F39, 116 PS / 85 kW\")","v":"BMW X2, 16d sDrive, F39, 116 PS / 85 kW"},{"$f":"HYPERLINK(\"files\\6007.\"&Herstellerauswahl!$C$4,\"Auswahl / Select 6007\")","v":"Auswahl / Select 6007"}]
["0005/CRE",{"$f":"HYPERLINK(\"files\\6007.\"&Herstellerauswahl!$C$4,\"BMW X2, 18d sDrive, F39, 150 PS / 110 kW\")","v":"BMW X2, 18d sDrive, F39, 150 PS / 110 kW"},{"$f":"HYPERLINK(\"files\\6007.\"&Herstellerauswahl!$C$4,\"Auswahl / Select 6007\")","v":"Auswahl / Select 6007"}]
["0005/CRF",{"$f":"HYPERLINK(\"files\\6007.\"&Herstellerauswahl!$C$4,\"BMW X2, 18d sDrive, F39, 136 PS / 100 kW\")","v":"BMW X2, 18d sDrive, F39, 136 PS / 100 kW"},{"$f":"HYPERLINK(\"files\\6007.\"&Herstellerauswahl!$C$4,\"Auswahl / Select 6007\")","v":"Auswahl / Select 6007"}]
["0005/CQY",{"$f":"HYPERLINK(\"files\\6007.\"&Herstellerauswahl!$C$4,\"BMW X2, 18i sDrive, F39, 140 PS / 103 kW\")","v":"BMW X2, 18i sDrive, F39, 140 PS / 103 kW"},{"$f":"HYPERLINK(\"files\\6007.\"&Herstellerauswahl!$C$4,\"Auswahl / Select 6007\")","v":"Auswahl / Select 6007"}]
["0005/CQZ",{"$f":"HYPERLINK(\"files\\6007.\"&Herstellerauswahl!$C$4,\"BMW X2, 18i sDrive, F39, 136 PS / 100 kW\")","v":"BMW X2, 18i sDrive, F39, 136 PS / 100 kW"},{"$f":"HYPERLINK(\"files\\6007.\"&Herstellerauswahl!$C$4,\"Auswahl / Select 6007\")","v":"Auswahl / Select 6007"}]
["0005/CRG",{"$f":"HYPERLINK(\"files\\6007.\"&Herstellerauswahl!$C$4,\"BMW X2, 20d sDrive, F39, 190 PS / 140 kW\")","v":"BMW X2, 20d sDrive, F39, 190 PS / 140 kW"},{"$f":"HYPERLINK(\"files\\6007.\"&Herstellerauswahl!$C$4,\"Auswahl / Select 6007\")","v":"Auswahl / Select 6007"}]
["0005/CRH",{"$f":"HYPERLINK(\"files\\6007.\"&Herstellerauswahl!$C$4,\"BMW X2, 20d sDrive, F39, 163 PS / 120 kW\")","v":"BMW X2, 20d sDrive, F39, 163 PS / 120 kW"},{"$f":"HYPERLINK(\"files\\6007.\"&Herstellerauswahl!$C$4,\"Auswahl / Select 6007\")","v":"Auswahl / Select 6007"}]
["0005/CRA",{"$f":"HYPERLINK(\"files\\6007.\"&Herstellerauswahl!$C$4,\"BMW X2, 20i sDrive, F39, 192 PS / 141 kW\")","v":"BMW X2, 20i sDrive, F39, 192 PS / 141 kW"},{"$f":"HYPERLINK(\"files\\6007.\"&Herstellerauswahl!$C$4,\"Auswahl / Select 6007\")","v":"Auswahl / Select 6007"}]
["0005/DCW",{"$f":"HYPERLINK(\"files\\6007.\"&Herstellerauswahl!$C$4,\"BMW X2, 20i sDrive, F39, 178 PS / 131 kW\")","v":"BMW X2, 20i sDrive, F39, 178 PS / 131 kW"},{"$f":"HYPERLINK(\"files\\6007.\"&Herstellerauswahl!$C$4,\"Auswahl / Select 6007\")","v":"Auswahl / Select 6007"}]
["0005/CRI",{"$f":"HYPERLINK(\"files\\6007.\"&Herstellerauswahl!$C$4,\"BMW X2, 18d xDrive, F39, 150 PS / 110 kW\")","v":"BMW X2, 18d xDrive, F39, 150 PS / 110 kW"},{"$f":"HYPERLINK(\"files\\6007.\"&Herstellerauswahl!$C$4,\"Auswahl / Select 6007\")","v":"Auswahl / Select 6007"}]
["0005/CRJ",{"$f":"HYPERLINK(\"files\\6007.\"&Herstellerauswahl!$C$4,\"BMW X2, 18d xDrive, F39, 136 PS / 100 kW\")","v":"BMW X2, 18d xDrive, F39, 136 PS / 100 kW"},{"$f":"HYPERLINK(\"files\\6007.\"&Herstellerauswahl!$C$4,\"Auswahl / Select 6007\")","v":"Auswahl / Select 6007"}]
["0005/CRK",{"$f":"HYPERLINK(\"files\\6007.\"&Herstellerauswahl!$C$4,\"BMW X2, 20d xDrive, F39, 190 PS / 140 kW\")","v":"BMW X2, 20d xDrive, F39, 190 PS / 140 kW"},{"$f":"HYPERLINK(\"files\\6007.\"&Herstellerauswahl!$C$4,\"Auswahl / Select 6007\")","v":"Auswahl / Select 6007"}]
["0005/CRL",{"$f":"HYPERLINK(\"files\\6007.\"&Herstellerauswahl!$C$4,\"BMW X2, 20d xDrive, F39, 163 PS / 120 kW\")","v":"BMW X2, 20d xDrive, F39, 163 PS / 120 kW"},{"$f":"HYPERLINK(\"files\\6007.\"&Herstellerauswahl!$C$4,\"Auswahl / Select 6007\")","v":"Auswahl / Select 6007"}]
["0005/CRB",{"$f":"HYPERLINK(\"files\\6007.\"&Herstellerauswahl!$C$4,\"BMW X2, 20i xDrive, F39, 192 PS / 141 kW\")","v":"BMW X2, 20i xDrive, F39, 192 PS / 141 kW"},{"$f":"HYPERLINK(\"files\\6007.\"&Herstellerauswahl!$C$4,\"Auswahl / Select 6007\")","v":"Auswahl / Select 6007"}]
["0005/DCX",{"$f":"HYPERLINK(\"files\\6007.\"&Herstellerauswahl!$C$4,\"BMW X2, 20i xDrive, F39, 464 PS / 341 kW\")","v":"BMW X2, 20i xDrive, F39, 464 PS / 341 kW"},{"$f":"HYPERLINK(\"files\\6007.\"&Herstellerauswahl!$C$4,\"Auswahl / Select 6007\")","v":"Auswahl / Select 6007"}]
["0005/CRM",{"$f":"HYPERLINK(\"files\\6007.\"&Herstellerauswahl!$C$4,\"BMW X2, 25d xDrive, F39, 231 PS / 170 kW\")","v":"BMW X2, 25d xDrive, F39, 231 PS / 170 kW"},{"$f":"HYPERLINK(\"files\\6007.\"&Herstellerauswahl!$C$4,\"Auswahl / Select 6007\")","v":"Auswahl / Select 6007"}]
["0005/DAY",{"$f":"HYPERLINK(\"files\\6007.\"&Herstellerauswahl!$C$4,\"BMW X2, 25e xDrive, F39, 125 PS / 92 kW\")","v":"BMW X2, 25e xDrive, F39, 125 PS / 92 kW"},{"$f":"HYPERLINK(\"files\\6007.\"&Herstellerauswahl!$C$4,\"Auswahl / Select 6007\")","v":"Auswahl / Select 6007"}]

{"sheet":"BMW X3","index":132,"n_rows":12,"n_cols":4,"rows_kept":12,"cut":false,"hidden":false,"merged":[]}
[]
[]
[null,"Typauswahl für BMW X3","Home","Zurück / back"]
[]
[null,"E83","Auswahl / Select"]
[null,"E83 Facelift","Auswahl / Select"]
[null,"F25","Auswahl / Select"]
[null,"F25 Facelift","Auswahl / Select"]
[null,"G01","Auswahl / Select"]
[null,"G01 Facelift","Auswahl / Select"]
[null,"G08","Auswahl / Select"]
[null,"F97 X3M","Auswahl / Select"]

{"sheet":"E83","index":133,"n_rows":10,"n_cols":4,"rows_kept":10,"cut":false,"hidden":false,"merged":[]}
[]
[]
["TSN/HSN","Motorauswahl für E83","Home","Zurück / back"]
[]
["0005/851",{"$f":"HYPERLINK(\"files\\7001.\"&Herstellerauswahl!$C$4,\"BMW X3, 20i xDrive, E83, 150 PS / 110 kW\")","v":"BMW X3, 20i xDrive, E83, 150 PS / 110 kW"},{"$f":"HYPERLINK(\"files\\7001.\"&Herstellerauswahl!$C$4,\"Auswahl / Select 7001\")","v":"Auswahl / Select 7001"}]
["0005/808/ACD",{"$f":"HYPERLINK(\"files\\7001.\"&Herstellerauswahl!$C$4,\"BMW X3, 20d xDrive, E83, 150 PS / 110 kW\")","v":"BMW X3, 20d xDrive, E83, 150 PS / 110 kW"},{"$f":"HYPERLINK(\"files\\7001.\"&Herstellerauswahl!$C$4,\"Auswahl / Select 7001\")","v":"Auswahl / Select 7001"}]
["0005/789",{"$f":"HYPERLINK(\"files\\7001.\"&Herstellerauswahl!$C$4,\"BMW X3, 25i xDrive, E83, 192 PS / 141 kW\")","v":"BMW X3, 25i xDrive, E83, 192 PS / 141 kW"},{"$f":"HYPERLINK(\"files\\7001.\"&Herstellerauswahl!$C$4,\"Auswahl / Select 7001\")","v":"Auswahl / Select 7001"}]
["0005/787",{"$f":"HYPERLINK(\"files\\7001.\"&Herstellerauswahl!$C$4,\"BMW X3, 30i xDrive, E83, 231 PS / 170 kW\")","v":"BMW X3, 30i xDrive, E83, 231 PS / 170 kW"},{"$f":"HYPERLINK(\"files\\7001.\"&Herstellerauswahl!$C$4,\"Auswahl / Select 7001\")","v":"Auswahl / Select 7001"}]
["0005/788",{"$f":"HYPERLINK(\"files\\7001.\"&Herstellerauswahl!$C$4,\"BMW X3, 30d xDrive, E83, 204 PS / 150 kW\")","v":"BMW X3, 30d xDrive, E83, 204 PS / 150 kW"},{"$f":"HYPERLINK(\"files\\7001.\"&Herstellerauswahl!$C$4,\"Auswahl / Select 7001\")","v":"Auswahl / Select 7001"}]
["0005/853/ACB",{"$f":"HYPERLINK(\"files\\7001.\"&Herstellerauswahl!$C$4,\"BMW X3, 30d xDrive, E83, 218 PS / 160 kW\")","v":"BMW X3, 30d xDrive, E83, 218 PS / 160 kW"},{"$f":"HYPERLINK(\"files\\7001.\"&Herstellerauswahl!$C$4,\"Auswahl / Select 7001\")","v":"Auswahl / Select 7001"}]

{"sheet":"E83 Facelift","index":134,"n_rows":13,"n_cols":4,"rows_kept":13,"cut":false,"hidden":false,"merged":[]}
[]
[]
["TSN/HSN","Motorauswahl für E83 Facelift","Home","Zurück / back"]
[]
["",{"$f":"HYPERLINK(\"files\\7001.\"&Herstellerauswahl!$C$4,\"BMW X3, 18d xDrive, E83 (LCI), 143 PS / 105 kW\")","v":"BMW X3, 18d xDrive, E83 (LCI), 143 PS / 105 kW"},{"$f":"HYPERLINK(\"files\\7001.\"&Herstellerauswahl!$C$4,\"Auswahl / Select 7001\")","v":"Auswahl / Select 7001"}]
["0005/APG",{"$f":"HYPERLINK(\"files\\7001.\"&Herstellerauswahl!$C$4,\"BMW X3, 20d xDrive, E83 (LCI), 143 PS / 105 kW\")","v":"BMW X3, 20d xDrive, E83 (LCI), 143 PS / 105 kW"},{"$f":"HYPERLINK(\"files\\7001.\"&Herstellerauswahl!$C$4,\"Auswahl / Select 7001\")","v":"Auswahl / Select 7001"}]
["0005/ACD",{"$f":"HYPERLINK(\"files\\7001.\"&Herstellerauswahl!$C$4,\"BMW X3, 20d xDrive, E83 (LCI), 150 PS / 110 kW\")","v":"BMW X3, 20d xDrive, E83 (LCI), 150 PS / 110 kW"},{"$f":"HYPERLINK(\"files\\7001.\"&Herstellerauswahl!$C$4,\"Auswahl / Select 7001\")","v":"Auswahl / Select 7001"}]
["0005/AGS/AKL",{"$f":"HYPERLINK(\"files\\7001.\"&Herstellerauswahl!$C$4,\"BMW X3, 20i xDrive, E83 (LCI), 150 PS / 110 kW\")","v":"BMW X3, 20i xDrive, E83 (LCI), 150 PS / 110 kW"},{"$f":"HYPERLINK(\"files\\7001.\"&Herstellerauswahl!$C$4,\"Auswahl / Select 7001\")","v":"Auswahl / Select 7001"}]
["0005/AFA/AKM",{"$f":"HYPERLINK(\"files\\7001.\"&Herstellerauswahl!$C$4,\"BMW X3, 25i sDrive, E83 (LCI), 218 PS / 160 kW\")","v":"BMW X3, 25i sDrive, E83 (LCI), 218 PS / 160 kW"},{"$f":"HYPERLINK(\"files\\7001.\"&Herstellerauswahl!$C$4,\"Auswahl / Select 7001\")","v":"Auswahl / Select 7001"}]
["0005/AFB/AKR",{"$f":"HYPERLINK(\"files\\7001.\"&Herstellerauswahl!$C$4,\"BMW X3, 30i sDrive, E83 (LCI), 272 PS / 200 kW\")","v":"BMW X3, 30i sDrive, E83 (LCI), 272 PS / 200 kW"},{"$f":"HYPERLINK(\"files\\7001.\"&Herstellerauswahl!$C$4,\"Auswahl / Select 7001\")","v":"Auswahl / Select 7001"}]
["",{"$f":"HYPERLINK(\"files\\7001.\"&Herstellerauswahl!$C$4,\"BMW X3, 30i xDrive, E83 (LCI), 218 PS / 160 kW\")","v":"BMW X3, 30i xDrive, E83 (LCI), 218 PS / 160 kW"},{"$f":"HYPERLINK(\"files\\7001.\"&Herstellerauswahl!$C$4,\"Auswahl / Select 7001\")","v":"Auswahl / Select 7001"}]
["0005/ACB/AKO",{"$f":"HYPERLINK(\"files\\7001.\"&Herstellerauswahl!$C$4,\"BMW X3, 30d xDrive, E83 (LCI), 218 PS / 160 kW\")","v":"BMW X3, 30d xDrive, E83 (LCI), 218 PS / 160 kW"},{"$f":"HYPERLINK(\"files\\7001.\"&Herstellerauswahl!$C$4,\"Auswahl / Select 7001\")","v":"Auswahl / Select 7001"}]
["0005/AEZ/AKQ",{"$f":"HYPERLINK(\"files\\7001.\"&Herstellerauswahl!$C$4,\"BMW X3, 35d xDrive, E83 (LCI), 286 PS / 210 kW\")","v":"BMW X3, 35d xDrive, E83 (LCI), 286 PS / 210 kW"},{"$f":"HYPERLINK(\"files\\7001.\"&Herstellerauswahl!$C$4,\"Auswahl / Select 7001\")","v":"Auswahl / Select 7001"}]

{"sheet":"F25","index":135,"n_rows":13,"n_cols":4,"rows_kept":13,"cut":false,"hidden":false,"merged":[]}
[]
[]
["TSN/HSN","Motorauswahl für F25","Home","Zurück / back"]
[]
["0005/BGU/BNX",{"$f":"HYPERLINK(\"files\\7007.\"&Herstellerauswahl!$C$4,\"BMW X3, 18d sDrive, F25, 143 PS / 105 kW\")","v":"BMW X3, 18d sDrive, F25, 143 PS / 105 kW"},{"$f":"HYPERLINK(\"files\\7007.\"&Herstellerauswahl!$C$4,\"Auswahl / Select 7007\")","v":"Auswahl / Select 7007"}]
["0005/BGR/BHX",{"$f":"HYPERLINK(\"files\\7007.\"&Herstellerauswahl!$C$4,\"BMW X3, 20i xDrive, F25, 184 PS / 135 kW\")","v":"BMW X3, 20i xDrive, F25, 184 PS / 135 kW"},{"$f":"HYPERLINK(\"files\\7007.\"&Herstellerauswahl!$C$4,\"Auswahl / Select 7007\")","v":"Auswahl / Select 7007"}]
["",{"$f":"HYPERLINK(\"files\\7007.\"&Herstellerauswahl!$C$4,\"BMW X3, 20d xDrive, F25, 190 PS / 140 kW\")","v":"BMW X3, 20d xDrive, F25, 190 PS / 140 kW"},{"$f":"HYPERLINK(\"files\\7007.\"&Herstellerauswahl!$C$4,\"Auswahl / Select 7007\")","v":"Auswahl / Select 7007"}]
["0005/AZU/BHE",{"$f":"HYPERLINK(\"files\\7007.\"&Herstellerauswahl!$C$4,\"BMW X3, 20d xDrive, F25, 184 PS / 135 kW\")","v":"BMW X3, 20d xDrive, F25, 184 PS / 135 kW"},{"$f":"HYPERLINK(\"files\\7007.\"&Herstellerauswahl!$C$4,\"Auswahl / Select 7007\")","v":"Auswahl / Select 7007"}]
["0005/BGS/BMA",{"$f":"HYPERLINK(\"files\\7007.\"&Herstellerauswahl!$C$4,\"BMW X3, 28i xDrive, F25, 245 PS / 180 kW\")","v":"BMW X3, 28i xDrive, F25, 245 PS / 180 kW"},{"$f":"HYPERLINK(\"files\\7007.\"&Herstellerauswahl!$C$4,\"Auswahl / Select 7007\")","v":"Auswahl / Select 7007"}]
["0005/AZS",{"$f":"HYPERLINK(\"files\\7007.\"&Herstellerauswahl!$C$4,\"BMW X3, 28i xDrive, F25, 258 PS / 190 kW\")","v":"BMW X3, 28i xDrive, F25, 258 PS / 190 kW"},{"$f":"HYPERLINK(\"files\\7007.\"&Herstellerauswahl!$C$4,\"Auswahl / Select 7007\")","v":"Auswahl / Select 7007"}]
["0005/AZW",{"$f":"HYPERLINK(\"files\\7007.\"&Herstellerauswahl!$C$4,\"BMW X3, 30d xDrive, F25, 258 PS / 190 kW\")","v":"BMW X3, 30d xDrive, F25, 258 PS / 190 kW"},{"$f":"HYPERLINK(\"files\\7007.\"&Herstellerauswahl!$C$4,\"Auswahl / Select 7007\")","v":"Auswahl / Select 7007"}]
["0005/AZT",{"$f":"HYPERLINK(\"files\\7007.\"&Herstellerauswahl!$C$4,\"BMW X3, 35i xDrive, F25, 306 PS / 225 kW\")","v":"BMW X3, 35i xDrive, F25, 306 PS / 225 kW"},{"$f":"HYPERLINK(\"files\\7007.\"&Herstellerauswahl!$C$4,\"Auswahl / Select 7007\")","v":"Auswahl / Select 7007"}]
["0005/BGT",{"$f":"HYPERLINK(\"files\\7007.\"&Herstellerauswahl!$C$4,\"BMW X3, 35d xDrive, F25, 313 PS / 230 kW\")","v":"BMW X3, 35d xDrive, F25, 313 PS / 230 kW"},{"$f":"HYPERLINK(\"files\\7007.\"&Herstellerauswahl!$C$4,\"Auswahl / Select 7007\")","v":"Auswahl / Select 7007"}]

{"sheet":"F25 Facelift","index":136,"n_rows":14,"n_cols":4,"rows_kept":14,"cut":false,"hidden":false,"merged":[]}
[]
[]
["TSN/HSN","Motorauswahl für F25 Facelift","Home","Zurück / back"]
[]
["0005/BGV",{"$f":"HYPERLINK(\"files\\7007.\"&Herstellerauswahl!$C$4,\"BMW X3, 18d sDrive, F25 (LCI), 136 PS / 100 kW\")","v":"BMW X3, 18d sDrive, F25 (LCI), 136 PS / 100 kW"},{"$f":"HYPERLINK(\"files\\7007.\"&Herstellerauswahl!$C$4,\"Auswahl / Select 7007\")","v":"Auswahl / Select 7007"}]
["",{"$f":"HYPERLINK(\"files\\7007.\"&Herstellerauswahl!$C$4,\"BMW X3, 18d sDrive, F25 (LCI), 143 PS / 105 kW\")","v":"BMW X3, 18d sDrive, F25 (LCI), 143 PS / 105 kW"},{"$f":"HYPERLINK(\"files\\7007.\"&Herstellerauswahl!$C$4,\"Auswahl / Select 7007\")","v":"Auswahl / Select 7007"}]
["0005/BVE",{"$f":"HYPERLINK(\"files\\7007.\"&Herstellerauswahl!$C$4,\"BMW X3, 20i xDrive, F25 (LCI), 184 PS / 135 kW\")","v":"BMW X3, 20i xDrive, F25 (LCI), 184 PS / 135 kW"},{"$f":"HYPERLINK(\"files\\7007.\"&Herstellerauswahl!$C$4,\"Auswahl / Select 7007\")","v":"Auswahl / Select 7007"}]
["0005/AZV",{"$f":"HYPERLINK(\"files\\7007.\"&Herstellerauswahl!$C$4,\"BMW X3, 20d xDrive, F25 (LCI), 163 PS / 120 kW\")","v":"BMW X3, 20d xDrive, F25 (LCI), 163 PS / 120 kW"},{"$f":"HYPERLINK(\"files\\7007.\"&Herstellerauswahl!$C$4,\"Auswahl / Select 7007\")","v":"Auswahl / Select 7007"}]
["0005/BVG/BVT",{"$f":"HYPERLINK(\"files\\7007.\"&Herstellerauswahl!$C$4,\"BMW X3, 20d xDrive, F25 (LCI), 190 PS / 140 kW\")","v":"BMW X3, 20d xDrive, F25 (LCI), 190 PS / 140 kW"},{"$f":"HYPERLINK(\"files\\7007.\"&Herstellerauswahl!$C$4,\"Auswahl / Select 7007\")","v":"Auswahl / Select 7007"}]
["0005/BGS",{"$f":"HYPERLINK(\"files\\7007.\"&Herstellerauswahl!$C$4,\"BMW X3, 28i xDrive, F25 (LCI), 245 PS / 180 kW\")","v":"BMW X3, 28i xDrive, F25 (LCI), 245 PS / 180 kW"},{"$f":"HYPERLINK(\"files\\7007.\"&Herstellerauswahl!$C$4,\"Auswahl / Select 7007\")","v":"Auswahl / Select 7007"}]
["0005/AZT",{"$f":"HYPERLINK(\"files\\7007.\"&Herstellerauswahl!$C$4,\"BMW X3, 35i xDrive, F25 (LCI), 306 PS / 225 kW\")","v":"BMW X3, 35i xDrive, F25 (LCI), 306 PS / 225 kW"},{"$f":"HYPERLINK(\"files\\7007.\"&Herstellerauswahl!$C$4,\"Auswahl / Select 7007\")","v":"Auswahl / Select 7007"}]
["0005/AZX",{"$f":"HYPERLINK(\"files\\7007.\"&Herstellerauswahl!$C$4,\"BMW X3, 30d xDrive, F25 (LCI), 211 PS / 155 kW\")","v":"BMW X3, 30d xDrive, F25 (LCI), 211 PS / 155 kW"},{"$f":"HYPERLINK(\"files\\7007.\"&Herstellerauswahl!$C$4,\"Auswahl / Select 7007\")","v":"Auswahl / Select 7007"}]
["0005/AZW/BYI",{"$f":"HYPERLINK(\"files\\7007.\"&Herstellerauswahl!$C$4,\"BMW X3, 30d xDrive, F25 (LCI), 258 PS / 190 kW\")","v":"BMW X3, 30d xDrive, F25 (LCI), 258 PS / 190 kW"},{"$f":"HYPERLINK(\"files\\7007.\"&Herstellerauswahl!$C$4,\"Auswahl / Select 7007\")","v":"Auswahl / Select 7007"}]
["0005/BGT",{"$f":"HYPERLINK(\"files\\7007.\"&Herstellerauswahl!$C$4,\"BMW X3, 35d xDrive, F25 (LCI), 313 PS / 230 kW\")","v":"BMW X3, 35d xDrive, F25 (LCI), 313 PS / 230 kW"},{"$f":"HYPERLINK(\"files\\7007.\"&Herstellerauswahl!$C$4,\"Auswahl / Select 7007\")","v":"Auswahl / Select 7007"}]

{"sheet":"G01","index":137,"n_rows":28,"n_cols":4,"rows_kept":28,"cut":false,"hidden":false,"merged":[]}
[]
[]
["TSN/HSN","Motorauswahl für G01","Home","Zurück / back"]
[]
["0005/CQK",{"$f":"HYPERLINK(\"files\\7008.\"&Herstellerauswahl!$C$4,\"BMW X3, 18d sDrive, G01, 136 PS / 100 kW\")","v":"BMW X3, 18d sDrive, G01, 136 PS / 100 kW"},{"$f":"HYPERLINK(\"files\\7008.\"&Herstellerauswahl!$C$4,\"Auswahl / Select 7008\")","v":"Auswahl / Select 7008"}]
["0005/CQL",{"$f":"HYPERLINK(\"files\\7008.\"&Herstellerauswahl!$C$4,\"BMW X3, 18d sDrive, G01, 150 PS / 110 kW\")","v":"BMW X3, 18d sDrive, G01, 150 PS / 110 kW"},{"$f":"HYPERLINK(\"files\\7008.\"&Herstellerauswahl!$C$4,\"Auswahl / Select 7008\")","v":"Auswahl / Select 7008"}]
["0005/DEU",{"$f":"HYPERLINK(\"files\\7008.\"&Herstellerauswahl!$C$4,\"BMW X3, 18d MHy sDrive, G01, 136 PS / 100 kW\")","v":"BMW X3, 18d MHy sDrive, G01, 136 PS / 100 kW"},{"$f":"HYPERLINK(\"files\\7008.\"&Herstellerauswahl!$C$4,\"Auswahl / Select 7008\")","v":"Auswahl / Select 7008"}]
["0005/DET",{"$f":"HYPERLINK(\"files\\7008.\"&Herstellerauswahl!$C$4,\"BMW X3, 18d MHy sDrive, G01, 150 PS / 110 kW\")","v":"BMW X3, 18d MHy sDrive, G01, 150 PS / 110 kW"},{"$f":"HYPERLINK(\"files\\7008.\"&Herstellerauswahl!$C$4,\"Auswahl / Select 7008\")","v":"Auswahl / Select 7008"}]
["0005/CQF",{"$f":"HYPERLINK(\"files\\7008.\"&Herstellerauswahl!$C$4,\"BMW X3, 20i sDrive, G01, 170 PS / 125 kW\")","v":"BMW X3, 20i sDrive, G01, 170 PS / 125 kW"},{"$f":"HYPERLINK(\"files\\7008.\"&Herstellerauswahl!$C$4,\"Auswahl / Select 7008\")","v":"Auswahl / Select 7008"}]
["0005/CQM/CRZ",{"$f":"HYPERLINK(\"files\\7008.\"&Herstellerauswahl!$C$4,\"BMW X3, 20d xDrive, G01, 163 PS / 120 kW\")","v":"BMW X3, 20d xDrive, G01, 163 PS / 120 kW"},{"$f":"HYPERLINK(\"files\\7008.\"&Herstellerauswahl!$C$4,\"Auswahl / Select 7008\")","v":"Auswahl / Select 7008"}]
["0005/CQN/CRW",{"$f":"HYPERLINK(\"files\\7008.\"&Herstellerauswahl!$C$4,\"BMW X3, 20d xDrive, G01, 190 PS / 140 kW\")","v":"BMW X3, 20d xDrive, G01, 190 PS / 140 kW"},{"$f":"HYPERLINK(\"files\\7008.\"&Herstellerauswahl!$C$4,\"Auswahl / Select 7008\")","v":"Auswahl / Select 7008"}]
["0005/CZT",{"$f":"HYPERLINK(\"files\\7008.\"&Herstellerauswahl!$C$4,\"BMW X3, 20d MHy xDrive, G01, 190 PS / 140 kW\")","v":"BMW X3, 20d MHy xDrive, G01, 190 PS / 140 kW"},{"$f":"HYPERLINK(\"files\\7008.\"&Herstellerauswahl!$C$4,\"Auswahl / Select 7008\")","v":"Auswahl / Select 7008"}]
["0005/CZU",{"$f":"HYPERLINK(\"files\\7008.\"&Herstellerauswahl!$C$4,\"BMW X3, 20d MHy xDrive, G01, 163 PS / 120 kW\")","v":"BMW X3, 20d MHy xDrive, G01, 163 PS / 120 kW"},{"$f":"HYPERLINK(\"files\\7008.\"&Herstellerauswahl!$C$4,\"Auswahl / Select 7008\")","v":"Auswahl / Select 7008"}]
["0005/CRU",{"$f":"HYPERLINK(\"files\\7008.\"&Herstellerauswahl!$C$4,\"BMW X3, 20i xDrive, G01, 184 PS / 135 kW\")","v":"BMW X3, 20i xDrive, G01, 184 PS / 135 kW"},{"$f":"HYPERLINK(\"files\\7008.\"&Herstellerauswahl!$C$4,\"Auswahl / Select 7008\")","v":"Auswahl / Select 7008"}]
["0005/CQO",{"$f":"HYPERLINK(\"files\\7008.\"&Herstellerauswahl!$C$4,\"BMW X3, 25d xDrive, G01, 211 PS / 155 kW\")","v":"BMW X3, 25d xDrive, G01, 211 PS / 155 kW"},{"$f":"HYPERLINK(\"files\\7008.\"&Herstellerauswahl!$C$4,\"Auswahl / Select 7008\")","v":"Auswahl / Select 7008"}]
["0005/CQP",{"$f":"HYPERLINK(\"files\\7008.\"&Herstellerauswahl!$C$4,\"BMW X3, 25d xDrive, G01, 231 PS / 170 kW\")","v":"BMW X3, 25d xDrive, G01, 231 PS / 170 kW"},{"$f":"HYPERLINK(\"files\\7008.\"&Herstellerauswahl!$C$4,\"Auswahl / Select 7008\")","v":"Auswahl / Select 7008"}]
["0005/CQQ/CRV",{"$f":"HYPERLINK(\"files\\7008.\"&Herstellerauswahl!$C$4,\"BMW X3, 30d xDrive, G01, 249 PS / 183 kW\")","v":"BMW X3, 30d xDrive, G01, 249 PS / 183 kW"},{"$f":"HYPERLINK(\"files\\7008.\"&Herstellerauswahl!$C$4,\"Auswahl / Select 7008\")","v":"Auswahl / Select 7008"}]
["0005/CQR/CRX",{"$f":"HYPERLINK(\"files\\7008.\"&Herstellerauswahl!$C$4,\"BMW X3, 30d xDrive, G01, 265 PS / 195 kW\")","v":"BMW X3, 30d xDrive, G01, 265 PS / 195 kW"},{"$f":"HYPERLINK(\"files\\7008.\"&Herstellerauswahl!$C$4,\"Auswahl / Select 7008\")","v":"Auswahl / Select 7008"}]
["0005/CZW",{"$f":"HYPERLINK(\"files\\7008.\"&Herstellerauswahl!$C$4,\"BMW X3, 30d MHy xDrive, G01, 249 PS / 183 kW\")","v":"BMW X3, 30d MHy xDrive, G01, 249 PS / 183 kW"},{"$f":"HYPERLINK(\"files\\7008.\"&Herstellerauswahl!$C$4,\"Auswahl / Select 7008\")","v":"Auswahl / Select 7008"}]
["0005/CZV",{"$f":"HYPERLINK(\"files\\7008.\"&Herstellerauswahl!$C$4,\"BMW X3, 30d MHy xDrive, G01, 286 PS / 210 kW\")","v":"BMW X3, 30d MHy xDrive, G01, 286 PS / 210 kW"},{"$f":"HYPERLINK(\"files\\7008.\"&Herstellerauswahl!$C$4,\"Auswahl / Select 7008\")","v":"Auswahl / Select 7008"}]
["0005/CYB",{"$f":"HYPERLINK(\"files\\7008.\"&Herstellerauswahl!$C$4,\"BMW X3, 30e xDrive, G01, 184 PS / 135 kW\")","v":"BMW X3, 30e xDrive, G01, 184 PS / 135 kW"},{"$f":"HYPERLINK(\"files\\7008.\"&Herstellerauswahl!$C$4,\"Auswahl / Select 7008\")","v":"Auswahl / Select 7008"}]
["0005/CZR",{"$f":"HYPERLINK(\"files\\7008.\"&Herstellerauswahl!$C$4,\"BMW X3, 30e xDrive, G01, 163 PS / 120 kW\")","v":"BMW X3, 30e xDrive, G01, 163 PS / 120 kW"},{"$f":"HYPERLINK(\"files\\7008.\"&Herstellerauswahl!$C$4,\"Auswahl / Select 7008\")","v":"Auswahl / Select 7008"}]
["0005/CSA",{"$f":"HYPERLINK(\"files\\7008.\"&Herstellerauswahl!$C$4,\"BMW X3, 30i xDrive, G01, 252 PS / 185 kW\")","v":"BMW X3, 30i xDrive, G01, 252 PS / 185 kW"},{"$f":"HYPERLINK(\"files\\7008.\"&Herstellerauswahl!$C$4,\"Auswahl / Select 7008\")","v":"Auswahl / Select 7008"}]
["0005/CQS",{"$f":"HYPERLINK(\"files\\7008.\"&Herstellerauswahl!$C$4,\"BMW X3, M40d xDrive, G01, 326 PS / 240 kW\")","v":"BMW X3, M40d xDrive, G01, 326 PS / 240 kW"},{"$f":"HYPERLINK(\"files\\7008.\"&Herstellerauswahl!$C$4,\"Auswahl / Select 7008\")","v":"Auswahl / Select 7008"}]
["0005/CZX",{"$f":"HYPERLINK(\"files\\7008.\"&Herstellerauswahl!$C$4,\"BMW X3, M40d MHy xDrive, G01, 340 PS / 250 kW\")","v":"BMW X3, M40d MHy xDrive, G01, 340 PS / 250 kW"},{"$f":"HYPERLINK(\"files\\7008.\"&Herstellerauswahl!$C$4,\"Auswahl / Select 7008\")","v":"Auswahl / Select 7008"}]
["0005/CQJ/CRY",{"$f":"HYPERLINK(\"files\\7008.\"&Herstellerauswahl!$C$4,\"BMW X3, M40i xDrive, G01, 360 PS / 265 kW\")","v":"BMW X3, M40i xDrive, G01, 360 PS / 265 kW"},{"$f":"HYPERLINK(\"files\\7008.\"&Herstellerauswahl!$C$4,\"Auswahl / Select 7008\")","v":"Auswahl / Select 7008"}]
["0005/CTP",{"$f":"HYPERLINK(\"files\\7008.\"&Herstellerauswahl!$C$4,\"BMW X3, M40i xDrive, G01, 354 PS / 260 kW\")","v":"BMW X3, M40i xDrive, G01, 354 PS / 260 kW"},{"$f":"HYPERLINK(\"files\\7008.\"&Herstellerauswahl!$C$4,\"Auswahl / Select 7008\")","v":"Auswahl / Select 7008"}]
["0005/DGS",{"$f":"HYPERLINK(\"files\\7008.\"&Herstellerauswahl!$C$4,\"BMW X3, M40i Mhy xDrive, Typ G01, 360 PS / 265 kW\")","v":"BMW X3, M40i Mhy xDrive, Typ G01, 360 PS / 265 kW"},{"$f":"HYPERLINK(\"files\\7008.\"&Herstellerauswahl!$C$4,\"Auswahl / Select 7008\")","v":"Auswahl / Select 7008"}]

{"sheet":"G01 Facelift","index":138,"n_rows":18,"n_cols":4,"rows_kept":18,"cut":false,"hidden":false,"merged":[]}
[]
[]
["TSN/HSN","Motorauswahl für G01 Facelift","Home","Zurück / back"]
[]
["0005/DEU",{"$f":"HYPERLINK(\"files\\7008.\"&Herstellerauswahl!$C$4,\"BMW X3, 18d MHy, Typ G01 Facelift, 136 PS / 100 kW\")","v":"BMW X3, 18d MHy, Typ G01 Facelift, 136 PS / 100 kW"},{"$f":"HYPERLINK(\"files\\7008.\"&Herstellerauswahl!$C$4,\"Auswahl / Select 7008\")","v":"Auswahl / Select 7008"}]
["0005/DET",{"$f":"HYPERLINK(\"files\\7008.\"&Herstellerauswahl!$C$4,\"BMW X3, 18d MHy, Typ G01 Facelift, 150 PS / 110 kW\")","v":"BMW X3, 18d MHy, Typ G01 Facelift, 150 PS / 110 kW"},{"$f":"HYPERLINK(\"files\\7008.\"&Herstellerauswahl!$C$4,\"Auswahl / Select 7008\")","v":"Auswahl / Select 7008"}]
["0005/CQF",{"$f":"HYPERLINK(\"files\\7008.\"&Herstellerauswahl!$C$4,\"BMW X3, 20i, Typ G01 Facelift, 170 PS / 125 kW\")","v":"BMW X3, 20i, Typ G01 Facelift, 170 PS / 125 kW"},{"$f":"HYPERLINK(\"files\\7008.\"&Herstellerauswahl!$C$4,\"Auswahl / Select 7008\")","v":"Auswahl / Select 7008"}]
["0005/CZU",{"$f":"HYPERLINK(\"files\\7008.\"&Herstellerauswahl!$C$4,\"BMW X3, 20d MHy xDrive, Typ G01 Facelift, 163 PS / 120 kW\")","v":"BMW X3, 20d MHy xDrive, Typ G01 Facelift, 163 PS / 120 kW"},{"$f":"HYPERLINK(\"files\\7008.\"&Herstellerauswahl!$C$4,\"Auswahl / Select 7008\")","v":"Auswahl / Select 7008"}]
["0005/CRW",{"$f":"HYPERLINK(\"files\\7008.\"&Herstellerauswahl!$C$4,\"BMW X3, 20d xDrive, Typ G01 Facelift, 190 PS / 140 kW\")","v":"BMW X3, 20d xDrive, Typ G01 Facelift, 190 PS / 140 kW"},{"$f":"HYPERLINK(\"files\\7008.\"&Herstellerauswahl!$C$4,\"Auswahl / Select 7008\")","v":"Auswahl / Select 7008"}]
["0005/CZT",{"$f":"HYPERLINK(\"files\\7008.\"&Herstellerauswahl!$C$4,\"BMW X3, 20d MHy xDrive, Typ G01 Facelift, 190 PS / 140 kW\")","v":"BMW X3, 20d MHy xDrive, Typ G01 Facelift, 190 PS / 140 kW"},{"$f":"HYPERLINK(\"files\\7008.\"&Herstellerauswahl!$C$4,\"Auswahl / Select 7008\")","v":"Auswahl / Select 7008"}]
["0005/DGR",{"$f":"HYPERLINK(\"files\\7008.\"&Herstellerauswahl!$C$4,\"BMW X3, 20i MHy xDrive, Typ G01 Facelift, 184 PS / 135 kW\")","v":"BMW X3, 20i MHy xDrive, Typ G01 Facelift, 184 PS / 135 kW"},{"$f":"HYPERLINK(\"files\\7008.\"&Herstellerauswahl!$C$4,\"Auswahl / Select 7008\")","v":"Auswahl / Select 7008"}]
["0005/CZW",{"$f":"HYPERLINK(\"files\\7008.\"&Herstellerauswahl!$C$4,\"BMW X3, 30d MHy xDrive, Typ G01 Facelift, 249 PS / 183 kW\")","v":"BMW X3, 30d MHy xDrive, Typ G01 Facelift, 249 PS / 183 kW"},{"$f":"HYPERLINK(\"files\\7008.\"&Herstellerauswahl!$C$4,\"Auswahl / Select 7008\")","v":"Auswahl / Select 7008"}]
["0005/CZV",{"$f":"HYPERLINK(\"files\\7008.\"&Herstellerauswahl!$C$4,\"BMW X3, 30d MHy xDrive, Typ G01 Facelift, 286 PS / 210 kW\")","v":"BMW X3, 30d MHy xDrive, Typ G01 Facelift, 286 PS / 210 kW"},{"$f":"HYPERLINK(\"files\\7008.\"&Herstellerauswahl!$C$4,\"Auswahl / Select 7008\")","v":"Auswahl / Select 7008"}]
["0005/CYB",{"$f":"HYPERLINK(\"files\\7008.\"&Herstellerauswahl!$C$4,\"BMW X3, 30e xDrive, Typ G01 Facelift, 184 PS / 135 kW\")","v":"BMW X3, 30e xDrive, Typ G01 Facelift, 184 PS / 135 kW"},{"$f":"HYPERLINK(\"files\\7008.\"&Herstellerauswahl!$C$4,\"Auswahl / Select 7008\")","v":"Auswahl / Select 7008"}]
["0005/CZR",{"$f":"HYPERLINK(\"files\\7008.\"&Herstellerauswahl!$C$4,\"BMW X3, 30e xDrive, Typ G01 Facelift, 163 PS / 120 kW\")","v":"BMW X3, 30e xDrive, Typ G01 Facelift, 163 PS / 120 kW"},{"$f":"HYPERLINK(\"files\\7008.\"&Herstellerauswahl!$C$4,\"Auswahl / Select 7008\")","v":"Auswahl / Select 7008"}]
["0005/DGP",{"$f":"HYPERLINK(\"files\\7008.\"&Herstellerauswahl!$C$4,\"BMW X3, 30i MHy xDrive, Typ G01 Facelift, 245 PS / 180 kW\")","v":"BMW X3, 30i MHy xDrive, Typ G01 Facelift, 245 PS / 180 kW"},{"$f":"HYPERLINK(\"files\\7008.\"&Herstellerauswahl!$C$4,\"Auswahl / Select 7008\")","v":"Auswahl / Select 7008"}]
["0005/CZX",{"$f":"HYPERLINK(\"files\\7008.\"&Herstellerauswahl!$C$4,\"BMW X3, M40d MHy xDrive, Typ G01 Facelift, 340 PS / 250 kW\")","v":"BMW X3, M40d MHy xDrive, Typ G01 Facelift, 340 PS / 250 kW"},{"$f":"HYPERLINK(\"files\\7008.\"&Herstellerauswahl!$C$4,\"Auswahl / Select 7008\")","v":"Auswahl / Select 7008"}]
["0005/DGS",{"$f":"HYPERLINK(\"files\\7008.\"&Herstellerauswahl!$C$4,\"BMW X3, M40i MHy xDrive, Typ G01 Facelift, 360 PS / 265 kW\")","v":"BMW X3, M40i MHy xDrive, Typ G01 Facelift, 360 PS / 265 kW"},{"$f":"HYPERLINK(\"files\\7008.\"&Herstellerauswahl!$C$4,\"Auswahl / Select 7008\")","v":"Auswahl / Select 7008"}]

{"sheet":"G08","index":139,"n_rows":5,"n_cols":4,"rows_kept":5,"cut":false,"hidden":false,"merged":[]}
[]
[]
["TSN/HSN","Motorauswahl für G08","Home","Zurück / back"]
[]
["0005/DAQ",{"$f":"HYPERLINK(\"files\\7010.\"&Herstellerauswahl!$C$4,\"BMW X3, iX3, G08, 109 PS / 80 kW\")","v":"BMW X3, iX3, G08, 109 PS / 80 kW"},{"$f":"HYPERLINK(\"files\\7010.\"&Herstellerauswahl!$C$4,\"Auswahl / Select 7010\")","v":"Auswahl / Select 7010"}]

{"sheet":"F97 X3M","index":140,"n_rows":6,"n_cols":4,"rows_kept":6,"cut":false,"hidden":false,"merged":[]}
[]
[]
["TSN/HSN","Motorauswahl für F97 X3M","Home","Zurück / back"]
[]
["7909/ACG",{"$f":"HYPERLINK(\"files\\7009.\"&Herstellerauswahl!$C$4,\"BMW X3 X3M, M xDrive, F97, 480 PS / 353 kW\")","v":"BMW X3 X3M, M xDrive, F97, 480 PS / 353 kW"},{"$f":"HYPERLINK(\"files\\7009.\"&Herstellerauswahl!$C$4,\"Auswahl / Select 7009\")","v":"Auswahl / Select 7009"}]
["7909/ACF",{"$f":"HYPERLINK(\"files\\7009.\"&Herstellerauswahl!$C$4,\"BMW X3 X3M, M Competition xDrive, F97, 510 PS / 375 kW\")","v":"BMW X3 X3M, M Competition xDrive, F97, 510 PS / 375 kW"},{"$f":"HYPERLINK(\"files\\7009.\"&Herstellerauswahl!$C$4,\"Auswahl / Select 7009\")","v":"Auswahl / Select 7009"}]

{"sheet":"BMW X4","index":141,"n_rows":8,"n_cols":4,"rows_kept":8,"cut":false,"hidden":false,"merged":[]}
[]
[]
[null,"Typauswahl für BMW X4","Home","Zurück / back"]
[]
[null,"F26","Auswahl / Select"]
[null,"G02","Auswahl / Select"]
[null,"G02 Facelift","Auswahl / Select"]
[null,"F98 X4M","Auswahl / Select"]

{"sheet":"F26","index":142,"n_rows":14,"n_cols":4,"rows_kept":14,"cut":false,"hidden":false,"merged":[]}
[]
[]
["TSN/HSN","Motorauswahl für F26","Home","Zurück / back"]
[]
["0005/BVL",{"$f":"HYPERLINK(\"files\\7050.\"&Herstellerauswahl!$C$4,\"BMW X4, 20d xDrive, F26, 163 PS / 120 kW\")","v":"BMW X4, 20d xDrive, F26, 163 PS / 120 kW"},{"$f":"HYPERLINK(\"files\\7050.\"&Herstellerauswahl!$C$4,\"Auswahl / Select 7050\")","v":"Auswahl / Select 7050"}]
["0005/BVM/BVT",{"$f":"HYPERLINK(\"files\\7050.\"&Herstellerauswahl!$C$4,\"BMW X4, 20d xDrive, F26, 190 PS / 140 kW\")","v":"BMW X4, 20d xDrive, F26, 190 PS / 140 kW"},{"$f":"HYPERLINK(\"files\\7050.\"&Herstellerauswahl!$C$4,\"Auswahl / Select 7050\")","v":"Auswahl / Select 7050"}]
["0005/BVI",{"$f":"HYPERLINK(\"files\\7050.\"&Herstellerauswahl!$C$4,\"BMW X4, 20i xDrive, F26, 184 PS / 135 kW\")","v":"BMW X4, 20i xDrive, F26, 184 PS / 135 kW"},{"$f":"HYPERLINK(\"files\\7050.\"&Herstellerauswahl!$C$4,\"Auswahl / Select 7050\")","v":"Auswahl / Select 7050"}]
["0005/BVJ",{"$f":"HYPERLINK(\"files\\7050.\"&Herstellerauswahl!$C$4,\"BMW X4, 28i xDrive, F26, 245 PS / 180 kW\")","v":"BMW X4, 28i xDrive, F26, 245 PS / 180 kW"},{"$f":"HYPERLINK(\"files\\7050.\"&Herstellerauswahl!$C$4,\"Auswahl / Select 7050\")","v":"Auswahl / Select 7050"}]
["0005/BVN",{"$f":"HYPERLINK(\"files\\7050.\"&Herstellerauswahl!$C$4,\"BMW X4, 30d xDrive, F26, 211 PS / 155 kW\")","v":"BMW X4, 30d xDrive, F26, 211 PS / 155 kW"},{"$f":"HYPERLINK(\"files\\7050.\"&Herstellerauswahl!$C$4,\"Auswahl / Select 7050\")","v":"Auswahl / Select 7050"}]
["0005/BVO/BYI",{"$f":"HYPERLINK(\"files\\7050.\"&Herstellerauswahl!$C$4,\"BMW X4, 30d xDrive, F26, 258 PS / 190 kW\")","v":"BMW X4, 30d xDrive, F26, 258 PS / 190 kW"},{"$f":"HYPERLINK(\"files\\7050.\"&Herstellerauswahl!$C$4,\"Auswahl / Select 7050\")","v":"Auswahl / Select 7050"}]
["0005/BVP",{"$f":"HYPERLINK(\"files\\7050.\"&Herstellerauswahl!$C$4,\"BMW X4, 30d xDrive, F26, 286 PS / 210 kW\")","v":"BMW X4, 30d xDrive, F26, 286 PS / 210 kW"},{"$f":"HYPERLINK(\"files\\7050.\"&Herstellerauswahl!$C$4,\"Auswahl / Select 7050\")","v":"Auswahl / Select 7050"}]
["0005/BVQ",{"$f":"HYPERLINK(\"files\\7050.\"&Herstellerauswahl!$C$4,\"BMW X4, 35d xDrive, F26, 313 PS / 230 kW\")","v":"BMW X4, 35d xDrive, F26, 313 PS / 230 kW"},{"$f":"HYPERLINK(\"files\\7050.\"&Herstellerauswahl!$C$4,\"Auswahl / Select 7050\")","v":"Auswahl / Select 7050"}]
["0005/BVK",{"$f":"HYPERLINK(\"files\\7050.\"&Herstellerauswahl!$C$4,\"BMW X4, 35i xDrive, F26, 306 PS / 225 kW\")","v":"BMW X4, 35i xDrive, F26, 306 PS / 225 kW"},{"$f":"HYPERLINK(\"files\\7050.\"&Herstellerauswahl!$C$4,\"Auswahl / Select 7050\")","v":"Auswahl / Select 7050"}]
["0005/CBR",{"$f":"HYPERLINK(\"files\\7050.\"&Herstellerauswahl!$C$4,\"BMW X4, M40i, F26, 360 PS / 265 kW\")","v":"BMW X4, M40i, F26, 360 PS / 265 kW"},{"$f":"HYPERLINK(\"files\\7050.\"&Herstellerauswahl!$C$4,\"Auswahl / Select 7050\")","v":"Auswahl / Select 7050"}]

{"sheet":"G02","index":143,"n_rows":21,"n_cols":4,"rows_kept":21,"cut":false,"hidden":false,"merged":[]}
[]
[]
["TSN/HSN","Motorauswahl für G02","Home","Zurück / back"]
[]
["0005/CSJ",{"$f":"HYPERLINK(\"files\\7051.\"&Herstellerauswahl!$C$4,\"BMW X4, 20d xDrive, G02, 190 PS / 140 kW\")","v":"BMW X4, 20d xDrive, G02, 190 PS / 140 kW"},{"$f":"HYPERLINK(\"files\\7051.\"&Herstellerauswahl!$C$4,\"Auswahl / Select 7051\")","v":"Auswahl / Select 7051"}]
["0005/CSK",{"$f":"HYPERLINK(\"files\\7051.\"&Herstellerauswahl!$C$4,\"BMW X4, 20d xDrive, G02, 163 PS / 120 kW\")","v":"BMW X4, 20d xDrive, G02, 163 PS / 120 kW"},{"$f":"HYPERLINK(\"files\\7051.\"&Herstellerauswahl!$C$4,\"Auswahl / Select 7051\")","v":"Auswahl / Select 7051"}]
["0005/CZY",{"$f":"HYPERLINK(\"files\\7051.\"&Herstellerauswahl!$C$4,\"BMW X4, 20d MHy xDrive, G02, 190 PS / 140 kW\")","v":"BMW X4, 20d MHy xDrive, G02, 190 PS / 140 kW"},{"$f":"HYPERLINK(\"files\\7051.\"&Herstellerauswahl!$C$4,\"Auswahl / Select 7051\")","v":"Auswahl / Select 7051"}]
["0005/CZZ",{"$f":"HYPERLINK(\"files\\7051.\"&Herstellerauswahl!$C$4,\"BMW X4, 20d MHy xDrive, G02, 163 PS / 120 kW\")","v":"BMW X4, 20d MHy xDrive, G02, 163 PS / 120 kW"},{"$f":"HYPERLINK(\"files\\7051.\"&Herstellerauswahl!$C$4,\"Auswahl / Select 7051\")","v":"Auswahl / Select 7051"}]
["0005/CSG",{"$f":"HYPERLINK(\"files\\7051.\"&Herstellerauswahl!$C$4,\"BMW X4, 20i xDrive, G02, 184 PS / 135 kW\")","v":"BMW X4, 20i xDrive, G02, 184 PS / 135 kW"},{"$f":"HYPERLINK(\"files\\7051.\"&Herstellerauswahl!$C$4,\"Auswahl / Select 7051\")","v":"Auswahl / Select 7051"}]
["0005/CSL",{"$f":"HYPERLINK(\"files\\7051.\"&Herstellerauswahl!$C$4,\"BMW X4, 25d xDrive, G02, 231 PS / 170 kW\")","v":"BMW X4, 25d xDrive, G02, 231 PS / 170 kW"},{"$f":"HYPERLINK(\"files\\7051.\"&Herstellerauswahl!$C$4,\"Auswahl / Select 7051\")","v":"Auswahl / Select 7051"}]
["0005/CSM",{"$f":"HYPERLINK(\"files\\7051.\"&Herstellerauswahl!$C$4,\"BMW X4, 25d xDrive, G02, 211 PS / 155 kW\")","v":"BMW X4, 25d xDrive, G02, 211 PS / 155 kW"},{"$f":"HYPERLINK(\"files\\7051.\"&Herstellerauswahl!$C$4,\"Auswahl / Select 7051\")","v":"Auswahl / Select 7051"}]
["0005/CSN",{"$f":"HYPERLINK(\"files\\7051.\"&Herstellerauswahl!$C$4,\"BMW X4, 30d xDrive, G02, 265 PS / 195 kW\")","v":"BMW X4, 30d xDrive, G02, 265 PS / 195 kW"},{"$f":"HYPERLINK(\"files\\7051.\"&Herstellerauswahl!$C$4,\"Auswahl / Select 7051\")","v":"Auswahl / Select 7051"}]
["0005/CSO",{"$f":"HYPERLINK(\"files\\7051.\"&Herstellerauswahl!$C$4,\"BMW X4, 30d xDrive, G02, 249 PS / 183 kW\")","v":"BMW X4, 30d xDrive, G02, 249 PS / 183 kW"},{"$f":"HYPERLINK(\"files\\7051.\"&Herstellerauswahl!$C$4,\"Auswahl / Select 7051\")","v":"Auswahl / Select 7051"}]
["0005/DAA",{"$f":"HYPERLINK(\"files\\7051.\"&Herstellerauswahl!$C$4,\"BMW X4, 30d MHy xDrive, G02, 286 PS / 210 kW\")","v":"BMW X4, 30d MHy xDrive, G02, 286 PS / 210 kW"},{"$f":"HYPERLINK(\"files\\7051.\"&Herstellerauswahl!$C$4,\"Auswahl / Select 7051\")","v":"Auswahl / Select 7051"}]
["0005/DAB",{"$f":"HYPERLINK(\"files\\7051.\"&Herstellerauswahl!$C$4,\"BMW X4, 30d MHy xDrive, G02, 249 PS / 183 kW\")","v":"BMW X4, 30d MHy xDrive, G02, 249 PS / 183 kW"},{"$f":"HYPERLINK(\"files\\7051.\"&Herstellerauswahl!$C$4,\"Auswahl / Select 7051\")","v":"Auswahl / Select 7051"}]
["0005/CSH",{"$f":"HYPERLINK(\"files\\7051.\"&Herstellerauswahl!$C$4,\"BMW X4, 30i xDrive, G02, 252 PS / 185 kW\")","v":"BMW X4, 30i xDrive, G02, 252 PS / 185 kW"},{"$f":"HYPERLINK(\"files\\7051.\"&Herstellerauswahl!$C$4,\"Auswahl / Select 7051\")","v":"Auswahl / Select 7051"}]
["0005/CSP",{"$f":"HYPERLINK(\"files\\7051.\"&Herstellerauswahl!$C$4,\"BMW X4, M40d xDrive, G02, 326 PS / 240 kW\")","v":"BMW X4, M40d xDrive, G02, 326 PS / 240 kW"},{"$f":"HYPERLINK(\"files\\7051.\"&Herstellerauswahl!$C$4,\"Auswahl / Select 7051\")","v":"Auswahl / Select 7051"}]
["0005/DAC",{"$f":"HYPERLINK(\"files\\7051.\"&Herstellerauswahl!$C$4,\"BMW X4, M40d xDrive, G02, 340 PS / 250 kW\")","v":"BMW X4, M40d xDrive, G02, 340 PS / 250 kW"},{"$f":"HYPERLINK(\"files\\7051.\"&Herstellerauswahl!$C$4,\"Auswahl / Select 7051\")","v":"Auswahl / Select 7051"}]
["0005/CXF",{"$f":"HYPERLINK(\"files\\7051.\"&Herstellerauswahl!$C$4,\"BMW X4, M40i xDrive, G02, 360 PS / 265 kW\")","v":"BMW X4, M40i xDrive, G02, 360 PS / 265 kW"},{"$f":"HYPERLINK(\"files\\7051.\"&Herstellerauswahl!$C$4,\"Auswahl / Select 7051\")","v":"Auswahl / Select 7051"}]
["0005/CSI",{"$f":"HYPERLINK(\"files\\7051.\"&Herstellerauswahl!$C$4,\"BMW X4, M40i xDrive, G02, 354 PS / 260 kW\")","v":"BMW X4, M40i xDrive, G02, 354 PS / 260 kW"},{"$f":"HYPERLINK(\"files\\7051.\"&Herstellerauswahl!$C$4,\"Auswahl / Select 7051\")","v":"Auswahl / Select 7051"}]
["0005/DGU",{"$f":"HYPERLINK(\"files\\7051.\"&Herstellerauswahl!$C$4,\"BMW X4, M40i MHy xDrive, Typ G02, 360 PS / 265 kW\")","v":"BMW X4, M40i MHy xDrive, Typ G02, 360 PS / 265 kW"},{"$f":"HYPERLINK(\"files\\7051.\"&Herstellerauswahl!$C$4,\"Auswahl / Select 7051\")","v":"Auswahl / Select 7051"}]

{"sheet":"G02 Facelift","index":144,"n_rows":13,"n_cols":4,"rows_kept":13,"cut":false,"hidden":false,"merged":[]}
[]
[]
["TSN/HSN","Motorauswahl für G02 Facelift","Home","Zurück / back"]
[]
["0005/CZZ",{"$f":"HYPERLINK(\"files\\7051.\"&Herstellerauswahl!$C$4,\"BMW X4, 20d MHy xDrive, Typ G02 Facelift, 163 PS / 120 kW\")","v":"BMW X4, 20d MHy xDrive, Typ G02 Facelift, 163 PS / 120 kW"},{"$f":"HYPERLINK(\"files\\7051.\"&Herstellerauswahl!$C$4,\"Auswahl / Select 7051\")","v":"Auswahl / Select 7051"}]
["0005/CSJ",{"$f":"HYPERLINK(\"files\\7051.\"&Herstellerauswahl!$C$4,\"BMW X4, 20d xDrive, Typ G02 Facelift, 190 PS / 140 kW\")","v":"BMW X4, 20d xDrive, Typ G02 Facelift, 190 PS / 140 kW"},{"$f":"HYPERLINK(\"files\\7051.\"&Herstellerauswahl!$C$4,\"Auswahl / Select 7051\")","v":"Auswahl / Select 7051"}]
["0005/CZY",{"$f":"HYPERLINK(\"files\\7051.\"&Herstellerauswahl!$C$4,\"BMW X4, 20d MHy xDrive, Typ G02 Facelift, 190 PS / 140 kW\")","v":"BMW X4, 20d MHy xDrive, Typ G02 Facelift, 190 PS / 140 kW"},{"$f":"HYPERLINK(\"files\\7051.\"&Herstellerauswahl!$C$4,\"Auswahl / Select 7051\")","v":"Auswahl / Select 7051"}]
["0005/DGT",{"$f":"HYPERLINK(\"files\\7051.\"&Herstellerauswahl!$C$4,\"BMW X4, 20i MHy xDrive, Typ G02 Facelift, 184 PS / 135 kW\")","v":"BMW X4, 20i MHy xDrive, Typ G02 Facelift, 184 PS / 135 kW"},{"$f":"HYPERLINK(\"files\\7051.\"&Herstellerauswahl!$C$4,\"Auswahl / Select 7051\")","v":"Auswahl / Select 7051"}]
["0005/DAB",{"$f":"HYPERLINK(\"files\\7051.\"&Herstellerauswahl!$C$4,\"BMW X4, 30d MHy xDrive, Typ G02 Facelift, 249 PS / 183 kW\")","v":"BMW X4, 30d MHy xDrive, Typ G02 Facelift, 249 PS / 183 kW"},{"$f":"HYPERLINK(\"files\\7051.\"&Herstellerauswahl!$C$4,\"Auswahl / Select 7051\")","v":"Auswahl / Select 7051"}]
["0005/DAA",{"$f":"HYPERLINK(\"files\\7051.\"&Herstellerauswahl!$C$4,\"BMW X4, 30d MHy xDrive, Typ G02 Facelift, 286 PS / 210 kW\")","v":"BMW X4, 30d MHy xDrive, Typ G02 Facelift, 286 PS / 210 kW"},{"$f":"HYPERLINK(\"files\\7051.\"&Herstellerauswahl!$C$4,\"Auswahl / Select 7051\")","v":"Auswahl / Select 7051"}]
["0005/DGQ",{"$f":"HYPERLINK(\"files\\7051.\"&Herstellerauswahl!$C$4,\"BMW X4, 30i MHy xDrive, Typ G02 Facelift, 245 PS / 180 kW\")","v":"BMW X4, 30i MHy xDrive, Typ G02 Facelift, 245 PS / 180 kW"},{"$f":"HYPERLINK(\"files\\7051.\"&Herstellerauswahl!$C$4,\"Auswahl / Select 7051\")","v":"Auswahl / Select 7051"}]
["0005/DAC",{"$f":"HYPERLINK(\"files\\7051.\"&Herstellerauswahl!$C$4,\"BMW X4, M40d MHy xDrive, Typ G02 Facelift, 340 PS / 250 kW\")","v":"BMW X4, M40d MHy xDrive, Typ G02 Facelift, 340 PS / 250 kW"},{"$f":"HYPERLINK(\"files\\7051.\"&Herstellerauswahl!$C$4,\"Auswahl / Select 7051\")","v":"Auswahl / Select 7051"}]
["0005/DGU",{"$f":"HYPERLINK(\"files\\7051.\"&Herstellerauswahl!$C$4,\"BMW X4, M40i MHy xDrive, Typ G02 Facelift, 360 PS / 265 kW\")","v":"BMW X4, M40i MHy xDrive, Typ G02 Facelift, 360 PS / 265 kW"},{"$f":"HYPERLINK(\"files\\7051.\"&Herstellerauswahl!$C$4,\"Auswahl / Select 7051\")","v":"Auswahl / Select 7051"}]

{"sheet":"F98 X4M","index":145,"n_rows":6,"n_cols":4,"rows_kept":6,"cut":false,"hidden":false,"merged":[]}
[]
[]
["TSN/HSN","Motorauswahl für F98 X4M","Home","Zurück / back"]
[]
["7909/ACH",{"$f":"HYPERLINK(\"files\\7009.\"&Herstellerauswahl!$C$4,\"BMW X4 X4M, M xDrive, F98, 480 PS / 353 kW\")","v":"BMW X4 X4M, M xDrive, F98, 480 PS / 353 kW"},{"$f":"HYPERLINK(\"files\\7009.\"&Herstellerauswahl!$C$4,\"Auswahl / Select 7009\")","v":"Auswahl / Select 7009"}]
["7909/ACI",{"$f":"HYPERLINK(\"files\\7009.\"&Herstellerauswahl!$C$4,\"BMW X4 X4M, M Competition xDrive, F98, 510 PS / 375 kW\")","v":"BMW X4 X4M, M Competition xDrive, F98, 510 PS / 375 kW"},{"$f":"HYPERLINK(\"files\\7009.\"&Herstellerauswahl!$C$4,\"Auswahl / Select 7009\")","v":"Auswahl / Select 7009"}]

{"sheet":"BMW X5","index":146,"n_rows":13,"n_cols":4,"rows_kept":13,"cut":false,"hidden":false,"merged":[]}
[]
[]
[null,"Typauswahl für BMW X5","Home","Zurück / back"]
[]
[null,"E53","Auswahl / Select"]
[null,"E53 Facelift","Auswahl / Select"]
[null,"E70","Auswahl / Select"]
[null,"E70 Facelift","Auswahl / Select"]
[null,"E70 X5M","Auswahl / Select"]
[null,"F15","Auswahl / Select"]
[null,"F85 X5M","Auswahl / Select"]
[null,"F95 X5M","Auswahl / Select"]
[null,"G05","Auswahl / Select"]

{"sheet":"E53","index":147,"n_rows":8,"n_cols":4,"rows_kept":8,"cut":false,"hidden":false,"merged":[]}
[]
[]
["TSN/HSN","Motorauswahl für E53","Home","Zurück / back"]
[]
["0005/679",{"$f":"HYPERLINK(\"files\\0001.\"&Herstellerauswahl!$C$4,\"BMW X5, 30d xDrive, E53, 184 PS / 135 kW\")","v":"BMW X5, 30d xDrive, E53, 184 PS / 135 kW"},{"$f":"HYPERLINK(\"files\\0001.\"&Herstellerauswahl!$C$4,\"Auswahl / Select 0001\")","v":"Auswahl / Select 0001"}]
["0005/678",{"$f":"HYPERLINK(\"files\\0001.\"&Herstellerauswahl!$C$4,\"BMW X5, 30i xDrive, E53, 231 PS / 170 kW\")","v":"BMW X5, 30i xDrive, E53, 231 PS / 170 kW"},{"$f":"HYPERLINK(\"files\\0001.\"&Herstellerauswahl!$C$4,\"Auswahl / Select 0001\")","v":"Auswahl / Select 0001"}]
["0005/756",{"$f":"HYPERLINK(\"files\\0001.\"&Herstellerauswahl!$C$4,\"BMW X5, 46i xDrive, E53, 347 PS / 255 kW\")","v":"BMW X5, 46i xDrive, E53, 347 PS / 255 kW"},{"$f":"HYPERLINK(\"files\\0001.\"&Herstellerauswahl!$C$4,\"Auswahl / Select 0001\")","v":"Auswahl / Select 0001"}]
["0005/667",{"$f":"HYPERLINK(\"files\\0001.\"&Herstellerauswahl!$C$4,\"BMW X5, 44i xDrive, E53, 286 PS / 210 kW\")","v":"BMW X5, 44i xDrive, E53, 286 PS / 210 kW"},{"$f":"HYPERLINK(\"files\\0001.\"&Herstellerauswahl!$C$4,\"Auswahl / Select 0001\")","v":"Auswahl / Select 0001"}]

{"sheet":"E53 Facelift","index":148,"n_rows":11,"n_cols":4,"rows_kept":11,"cut":false,"hidden":false,"merged":[]}
[]
[]
["TSN/HSN","Motorauswahl für E53 Facelift","Home","Zurück / back"]
[]
["0005/678",{"$f":"HYPERLINK(\"files\\0001.\"&Herstellerauswahl!$C$4,\"BMW X5, 30i xDrive, E53 (LCI), 231 PS / 170 kW\")","v":"BMW X5, 30i xDrive, E53 (LCI), 231 PS / 170 kW"},{"$f":"HYPERLINK(\"files\\0001.\"&Herstellerauswahl!$C$4,\"Auswahl / Select 0001\")","v":"Auswahl / Select 0001"}]
["0005/679",{"$f":"HYPERLINK(\"files\\0001.\"&Herstellerauswahl!$C$4,\"BMW X5, 30d xDrive, E53 (LCI), 184 PS / 135 kW\")","v":"BMW X5, 30d xDrive, E53 (LCI), 184 PS / 135 kW"},{"$f":"HYPERLINK(\"files\\0001.\"&Herstellerauswahl!$C$4,\"Auswahl / Select 0001\")","v":"Auswahl / Select 0001"}]
["0005/791/ACN",{"$f":"HYPERLINK(\"files\\0001.\"&Herstellerauswahl!$C$4,\"BMW X5, 30d xDrive, E53 (LCI), 211 PS / 155 kW\")","v":"BMW X5, 30d xDrive, E53 (LCI), 211 PS / 155 kW"},{"$f":"HYPERLINK(\"files\\0001.\"&Herstellerauswahl!$C$4,\"Auswahl / Select 0001\")","v":"Auswahl / Select 0001"}]
["0005/786/ACO",{"$f":"HYPERLINK(\"files\\0001.\"&Herstellerauswahl!$C$4,\"BMW X5, 30d xDrive, E53 (LCI), 218 PS / 160 kW\")","v":"BMW X5, 30d xDrive, E53 (LCI), 218 PS / 160 kW"},{"$f":"HYPERLINK(\"files\\0001.\"&Herstellerauswahl!$C$4,\"Auswahl / Select 0001\")","v":"Auswahl / Select 0001"}]
["0005/667",{"$f":"HYPERLINK(\"files\\0001.\"&Herstellerauswahl!$C$4,\"BMW X5, 44i xDrive, E53 (LCI), 286 PS / 210 kW\")","v":"BMW X5, 44i xDrive, E53 (LCI), 286 PS / 210 kW"},{"$f":"HYPERLINK(\"files\\0001.\"&Herstellerauswahl!$C$4,\"Auswahl / Select 0001\")","v":"Auswahl / Select 0001"}]
["0005/785",{"$f":"HYPERLINK(\"files\\0001.\"&Herstellerauswahl!$C$4,\"BMW X5, 44i xDrive, E53 (LCI), 320 PS / 235 kW\")","v":"BMW X5, 44i xDrive, E53 (LCI), 320 PS / 235 kW"},{"$f":"HYPERLINK(\"files\\0001.\"&Herstellerauswahl!$C$4,\"Auswahl / Select 0001\")","v":"Auswahl / Select 0001"}]
["0005/756",{"$f":"HYPERLINK(\"files\\0001.\"&Herstellerauswahl!$C$4,\"BMW X5, 46i xDrive, E53 (LCI), 347 PS / 255 kW\")","v":"BMW X5, 46i xDrive, E53 (LCI), 347 PS / 255 kW"},{"$f":"HYPERLINK(\"files\\0001.\"&Herstellerauswahl!$C$4,\"Auswahl / Select 0001\")","v":"Auswahl / Select 0001"}]

{"sheet":"E70","index":149,"n_rows":9,"n_cols":4,"rows_kept":9,"cut":false,"hidden":false,"merged":[]}
[]
[]
["TSN/HSN","Motorauswahl für E70","Home","Zurück / back"]
[]
["",{"$f":"HYPERLINK(\"files\\0003.\"&Herstellerauswahl!$C$4,\"BMW X5, 30i xDrive, E70, 272 PS / 200 kW\")","v":"BMW X5, 30i xDrive, E70, 272 PS / 200 kW"},{"$f":"HYPERLINK(\"files\\0003.\"&Herstellerauswahl!$C$4,\"Auswahl / Select 0003\")","v":"Auswahl / Select 0003"}]
["",{"$f":"HYPERLINK(\"files\\0003.\"&Herstellerauswahl!$C$4,\"BMW X5, 30i sDrive, E70, 272 PS / 200 kW\")","v":"BMW X5, 30i sDrive, E70, 272 PS / 200 kW"},{"$f":"HYPERLINK(\"files\\0003.\"&Herstellerauswahl!$C$4,\"Auswahl / Select 0003\")","v":"Auswahl / Select 0003"}]
["0005/AHG",{"$f":"HYPERLINK(\"files\\0003.\"&Herstellerauswahl!$C$4,\"BMW X5, 30d xDrive, E70, 235 PS / 173 kW\")","v":"BMW X5, 30d xDrive, E70, 235 PS / 173 kW"},{"$f":"HYPERLINK(\"files\\0003.\"&Herstellerauswahl!$C$4,\"Auswahl / Select 0003\")","v":"Auswahl / Select 0003"}]
["",{"$f":"HYPERLINK(\"files\\0003.\"&Herstellerauswahl!$C$4,\"BMW X5, 30d xDrive, E70, 286 PS / 210 kW\")","v":"BMW X5, 30d xDrive, E70, 286 PS / 210 kW"},{"$f":"HYPERLINK(\"files\\0003.\"&Herstellerauswahl!$C$4,\"Auswahl / Select 0003\")","v":"Auswahl / Select 0003"}]
["",{"$f":"HYPERLINK(\"files\\0015.\"&Herstellerauswahl!$C$4,\"BMW X5, 48i xDrive, E70, 355 PS / 261 kW\")","v":"BMW X5, 48i xDrive, E70, 355 PS / 261 kW"},{"$f":"HYPERLINK(\"files\\0015.\"&Herstellerauswahl!$C$4,\"Auswahl / Select 0015\")","v":"Auswahl / Select 0015"}]

{"sheet":"E70 Facelift","index":150,"n_rows":12,"n_cols":4,"rows_kept":12,"cut":false,"hidden":false,"merged":[]}
[]
[]
["TSN/HSN","Motorauswahl für E70 Facelift","Home","Zurück / back"]
[]
["0005/BIW/BLZ",{"$f":"HYPERLINK(\"files\\0016.\"&Herstellerauswahl!$C$4,\"BMW X5, M50d xDrive, E70 (LCI), 381 PS / 280 kW\")","v":"BMW X5, M50d xDrive, E70 (LCI), 381 PS / 280 kW"},{"$f":"HYPERLINK(\"files\\0016.\"&Herstellerauswahl!$C$4,\"Auswahl / Select 0016\")","v":"Auswahl / Select 0016"}]
["0005/AYA/BAY/BBG",{"$f":"HYPERLINK(\"files\\0003.\"&Herstellerauswahl!$C$4,\"BMW X5, 30d xDrive, E70 (LCI), 245 PS / 180 kW\")","v":"BMW X5, 30d xDrive, E70 (LCI), 245 PS / 180 kW"},{"$f":"HYPERLINK(\"files\\0003.\"&Herstellerauswahl!$C$4,\"Auswahl / Select 0003\")","v":"Auswahl / Select 0003"}]
["0005/AYD",{"$f":"HYPERLINK(\"files\\0003.\"&Herstellerauswahl!$C$4,\"BMW X5, 35i xDrive, E70 (LCI), 306 PS / 225 kW\")","v":"BMW X5, 35i xDrive, E70 (LCI), 306 PS / 225 kW"},{"$f":"HYPERLINK(\"files\\0003.\"&Herstellerauswahl!$C$4,\"Auswahl / Select 0003\")","v":"Auswahl / Select 0003"}]
["0005/BBK",{"$f":"HYPERLINK(\"files\\0003.\"&Herstellerauswahl!$C$4,\"BMW X5, 35d xDrive, E70 (LCI), 286 PS / 210 kW\")","v":"BMW X5, 35d xDrive, E70 (LCI), 286 PS / 210 kW"},{"$f":"HYPERLINK(\"files\\0003.\"&Herstellerauswahl!$C$4,\"Auswahl / Select 0003\")","v":"Auswahl / Select 0003"}]
["0005/AYC/BBA/BBD",{"$f":"HYPERLINK(\"files\\0003.\"&Herstellerauswahl!$C$4,\"BMW X5, 40d xDrive, E70 (LCI), 306 PS / 225 kW\")","v":"BMW X5, 40d xDrive, E70 (LCI), 306 PS / 225 kW"},{"$f":"HYPERLINK(\"files\\0003.\"&Herstellerauswahl!$C$4,\"Auswahl / Select 0003\")","v":"Auswahl / Select 0003"}]
["",{"$f":"HYPERLINK(\"files\\0003.\"&Herstellerauswahl!$C$4,\"BMW X5, 40i xDrive, E70 (LCI), 306 PS / 225 kW\")","v":"BMW X5, 40i xDrive, E70 (LCI), 306 PS / 225 kW"},{"$f":"HYPERLINK(\"files\\0003.\"&Herstellerauswahl!$C$4,\"Auswahl / Select 0003\")","v":"Auswahl / Select 0003"}]
["",{"$f":"HYPERLINK(\"files\\0015.\"&Herstellerauswahl!$C$4,\"BMW X5, 40i xDrive, E70 (LCI), 408 PS / 300 kW\")","v":"BMW X5, 40i xDrive, E70 (LCI), 408 PS / 300 kW"},{"$f":"HYPERLINK(\"files\\0015.\"&Herstellerauswahl!$C$4,\"Auswahl / Select 0015\")","v":"Auswahl / Select 0015"}]
["0005/BIT",{"$f":"HYPERLINK(\"files\\0015.\"&Herstellerauswahl!$C$4,\"BMW X5, 50i xDrive, E70 (LCI), 449 PS / 330 kW\")","v":"BMW X5, 50i xDrive, E70 (LCI), 449 PS / 330 kW"},{"$f":"HYPERLINK(\"files\\0015.\"&Herstellerauswahl!$C$4,\"Auswahl / Select 0015\")","v":"Auswahl / Select 0015"}]

{"sheet":"E70 X5M","index":151,"n_rows":5,"n_cols":4,"rows_kept":5,"cut":false,"hidden":false,"merged":[]}
[]
[]
["TSN/HSN","Motorauswahl für E70 X5M","Home","Zurück / back"]
[]
["7909/AAK",{"$f":"HYPERLINK(\"files\\0006.\"&Herstellerauswahl!$C$4,\"BMW X5 X5M, M, E70, 555 PS / 408 kW\")","v":"BMW X5 X5M, M, E70, 555 PS / 408 kW"},{"$f":"HYPERLINK(\"files\\0006.\"&Herstellerauswahl!$C$4,\"Auswahl / Select 0006\")","v":"Auswahl / Select 0006"}]

{"sheet":"F15","index":152,"n_rows":21,"n_cols":4,"rows_kept":21,"cut":false,"hidden":false,"merged":[]}
[]
[]
["TSN/HSN","Motorauswahl für F15","Home","Zurück / back"]
[]
["0005/BRT",{"$f":"HYPERLINK(\"files\\0018.\"&Herstellerauswahl!$C$4,\"BMW X5, 25d , Typ F15, 211 PS / 155 kW\")","v":"BMW X5, 25d , Typ F15, 211 PS / 155 kW"},{"$f":"HYPERLINK(\"files\\0018.\"&Herstellerauswahl!$C$4,\"Auswahl / Select 0018\")","v":"Auswahl / Select 0018"}]
["0005/BRS",{"$f":"HYPERLINK(\"files\\0018.\"&Herstellerauswahl!$C$4,\"BMW X5, 25d , Typ F15, 218 PS / 160 kW\")","v":"BMW X5, 25d , Typ F15, 218 PS / 160 kW"},{"$f":"HYPERLINK(\"files\\0018.\"&Herstellerauswahl!$C$4,\"Auswahl / Select 0018\")","v":"Auswahl / Select 0018"}]
["0005/CCO",{"$f":"HYPERLINK(\"files\\0018.\"&Herstellerauswahl!$C$4,\"BMW X5, 25d , Typ F15, 231 PS / 170 kW\")","v":"BMW X5, 25d , Typ F15, 231 PS / 170 kW"},{"$f":"HYPERLINK(\"files\\0018.\"&Herstellerauswahl!$C$4,\"Auswahl / Select 0018\")","v":"Auswahl / Select 0018"}]
["0005/BRV",{"$f":"HYPERLINK(\"files\\0018.\"&Herstellerauswahl!$C$4,\"BMW X5, 25d  xDrive, Typ F15, 231 PS / 170 kW\")","v":"BMW X5, 25d  xDrive, Typ F15, 231 PS / 170 kW"},{"$f":"HYPERLINK(\"files\\0018.\"&Herstellerauswahl!$C$4,\"Auswahl / Select 0018\")","v":"Auswahl / Select 0018"}]
["0005/BRU",{"$f":"HYPERLINK(\"files\\0018.\"&Herstellerauswahl!$C$4,\"BMW X5, 25d  xDrive, Typ F15, 211 PS / 155 kW\")","v":"BMW X5, 25d  xDrive, Typ F15, 211 PS / 155 kW"},{"$f":"HYPERLINK(\"files\\0018.\"&Herstellerauswahl!$C$4,\"Auswahl / Select 0018\")","v":"Auswahl / Select 0018"}]
["0005/CCP",{"$f":"HYPERLINK(\"files\\0018.\"&Herstellerauswahl!$C$4,\"BMW X5, 25d  xDrive, Typ F15, 218 PS / 160 kW\")","v":"BMW X5, 25d  xDrive, Typ F15, 218 PS / 160 kW"},{"$f":"HYPERLINK(\"files\\0018.\"&Herstellerauswahl!$C$4,\"Auswahl / Select 0018\")","v":"Auswahl / Select 0018"}]
["0005/CCN",{"$f":"HYPERLINK(\"files\\0018.\"&Herstellerauswahl!$C$4,\"BMW X5, 30d  xDrive, Typ F15, 249 PS / 183 kW\")","v":"BMW X5, 30d  xDrive, Typ F15, 249 PS / 183 kW"},{"$f":"HYPERLINK(\"files\\0018.\"&Herstellerauswahl!$C$4,\"Auswahl / Select 0018\")","v":"Auswahl / Select 0018"}]
["0005/BRW/BTJ",{"$f":"HYPERLINK(\"files\\0018.\"&Herstellerauswahl!$C$4,\"BMW X5, 30d  xDrive, Typ F15, 258 PS / 190 kW\")","v":"BMW X5, 30d  xDrive, Typ F15, 258 PS / 190 kW"},{"$f":"HYPERLINK(\"files\\0018.\"&Herstellerauswahl!$C$4,\"Auswahl / Select 0018\")","v":"Auswahl / Select 0018"}]
["0005/BXI",{"$f":"HYPERLINK(\"files\\0018.\"&Herstellerauswahl!$C$4,\"BMW X5, 30d  xDrive, Typ F15, 277 PS / 204 kW\")","v":"BMW X5, 30d  xDrive, Typ F15, 277 PS / 204 kW"},{"$f":"HYPERLINK(\"files\\0018.\"&Herstellerauswahl!$C$4,\"Auswahl / Select 0018\")","v":"Auswahl / Select 0018"}]
["0005/BTH",{"$f":"HYPERLINK(\"files\\0018.\"&Herstellerauswahl!$C$4,\"BMW X5, 30d  xDrive, Typ F15, 286 PS / 210 kW\")","v":"BMW X5, 30d  xDrive, Typ F15, 286 PS / 210 kW"},{"$f":"HYPERLINK(\"files\\0018.\"&Herstellerauswahl!$C$4,\"Auswahl / Select 0018\")","v":"Auswahl / Select 0018"}]
["0005/BTM",{"$f":"HYPERLINK(\"files\\0018.\"&Herstellerauswahl!$C$4,\"BMW X5, 35i  xDrive, Typ F15, 306 PS / 225 kW\")","v":"BMW X5, 35i  xDrive, Typ F15, 306 PS / 225 kW"},{"$f":"HYPERLINK(\"files\\0018.\"&Herstellerauswahl!$C$4,\"Auswahl / Select 0018\")","v":"Auswahl / Select 0018"}]
["0005/BTI",{"$f":"HYPERLINK(\"files\\0018.\"&Herstellerauswahl!$C$4,\"BMW X5, 35i  xDrive, Typ F15, 326 PS / 240 kW\")","v":"BMW X5, 35i  xDrive, Typ F15, 326 PS / 240 kW"},{"$f":"HYPERLINK(\"files\\0018.\"&Herstellerauswahl!$C$4,\"Auswahl / Select 0018\")","v":"Auswahl / Select 0018"}]
["0005/BRX/BVC",{"$f":"HYPERLINK(\"files\\0018.\"&Herstellerauswahl!$C$4,\"BMW X5, 40d  xDrive, Typ F15, 313 PS / 230 kW\")","v":"BMW X5, 40d  xDrive, Typ F15, 313 PS / 230 kW"},{"$f":"HYPERLINK(\"files\\0018.\"&Herstellerauswahl!$C$4,\"Auswahl / Select 0018\")","v":"Auswahl / Select 0018"}]
["0005/BZK/CNQ",{"$f":"HYPERLINK(\"files\\0018.\"&Herstellerauswahl!$C$4,\"BMW X5, 40e xDrive, Typ F15, 211 PS / 155 kW\")","v":"BMW X5, 40e xDrive, Typ F15, 211 PS / 155 kW"},{"$f":"HYPERLINK(\"files\\0018.\"&Herstellerauswahl!$C$4,\"Auswahl / Select 0018\")","v":"Auswahl / Select 0018"}]
["0005/BZL/CNR",{"$f":"HYPERLINK(\"files\\0018.\"&Herstellerauswahl!$C$4,\"BMW X5, 40e xDrive, Typ F15, 245 PS / 180 kW\")","v":"BMW X5, 40e xDrive, Typ F15, 245 PS / 180 kW"},{"$f":"HYPERLINK(\"files\\0018.\"&Herstellerauswahl!$C$4,\"Auswahl / Select 0018\")","v":"Auswahl / Select 0018"}]
["0005/BTL",{"$f":"HYPERLINK(\"files\\0022.\"&Herstellerauswahl!$C$4,\"BMW X5, 50i xDrive, F15, 449 PS / 330 kW\")","v":"BMW X5, 50i xDrive, F15, 449 PS / 330 kW"},{"$f":"HYPERLINK(\"files\\0022.\"&Herstellerauswahl!$C$4,\"Auswahl / Select 0022\")","v":"Auswahl / Select 0022"}]
["0005/BTK",{"$f":"HYPERLINK(\"files\\0022.\"&Herstellerauswahl!$C$4,\"BMW X5, M50d xDrive, F15, 381 PS / 280 kW\")","v":"BMW X5, M50d xDrive, F15, 381 PS / 280 kW"},{"$f":"HYPERLINK(\"files\\0022.\"&Herstellerauswahl!$C$4,\"Auswahl / Select 0022\")","v":"Auswahl / Select 0022"}]

{"sheet":"F85 X5M","index":153,"n_rows":5,"n_cols":4,"rows_kept":5,"cut":false,"hidden":false,"merged":[]}
[]
[]
["TSN/HSN","Motorauswahl für F85 X5M","Home","Zurück / back"]
[]
["0005/ABK",{"$f":"HYPERLINK(\"files\\0024.\"&Herstellerauswahl!$C$4,\"BMW X5 X5M, M, F85, 575 PS / 423 kW\")","v":"BMW X5 X5M, M, F85, 575 PS / 423 kW"},{"$f":"HYPERLINK(\"files\\0024.\"&Herstellerauswahl!$C$4,\"Auswahl / Select 0024\")","v":"Auswahl / Select 0024"}]

{"sheet":"F95 X5M","index":154,"n_rows":6,"n_cols":4,"rows_kept":6,"cut":false,"hidden":false,"merged":[]}
[]
[]
["TSN/HSN","Motorauswahl für F95 X5M","Home","Zurück / back"]
[]
["7909/ACJ",{"$f":"HYPERLINK(\"files\\0028.\"&Herstellerauswahl!$C$4,\"BMW X5 X5M, M xDrive, F95, 600 PS / 441 kW\")","v":"BMW X5 X5M, M xDrive, F95, 600 PS / 441 kW"},{"$f":"HYPERLINK(\"files\\0028.\"&Herstellerauswahl!$C$4,\"Auswahl / Select 0028\")","v":"Auswahl / Select 0028"}]
["7909/ACK",{"$f":"HYPERLINK(\"files\\0028.\"&Herstellerauswahl!$C$4,\"BMW X5 X5M, M Competition xDrive, F95, 626 PS / 460 kW\")","v":"BMW X5 X5M, M Competition xDrive, F95, 626 PS / 460 kW"},{"$f":"HYPERLINK(\"files\\0028.\"&Herstellerauswahl!$C$4,\"Auswahl / Select 0028\")","v":"Auswahl / Select 0028"}]

{"sheet":"G05","index":155,"n_rows":17,"n_cols":4,"rows_kept":17,"cut":false,"hidden":false,"merged":[]}
[]
[]
["TSN/HSN","Motorauswahl für G05","Home","Zurück / back"]
[]
["0005/CXI",{"$f":"HYPERLINK(\"files\\0026.\"&Herstellerauswahl!$C$4,\"BMW X5, 25d xDrive, G05, 231 PS / 170 kW\")","v":"BMW X5, 25d xDrive, G05, 231 PS / 170 kW"},{"$f":"HYPERLINK(\"files\\0026.\"&Herstellerauswahl!$C$4,\"Auswahl / Select 0026\")","v":"Auswahl / Select 0026"}]
["0005/CXM",{"$f":"HYPERLINK(\"files\\0026.\"&Herstellerauswahl!$C$4,\"BMW X5, 25d xDrive, G05, 211 PS / 155 kW\")","v":"BMW X5, 25d xDrive, G05, 211 PS / 155 kW"},{"$f":"HYPERLINK(\"files\\0026.\"&Herstellerauswahl!$C$4,\"Auswahl / Select 0026\")","v":"Auswahl / Select 0026"}]
["0005/CTB",{"$f":"HYPERLINK(\"files\\0026.\"&Herstellerauswahl!$C$4,\"BMW X5, 30d xDrive, G05, 249 PS / 183 kW\")","v":"BMW X5, 30d xDrive, G05, 249 PS / 183 kW"},{"$f":"HYPERLINK(\"files\\0026.\"&Herstellerauswahl!$C$4,\"Auswahl / Select 0026\")","v":"Auswahl / Select 0026"}]
["0005/CTA",{"$f":"HYPERLINK(\"files\\0026.\"&Herstellerauswahl!$C$4,\"BMW X5, 30d xDrive, G05, 265 PS / 195 kW\")","v":"BMW X5, 30d xDrive, G05, 265 PS / 195 kW"},{"$f":"HYPERLINK(\"files\\0026.\"&Herstellerauswahl!$C$4,\"Auswahl / Select 0026\")","v":"Auswahl / Select 0026"}]
["0005/DAE",{"$f":"HYPERLINK(\"files\\0026.\"&Herstellerauswahl!$C$4,\"BMW X5, 30d MHy xDrive, G05, 249 PS / 183 kW\")","v":"BMW X5, 30d MHy xDrive, G05, 249 PS / 183 kW"},{"$f":"HYPERLINK(\"files\\0026.\"&Herstellerauswahl!$C$4,\"Auswahl / Select 0026\")","v":"Auswahl / Select 0026"}]
["0005/DAD",{"$f":"HYPERLINK(\"files\\0026.\"&Herstellerauswahl!$C$4,\"BMW X5, 30d MHy xDrive, G05, 286 PS / 210 kW\")","v":"BMW X5, 30d MHy xDrive, G05, 286 PS / 210 kW"},{"$f":"HYPERLINK(\"files\\0026.\"&Herstellerauswahl!$C$4,\"Auswahl / Select 0026\")","v":"Auswahl / Select 0026"}]
["0005/DAF",{"$f":"HYPERLINK(\"files\\0026.\"&Herstellerauswahl!$C$4,\"BMW X5, 40d MHy xDrive, G05, 340 PS / 250 kW\")","v":"BMW X5, 40d MHy xDrive, G05, 340 PS / 250 kW"},{"$f":"HYPERLINK(\"files\\0026.\"&Herstellerauswahl!$C$4,\"Auswahl / Select 0026\")","v":"Auswahl / Select 0026"}]
["0005/DFO",{"$f":"HYPERLINK(\"files\\0026.\"&Herstellerauswahl!$C$4,\"BMW X5, 40i MHy xDrive, G05, 333 PS / 245 kW\")","v":"BMW X5, 40i MHy xDrive, G05, 333 PS / 245 kW"},{"$f":"HYPERLINK(\"files\\0026.\"&Herstellerauswahl!$C$4,\"Auswahl / Select 0026\")","v":"Auswahl / Select 0026"}]
["0005/CSZ",{"$f":"HYPERLINK(\"files\\0026.\"&Herstellerauswahl!$C$4,\"BMW X5, 40i xDrive, G05, 340 PS / 250 kW\")","v":"BMW X5, 40i xDrive, G05, 340 PS / 250 kW"},{"$f":"HYPERLINK(\"files\\0026.\"&Herstellerauswahl!$C$4,\"Auswahl / Select 0026\")","v":"Auswahl / Select 0026"}]
["0005/CXL",{"$f":"HYPERLINK(\"files\\0026.\"&Herstellerauswahl!$C$4,\"BMW X5, 45e xDrive, G05, 211 PS / 155 kW\")","v":"BMW X5, 45e xDrive, G05, 211 PS / 155 kW"},{"$f":"HYPERLINK(\"files\\0026.\"&Herstellerauswahl!$C$4,\"Auswahl / Select 0026\")","v":"Auswahl / Select 0026"}]
["0005/CXH",{"$f":"HYPERLINK(\"files\\0026.\"&Herstellerauswahl!$C$4,\"BMW X5, 45e xDrive, G05, 286 PS / 210 kW\")","v":"BMW X5, 45e xDrive, G05, 286 PS / 210 kW"},{"$f":"HYPERLINK(\"files\\0026.\"&Herstellerauswahl!$C$4,\"Auswahl / Select 0026\")","v":"Auswahl / Select 0026"}]
["0005/CTC",{"$f":"HYPERLINK(\"files\\0026.\"&Herstellerauswahl!$C$4,\"BMW X5, M50d xDrive, G05, 400 PS / 294 kW\")","v":"BMW X5, M50d xDrive, G05, 400 PS / 294 kW"},{"$f":"HYPERLINK(\"files\\0026.\"&Herstellerauswahl!$C$4,\"Auswahl / Select 0026\")","v":"Auswahl / Select 0026"}]
["0005/CXG",{"$f":"HYPERLINK(\"files\\0026.\"&Herstellerauswahl!$C$4,\"BMW X5, M50i xDrive, G05, 530 PS / 390 kW\")","v":"BMW X5, M50i xDrive, G05, 530 PS / 390 kW"},{"$f":"HYPERLINK(\"files\\0026.\"&Herstellerauswahl!$C$4,\"Auswahl / Select 0026\")","v":"Auswahl / Select 0026"}]

{"sheet":"BMW X6","index":156,"n_rows":12,"n_cols":4,"rows_kept":12,"cut":false,"hidden":false,"merged":[]}
[]
[]
[null,"Typauswahl für BMW X6","Home","Zurück / back"]
[]
[null,"E71","Auswahl / Select"]
[null,"E71 X6M","Auswahl / Select"]
[null,"E71 Facelift","Auswahl / Select"]
[null,"E71 Facelift X6M","Auswahl / Select"]
[null,"F16","Auswahl / Select"]
[null,"F86 X6M","Auswahl / Select"]
[null,"F96 X6M","Auswahl / Select"]
[null,"G06","Auswahl / Select"]

{"sheet":"E71","index":157,"n_rows":11,"n_cols":4,"rows_kept":11,"cut":false,"hidden":false,"merged":[]}
[]
[]
["TSN/HSN","Motorauswahl für E71","Home","Zurück / back"]
[]
["0005/AHG/BBJ",{"$f":"HYPERLINK(\"files\\0014.\"&Herstellerauswahl!$C$4,\"BMW X6, 30d xDrive, E71, 235 PS / 173 kW\")","v":"BMW X6, 30d xDrive, E71, 235 PS / 173 kW"},{"$f":"HYPERLINK(\"files\\0014.\"&Herstellerauswahl!$C$4,\"Auswahl / Select 0014\")","v":"Auswahl / Select 0014"}]
["0005/AJO/BBK",{"$f":"HYPERLINK(\"files\\0014.\"&Herstellerauswahl!$C$4,\"BMW X6, 35d xDrive, E71, 286 PS / 210 kW\")","v":"BMW X6, 35d xDrive, E71, 286 PS / 210 kW"},{"$f":"HYPERLINK(\"files\\0014.\"&Herstellerauswahl!$C$4,\"Auswahl / Select 0014\")","v":"Auswahl / Select 0014"}]
["0005/AMA/AYJ",{"$f":"HYPERLINK(\"files\\0014.\"&Herstellerauswahl!$C$4,\"BMW X6, 35i xDrive, E71, 306 PS / 225 kW\")","v":"BMW X6, 35i xDrive, E71, 306 PS / 225 kW"},{"$f":"HYPERLINK(\"files\\0014.\"&Herstellerauswahl!$C$4,\"Auswahl / Select 0014\")","v":"Auswahl / Select 0014"}]
["0005/BBA/BBD",{"$f":"HYPERLINK(\"files\\0014.\"&Herstellerauswahl!$C$4,\"BMW X6, 40d xDrive, E71, 306 PS / 225 kW\")","v":"BMW X6, 40d xDrive, E71, 306 PS / 225 kW"},{"$f":"HYPERLINK(\"files\\0014.\"&Herstellerauswahl!$C$4,\"Auswahl / Select 0014\")","v":"Auswahl / Select 0014"}]
["0005/AMB/AYK",{"$f":"HYPERLINK(\"files\\0013.\"&Herstellerauswahl!$C$4,\"BMW X6, 50i xDrive, E71, 408 PS / 300 kW\")","v":"BMW X6, 50i xDrive, E71, 408 PS / 300 kW"},{"$f":"HYPERLINK(\"files\\0013.\"&Herstellerauswahl!$C$4,\"Auswahl / Select 0013\")","v":"Auswahl / Select 0013"}]
["0005/AQE",{"$f":"HYPERLINK(\"files\\0013.\"&Herstellerauswahl!$C$4,\"BMW X6, 50i xDrive, E71, 449 PS / 330 kW\")","v":"BMW X6, 50i xDrive, E71, 449 PS / 330 kW"},{"$f":"HYPERLINK(\"files\\0013.\"&Herstellerauswahl!$C$4,\"Auswahl / Select 0013\")","v":"Auswahl / Select 0013"}]
["0005/BIX",{"$f":"HYPERLINK(\"files\\0013.\"&Herstellerauswahl!$C$4,\"BMW X6, M50d xDrive, E71, 381 PS / 280 kW\")","v":"BMW X6, M50d xDrive, E71, 381 PS / 280 kW"},{"$f":"HYPERLINK(\"files\\0013.\"&Herstellerauswahl!$C$4,\"Auswahl / Select 0013\")","v":"Auswahl / Select 0013"}]

{"sheet":"E71 X6M","index":158,"n_rows":5,"n_cols":4,"rows_kept":5,"cut":false,"hidden":false,"merged":[]}
[]
[]
["TSN/HSN","Motorauswahl für E71 X6M","Home","Zurück / back"]
[]
["7909/AAK",{"$f":"HYPERLINK(\"files\\0007.\"&Herstellerauswahl!$C$4,\"BMW X6 X6M, M, E71, 555 PS / 408 kW\")","v":"BMW X6 X6M, M, E71, 555 PS / 408 kW"},{"$f":"HYPERLINK(\"files\\0007.\"&Herstellerauswahl!$C$4,\"Auswahl / Select 0007\")","v":"Auswahl / Select 0007"}]

{"sheet":"E71 Facelift","index":159,"n_rows":9,"n_cols":4,"rows_kept":9,"cut":false,"hidden":false,"merged":[]}
[]
[]
["TSN/HSN","Motorauswahl für E71 Facelift","Home","Zurück / back"]
[]
["0005/AYG/BBG",{"$f":"HYPERLINK(\"files\\0014.\"&Herstellerauswahl!$C$4,\"BMW X6, 30d xDrive, E71 (LCI), 245 PS / 180 kW\")","v":"BMW X6, 30d xDrive, E71 (LCI), 245 PS / 180 kW"},{"$f":"HYPERLINK(\"files\\0014.\"&Herstellerauswahl!$C$4,\"Auswahl / Select 0014\")","v":"Auswahl / Select 0014"}]
["0005/BIU",{"$f":"HYPERLINK(\"files\\0014.\"&Herstellerauswahl!$C$4,\"BMW X6, 35i xDrive, E71 (LCI), 320 PS / 235 kW\")","v":"BMW X6, 35i xDrive, E71 (LCI), 320 PS / 235 kW"},{"$f":"HYPERLINK(\"files\\0014.\"&Herstellerauswahl!$C$4,\"Auswahl / Select 0014\")","v":"Auswahl / Select 0014"}]
["0005/AYI/BBD",{"$f":"HYPERLINK(\"files\\0014.\"&Herstellerauswahl!$C$4,\"BMW X6, 40d xDrive, E71 (LCI), 306 PS / 225 kW\")","v":"BMW X6, 40d xDrive, E71 (LCI), 306 PS / 225 kW"},{"$f":"HYPERLINK(\"files\\0014.\"&Herstellerauswahl!$C$4,\"Auswahl / Select 0014\")","v":"Auswahl / Select 0014"}]
["0005/AYK",{"$f":"HYPERLINK(\"files\\0013.\"&Herstellerauswahl!$C$4,\"BMW X6, 50i xDrive, E71 (LCI), 408 PS / 300 kW\")","v":"BMW X6, 50i xDrive, E71 (LCI), 408 PS / 300 kW"},{"$f":"HYPERLINK(\"files\\0013.\"&Herstellerauswahl!$C$4,\"Auswahl / Select 0013\")","v":"Auswahl / Select 0013"}]
["0005/BIV",{"$f":"HYPERLINK(\"files\\0013.\"&Herstellerauswahl!$C$4,\"BMW X6, 50i xDrive, E71 (LCI), 449 PS / 330 kW\")","v":"BMW X6, 50i xDrive, E71 (LCI), 449 PS / 330 kW"},{"$f":"HYPERLINK(\"files\\0013.\"&Herstellerauswahl!$C$4,\"Auswahl / Select 0013\")","v":"Auswahl / Select 0013"}]

{"sheet":"E71 Facelift X6M","index":160,"n_rows":5,"n_cols":4,"rows_kept":5,"cut":false,"hidden":false,"merged":[]}
[]
[]
["TSN/HSN","Motorauswahl für E71 Facelift X6M","Home","Zurück / back"]
[]
["7909/AAK",{"$f":"HYPERLINK(\"files\\0007.\"&Herstellerauswahl!$C$4,\"BMW X6 X6M, M, E71 (LCI), 555 PS / 408 kW\")","v":"BMW X6 X6M, M, E71 (LCI), 555 PS / 408 kW"},{"$f":"HYPERLINK(\"files\\0007.\"&Herstellerauswahl!$C$4,\"Auswahl / Select 0007\")","v":"Auswahl / Select 0007"}]

{"sheet":"F16","index":161,"n_rows":9,"n_cols":4,"rows_kept":9,"cut":false,"hidden":false,"merged":[]}
[]
[]
["TSN/HSN","Motorauswahl für F16","Home","Zurück / back"]
[]
["0005/BTJ/BYD",{"$f":"HYPERLINK(\"files\\0019.\"&Herstellerauswahl!$C$4,\"BMW X6, 30d xDrive, F16, 258 PS / 190 kW\")","v":"BMW X6, 30d xDrive, F16, 258 PS / 190 kW"},{"$f":"HYPERLINK(\"files\\0019.\"&Herstellerauswahl!$C$4,\"Auswahl / Select 0019\")","v":"Auswahl / Select 0019"}]
["0005/BXZ",{"$f":"HYPERLINK(\"files\\0019.\"&Herstellerauswahl!$C$4,\"BMW X6, 35i xDrive, F16, 306 PS / 225 kW\")","v":"BMW X6, 35i xDrive, F16, 306 PS / 225 kW"},{"$f":"HYPERLINK(\"files\\0019.\"&Herstellerauswahl!$C$4,\"Auswahl / Select 0019\")","v":"Auswahl / Select 0019"}]
["0005/BVC/BYF",{"$f":"HYPERLINK(\"files\\0019.\"&Herstellerauswahl!$C$4,\"BMW X6, 40d xDrive, F16, 313 PS / 230 kW\")","v":"BMW X6, 40d xDrive, F16, 313 PS / 230 kW"},{"$f":"HYPERLINK(\"files\\0019.\"&Herstellerauswahl!$C$4,\"Auswahl / Select 0019\")","v":"Auswahl / Select 0019"}]
["0005/BYB",{"$f":"HYPERLINK(\"files\\0020.\"&Herstellerauswahl!$C$4,\"BMW X6, 50i xDrive, F16, 449 PS / 330 kW\")","v":"BMW X6, 50i xDrive, F16, 449 PS / 330 kW"},{"$f":"HYPERLINK(\"files\\0020.\"&Herstellerauswahl!$C$4,\"Auswahl / Select 0020\")","v":"Auswahl / Select 0020"}]
["0005/BYG",{"$f":"HYPERLINK(\"files\\0025.\"&Herstellerauswahl!$C$4,\"BMW X6, M50d xDrive, F16, 381 PS / 280 kW\")","v":"BMW X6, M50d xDrive, F16, 381 PS / 280 kW"},{"$f":"HYPERLINK(\"files\\0025.\"&Herstellerauswahl!$C$4,\"Auswahl / Select 0025\")","v":"Auswahl / Select 0025"}]

{"sheet":"F86 X6M","index":162,"n_rows":5,"n_cols":4,"rows_kept":5,"cut":false,"hidden":false,"merged":[]}
[]
[]
["TSN/HSN","Motorauswahl für F86 X6M","Home","Zurück / back"]
[]
["0005/ABL",{"$f":"HYPERLINK(\"files\\0023.\"&Herstellerauswahl!$C$4,\"BMW X6 X6M, M, F86, 575 PS / 423 kW\")","v":"BMW X6 X6M, M, F86, 575 PS / 423 kW"},{"$f":"HYPERLINK(\"files\\0023.\"&Herstellerauswahl!$C$4,\"Auswahl / Select 0023\")","v":"Auswahl / Select 0023"}]

{"sheet":"F96 X6M","index":163,"n_rows":6,"n_cols":4,"rows_kept":6,"cut":false,"hidden":false,"merged":[]}
[]
[]
["TSN/HSN","Motorauswahl für F96 X6M","Home","Zurück / back"]
[]
["7909/ACL",{"$f":"HYPERLINK(\"files\\0028.\"&Herstellerauswahl!$C$4,\"BMW X6 X6M, M xDrive, F96, 600 PS / 441 kW\")","v":"BMW X6 X6M, M xDrive, F96, 600 PS / 441 kW"},{"$f":"HYPERLINK(\"files\\0028.\"&Herstellerauswahl!$C$4,\"Auswahl / Select 0028\")","v":"Auswahl / Select 0028"}]
["7909/ACM",{"$f":"HYPERLINK(\"files\\0028.\"&Herstellerauswahl!$C$4,\"BMW X6 X6M, M Competition xDrive, F96, 626 PS / 460 kW\")","v":"BMW X6 X6M, M Competition xDrive, F96, 626 PS / 460 kW"},{"$f":"HYPERLINK(\"files\\0028.\"&Herstellerauswahl!$C$4,\"Auswahl / Select 0028\")","v":"Auswahl / Select 0028"}]

{"sheet":"G06","index":164,"n_rows":15,"n_cols":4,"rows_kept":15,"cut":false,"hidden":false,"merged":[]}
[]
[]
["TSN/HSN","Motorauswahl für G06","Home","Zurück / back"]
[]
["0005/CXA",{"$f":"HYPERLINK(\"files\\0027.\"&Herstellerauswahl!$C$4,\"BMW X6, 30d xDrive, G06, 265 PS / 195 kW\")","v":"BMW X6, 30d xDrive, G06, 265 PS / 195 kW"},{"$f":"HYPERLINK(\"files\\0027.\"&Herstellerauswahl!$C$4,\"Auswahl / Select 0027\")","v":"Auswahl / Select 0027"}]
["0005/CXC",{"$f":"HYPERLINK(\"files\\0027.\"&Herstellerauswahl!$C$4,\"BMW X6, 30d xDrive, G06, 211 PS / 155 kW\")","v":"BMW X6, 30d xDrive, G06, 211 PS / 155 kW"},{"$f":"HYPERLINK(\"files\\0027.\"&Herstellerauswahl!$C$4,\"Auswahl / Select 0027\")","v":"Auswahl / Select 0027"}]
["0005/CXB",{"$f":"HYPERLINK(\"files\\0027.\"&Herstellerauswahl!$C$4,\"BMW X6, 30d xDrive, G06, 249 PS / 183 kW\")","v":"BMW X6, 30d xDrive, G06, 249 PS / 183 kW"},{"$f":"HYPERLINK(\"files\\0027.\"&Herstellerauswahl!$C$4,\"Auswahl / Select 0027\")","v":"Auswahl / Select 0027"}]
["0005/DAH",{"$f":"HYPERLINK(\"files\\0027.\"&Herstellerauswahl!$C$4,\"BMW X6, 30d MHy xDrive, G06, 249 PS / 183 kW\")","v":"BMW X6, 30d MHy xDrive, G06, 249 PS / 183 kW"},{"$f":"HYPERLINK(\"files\\0027.\"&Herstellerauswahl!$C$4,\"Auswahl / Select 0027\")","v":"Auswahl / Select 0027"}]
["0005/DAI",{"$f":"HYPERLINK(\"files\\0027.\"&Herstellerauswahl!$C$4,\"BMW X6, 30d MHy xDrive, G06, 211 PS / 155 kW\")","v":"BMW X6, 30d MHy xDrive, G06, 211 PS / 155 kW"},{"$f":"HYPERLINK(\"files\\0027.\"&Herstellerauswahl!$C$4,\"Auswahl / Select 0027\")","v":"Auswahl / Select 0027"}]
["0005/DAG",{"$f":"HYPERLINK(\"files\\0027.\"&Herstellerauswahl!$C$4,\"BMW X6, 30d MHy xDrive, G06, 286 PS / 210 kW\")","v":"BMW X6, 30d MHy xDrive, G06, 286 PS / 210 kW"},{"$f":"HYPERLINK(\"files\\0027.\"&Herstellerauswahl!$C$4,\"Auswahl / Select 0027\")","v":"Auswahl / Select 0027"}]
["0005/DAJ",{"$f":"HYPERLINK(\"files\\0027.\"&Herstellerauswahl!$C$4,\"BMW X6, 40d MHy xDrive, G06, 340 PS / 250 kW\")","v":"BMW X6, 40d MHy xDrive, G06, 340 PS / 250 kW"},{"$f":"HYPERLINK(\"files\\0027.\"&Herstellerauswahl!$C$4,\"Auswahl / Select 0027\")","v":"Auswahl / Select 0027"}]
["0005/DFN",{"$f":"HYPERLINK(\"files\\0027.\"&Herstellerauswahl!$C$4,\"BMW X6, 40i MHy xDrive, G06, 333 PS / 245 kW\")","v":"BMW X6, 40i MHy xDrive, G06, 333 PS / 245 kW"},{"$f":"HYPERLINK(\"files\\0027.\"&Herstellerauswahl!$C$4,\"Auswahl / Select 0027\")","v":"Auswahl / Select 0027"}]
["0005/CWY",{"$f":"HYPERLINK(\"files\\0027.\"&Herstellerauswahl!$C$4,\"BMW X6, 40i xDrive, G06, 340 PS / 250 kW\")","v":"BMW X6, 40i xDrive, G06, 340 PS / 250 kW"},{"$f":"HYPERLINK(\"files\\0027.\"&Herstellerauswahl!$C$4,\"Auswahl / Select 0027\")","v":"Auswahl / Select 0027"}]
["0005/CTC",{"$f":"HYPERLINK(\"files\\0027.\"&Herstellerauswahl!$C$4,\"BMW X6, M50d, G06, 400 PS / 294 kW\")","v":"BMW X6, M50d, G06, 400 PS / 294 kW"},{"$f":"HYPERLINK(\"files\\0027.\"&Herstellerauswahl!$C$4,\"Auswahl / Select 0027\")","v":"Auswahl / Select 0027"}]
["0005/CWZ",{"$f":"HYPERLINK(\"files\\0027.\"&Herstellerauswahl!$C$4,\"BMW X6, M50i, G06, 530 PS / 390 kW\")","v":"BMW X6, M50i, G06, 530 PS / 390 kW"},{"$f":"HYPERLINK(\"files\\0027.\"&Herstellerauswahl!$C$4,\"Auswahl / Select 0027\")","v":"Auswahl / Select 0027"}]

{"sheet":"BMW X7","index":165,"n_rows":5,"n_cols":4,"rows_kept":5,"cut":false,"hidden":false,"merged":[]}
[]
[]
[null,"Typauswahl für BMW X7","Home","Zurück / back"]
[]
[null,"G07","Auswahl / Select"]

{"sheet":"G07","index":166,"n_rows":14,"n_cols":4,"rows_kept":14,"cut":false,"hidden":false,"merged":[]}
[]
[]
["TSN/HSN","Motorauswahl für G07","Home","Zurück / back"]
[]
["0005/CUJ/CUK",{"$f":"HYPERLINK(\"files\\0029.\"&Herstellerauswahl!$C$4,\"BMW X7, 30d xDrive, G07, 211 PS / 155 kW\")","v":"BMW X7, 30d xDrive, G07, 211 PS / 155 kW"},{"$f":"HYPERLINK(\"files\\0029.\"&Herstellerauswahl!$C$4,\"Auswahl / Select 0029\")","v":"Auswahl / Select 0029"}]
["0005/CUL/CUM",{"$f":"HYPERLINK(\"files\\0029.\"&Herstellerauswahl!$C$4,\"BMW X7, 30d xDrive, G07, 249 PS / 183 kW\")","v":"BMW X7, 30d xDrive, G07, 249 PS / 183 kW"},{"$f":"HYPERLINK(\"files\\0029.\"&Herstellerauswahl!$C$4,\"Auswahl / Select 0029\")","v":"Auswahl / Select 0029"}]
["0005/CUH/CUI",{"$f":"HYPERLINK(\"files\\0029.\"&Herstellerauswahl!$C$4,\"BMW X7, 30d xDrive, G07, 265 PS / 195 kW\")","v":"BMW X7, 30d xDrive, G07, 265 PS / 195 kW"},{"$f":"HYPERLINK(\"files\\0029.\"&Herstellerauswahl!$C$4,\"Auswahl / Select 0029\")","v":"Auswahl / Select 0029"}]
["0005/DAO/DAP",{"$f":"HYPERLINK(\"files\\0029.\"&Herstellerauswahl!$C$4,\"BMW X7, 40d MHy xDrive, G07, 211 PS / 155 kW\")","v":"BMW X7, 40d MHy xDrive, G07, 211 PS / 155 kW"},{"$f":"HYPERLINK(\"files\\0029.\"&Herstellerauswahl!$C$4,\"Auswahl / Select 0029\")","v":"Auswahl / Select 0029"}]
["0005/DAM/DAN",{"$f":"HYPERLINK(\"files\\0029.\"&Herstellerauswahl!$C$4,\"BMW X7, 40d MHy xDrive, G07, 249 PS / 183 kW\")","v":"BMW X7, 40d MHy xDrive, G07, 249 PS / 183 kW"},{"$f":"HYPERLINK(\"files\\0029.\"&Herstellerauswahl!$C$4,\"Auswahl / Select 0029\")","v":"Auswahl / Select 0029"}]
["0005/DAK/DAL",{"$f":"HYPERLINK(\"files\\0029.\"&Herstellerauswahl!$C$4,\"BMW X7, 40d MHy xDrive, G07, 340 PS / 250 kW\")","v":"BMW X7, 40d MHy xDrive, G07, 340 PS / 250 kW"},{"$f":"HYPERLINK(\"files\\0029.\"&Herstellerauswahl!$C$4,\"Auswahl / Select 0029\")","v":"Auswahl / Select 0029"}]
["0005/DFL/DFM",{"$f":"HYPERLINK(\"files\\0029.\"&Herstellerauswahl!$C$4,\"BMW X7, 40i MHy xDrive, G07, 333 PS / 245 kW\")","v":"BMW X7, 40i MHy xDrive, G07, 333 PS / 245 kW"},{"$f":"HYPERLINK(\"files\\0029.\"&Herstellerauswahl!$C$4,\"Auswahl / Select 0029\")","v":"Auswahl / Select 0029"}]
["0005/CUD/CUE",{"$f":"HYPERLINK(\"files\\0029.\"&Herstellerauswahl!$C$4,\"BMW X7, 40i xDrive, G07, 340 PS / 250 kW\")","v":"BMW X7, 40i xDrive, G07, 340 PS / 250 kW"},{"$f":"HYPERLINK(\"files\\0029.\"&Herstellerauswahl!$C$4,\"Auswahl / Select 0029\")","v":"Auswahl / Select 0029"}]
["0005/CUF/CUG",{"$f":"HYPERLINK(\"files\\0029.\"&Herstellerauswahl!$C$4,\"BMW X7, M50i xDrive, G07, 530 PS / 390 kW\")","v":"BMW X7, M50i xDrive, G07, 530 PS / 390 kW"},{"$f":"HYPERLINK(\"files\\0029.\"&Herstellerauswahl!$C$4,\"Auswahl / Select 0029\")","v":"Auswahl / Select 0029"}]
["0005/CUN/CUO",{"$f":"HYPERLINK(\"files\\0029.\"&Herstellerauswahl!$C$4,\"BMW X7, M50d xDrive, G07, 400 PS / 294 kW\")","v":"BMW X7, M50d xDrive, G07, 400 PS / 294 kW"},{"$f":"HYPERLINK(\"files\\0029.\"&Herstellerauswahl!$C$4,\"Auswahl / Select 0029\")","v":"Auswahl / Select 0029"}]

{"sheet":"BMW Z4","index":167,"n_rows":12,"n_cols":4,"rows_kept":12,"cut":false,"hidden":false,"merged":[]}
[]
[]
[null,"Typauswahl für BMW Z4","Home","Zurück / back"]
[]
[null,"E85 Roadster","Auswahl / Select"]
[null,"E85 M Roadster","Auswahl / Select"]
[null,"E85 Facelift Roadster","Auswahl / Select"]
[null,"E86 Coupe","Auswahl / Select"]
[null,"E86 M Coupe","Auswahl / Select"]
[null,"E89 Roadster","Auswahl / Select"]
[null,"E89 Facelift Roadster","Auswahl / Select"]
[null,"G29 Roadster","Auswahl / Select"]

{"sheet":"E85 Roadster","index":168,"n_rows":8,"n_cols":4,"rows_kept":8,"cut":false,"hidden":false,"merged":[]}
[]
[]
["TSN/HSN","Motorauswahl für E85 Roadster","Home","Zurück / back"]
[]
["0005/819",{"$f":"HYPERLINK(\"files\\8001.\"&Herstellerauswahl!$C$4,\"BMW Z4 Roadster, 20i sDrive, E85, 150 PS / 110 kW\")","v":"BMW Z4 Roadster, 20i sDrive, E85, 150 PS / 110 kW"},{"$f":"HYPERLINK(\"files\\8001.\"&Herstellerauswahl!$C$4,\"Auswahl / Select 8001\")","v":"Auswahl / Select 8001"}]
["0005/790",{"$f":"HYPERLINK(\"files\\8001.\"&Herstellerauswahl!$C$4,\"BMW Z4 Roadster, 22i sDrive, E85, 170 PS / 125 kW\")","v":"BMW Z4 Roadster, 22i sDrive, E85, 170 PS / 125 kW"},{"$f":"HYPERLINK(\"files\\8001.\"&Herstellerauswahl!$C$4,\"Auswahl / Select 8001\")","v":"Auswahl / Select 8001"}]
["0005/758",{"$f":"HYPERLINK(\"files\\8001.\"&Herstellerauswahl!$C$4,\"BMW Z4 Roadster, 25i sDrive, E85, 192 PS / 141 kW\")","v":"BMW Z4 Roadster, 25i sDrive, E85, 192 PS / 141 kW"},{"$f":"HYPERLINK(\"files\\8001.\"&Herstellerauswahl!$C$4,\"Auswahl / Select 8001\")","v":"Auswahl / Select 8001"}]
["0005/757",{"$f":"HYPERLINK(\"files\\8001.\"&Herstellerauswahl!$C$4,\"BMW Z4 Roadster, 30i sDrive, E85, 231 PS / 170 kW\")","v":"BMW Z4 Roadster, 30i sDrive, E85, 231 PS / 170 kW"},{"$f":"HYPERLINK(\"files\\8001.\"&Herstellerauswahl!$C$4,\"Auswahl / Select 8001\")","v":"Auswahl / Select 8001"}]

{"sheet":"E85 M Roadster","index":169,"n_rows":5,"n_cols":4,"rows_kept":5,"cut":false,"hidden":false,"merged":[]}
[]
[]
["TSN/HSN","Motorauswahl für E85 M Roadster","Home","Zurück / back"]
[]
["7909/AAA",{"$f":"HYPERLINK(\"files\\8005.\"&Herstellerauswahl!$C$4,\"BMW Z4 M Roadster, M, E85, 343 PS / 252 kW\")","v":"BMW Z4 M Roadster, M, E85, 343 PS / 252 kW"},{"$f":"HYPERLINK(\"files\\8005.\"&Herstellerauswahl!$C$4,\"Auswahl / Select 8005\")","v":"Auswahl / Select 8005"}]

{"sheet":"E85 Facelift Roadster","index":170,"n_rows":10,"n_cols":4,"rows_kept":10,"cut":false,"hidden":false,"merged":[]}
[]
[]
["TSN/HSN","Motorauswahl für E85 Facelift Roadster","Home","Zurück / back"]
[]
["0005/AAT",{"$f":"HYPERLINK(\"files\\8001.\"&Herstellerauswahl!$C$4,\"BMW Z4 Roadster, 20i, E85 (LCI), 150 PS / 110 kW\")","v":"BMW Z4 Roadster, 20i, E85 (LCI), 150 PS / 110 kW"},{"$f":"HYPERLINK(\"files\\8001.\"&Herstellerauswahl!$C$4,\"Auswahl / Select 8001\")","v":"Auswahl / Select 8001"}]
["0005/AAB",{"$f":"HYPERLINK(\"files\\8001.\"&Herstellerauswahl!$C$4,\"BMW Z4 Roadster, 25i, E85 (LCI), 177 PS / 130 kW\")","v":"BMW Z4 Roadster, 25i, E85 (LCI), 177 PS / 130 kW"},{"$f":"HYPERLINK(\"files\\8001.\"&Herstellerauswahl!$C$4,\"Auswahl / Select 8001\")","v":"Auswahl / Select 8001"}]
["0005/AAD",{"$f":"HYPERLINK(\"files\\8001.\"&Herstellerauswahl!$C$4,\"BMW Z4 Roadster, 25i, E85 (LCI), 211 PS / 155 kW\")","v":"BMW Z4 Roadster, 25i, E85 (LCI), 211 PS / 155 kW"},{"$f":"HYPERLINK(\"files\\8001.\"&Herstellerauswahl!$C$4,\"Auswahl / Select 8001\")","v":"Auswahl / Select 8001"}]
["0005/AAC",{"$f":"HYPERLINK(\"files\\8001.\"&Herstellerauswahl!$C$4,\"BMW Z4 Roadster, 25i, E85 (LCI), 218 PS / 160 kW\")","v":"BMW Z4 Roadster, 25i, E85 (LCI), 218 PS / 160 kW"},{"$f":"HYPERLINK(\"files\\8001.\"&Herstellerauswahl!$C$4,\"Auswahl / Select 8001\")","v":"Auswahl / Select 8001"}]
["0005/AAA",{"$f":"HYPERLINK(\"files\\8001.\"&Herstellerauswahl!$C$4,\"BMW Z4 Roadster, 30i, E85 (LCI), 258 PS / 190 kW\")","v":"BMW Z4 Roadster, 30i, E85 (LCI), 258 PS / 190 kW"},{"$f":"HYPERLINK(\"files\\8001.\"&Herstellerauswahl!$C$4,\"Auswahl / Select 8001\")","v":"Auswahl / Select 8001"}]
["0005/AAA",{"$f":"HYPERLINK(\"files\\8001.\"&Herstellerauswahl!$C$4,\"BMW Z4 Roadster, 30i, E85 (LCI), 265 PS / 195 kW\")","v":"BMW Z4 Roadster, 30i, E85 (LCI), 265 PS / 195 kW"},{"$f":"HYPERLINK(\"files\\8001.\"&Herstellerauswahl!$C$4,\"Auswahl / Select 8001\")","v":"Auswahl / Select 8001"}]

{"sheet":"E86 Coupe","index":171,"n_rows":5,"n_cols":4,"rows_kept":5,"cut":false,"hidden":false,"merged":[]}
[]
[]
["TSN/HSN","Motorauswahl für E86 Coupe","Home","Zurück / back"]
[]
["0005/AAF",{"$f":"HYPERLINK(\"files\\8001.\"&Herstellerauswahl!$C$4,\"BMW Z4 Coupe, 30i, E86, 265 PS / 195 kW\")","v":"BMW Z4 Coupe, 30i, E86, 265 PS / 195 kW"},{"$f":"HYPERLINK(\"files\\8001.\"&Herstellerauswahl!$C$4,\"Auswahl / Select 8001\")","v":"Auswahl / Select 8001"}]

{"sheet":"E86 M Coupe","index":172,"n_rows":5,"n_cols":4,"rows_kept":5,"cut":false,"hidden":false,"merged":[]}
[]
[]
["TSN/HSN","Motorauswahl für E86 M Coupe","Home","Zurück / back"]
[]
["7909/AAB",{"$f":"HYPERLINK(\"files\\8005.\"&Herstellerauswahl!$C$4,\"BMW Z4 M Coupe, M, E86, 343 PS / 252 kW\")","v":"BMW Z4 M Coupe, M, E86, 343 PS / 252 kW"},{"$f":"HYPERLINK(\"files\\8005.\"&Herstellerauswahl!$C$4,\"Auswahl / Select 8005\")","v":"Auswahl / Select 8005"}]

{"sheet":"E89 Roadster","index":173,"n_rows":11,"n_cols":4,"rows_kept":11,"cut":false,"hidden":false,"merged":[]}
[]
[]
["TSN/HSN","Motorauswahl für E89 Roadster","Home","Zurück / back"]
[]
["0005/BGW",{"$f":"HYPERLINK(\"files\\8007.\"&Herstellerauswahl!$C$4,\"BMW Z4 Roadster, 20i, E89, 163 PS / 120 kW\")","v":"BMW Z4 Roadster, 20i, E89, 163 PS / 120 kW"},{"$f":"HYPERLINK(\"files\\8007.\"&Herstellerauswahl!$C$4,\"Auswahl / Select 8007\")","v":"Auswahl / Select 8007"}]
["0005/BGX",{"$f":"HYPERLINK(\"files\\8007.\"&Herstellerauswahl!$C$4,\"BMW Z4 Roadster, 20i, E89, 184 PS / 135 kW\")","v":"BMW Z4 Roadster, 20i, E89, 184 PS / 135 kW"},{"$f":"HYPERLINK(\"files\\8007.\"&Herstellerauswahl!$C$4,\"Auswahl / Select 8007\")","v":"Auswahl / Select 8007"}]
["0005/AOL/AYL",{"$f":"HYPERLINK(\"files\\8007.\"&Herstellerauswahl!$C$4,\"BMW Z4 Roadster, 23i, E89, 204 PS / 150 kW\")","v":"BMW Z4 Roadster, 23i, E89, 204 PS / 150 kW"},{"$f":"HYPERLINK(\"files\\8007.\"&Herstellerauswahl!$C$4,\"Auswahl / Select 8007\")","v":"Auswahl / Select 8007"}]
["0005/BGY",{"$f":"HYPERLINK(\"files\\8007.\"&Herstellerauswahl!$C$4,\"BMW Z4 Roadster, 28i, E89, 245 PS / 180 kW\")","v":"BMW Z4 Roadster, 28i, E89, 245 PS / 180 kW"},{"$f":"HYPERLINK(\"files\\8007.\"&Herstellerauswahl!$C$4,\"Auswahl / Select 8007\")","v":"Auswahl / Select 8007"}]
["0005/AOM/AYM",{"$f":"HYPERLINK(\"files\\8007.\"&Herstellerauswahl!$C$4,\"BMW Z4 Roadster, 30i, E89, 258 PS / 190 kW\")","v":"BMW Z4 Roadster, 30i, E89, 258 PS / 190 kW"},{"$f":"HYPERLINK(\"files\\8007.\"&Herstellerauswahl!$C$4,\"Auswahl / Select 8007\")","v":"Auswahl / Select 8007"}]
["0005/AON/AYN",{"$f":"HYPERLINK(\"files\\8007.\"&Herstellerauswahl!$C$4,\"BMW Z4 Roadster, 35i, E89, 306 PS / 225 kW\")","v":"BMW Z4 Roadster, 35i, E89, 306 PS / 225 kW"},{"$f":"HYPERLINK(\"files\\8007.\"&Herstellerauswahl!$C$4,\"Auswahl / Select 8007\")","v":"Auswahl / Select 8007"}]
["0005/AYO",{"$f":"HYPERLINK(\"files\\8007.\"&Herstellerauswahl!$C$4,\"BMW Z4 Roadster, 35is, E89, 340 PS / 250 kW\")","v":"BMW Z4 Roadster, 35is, E89, 340 PS / 250 kW"},{"$f":"HYPERLINK(\"files\\8007.\"&Herstellerauswahl!$C$4,\"Auswahl / Select 8007\")","v":"Auswahl / Select 8007"}]

{"sheet":"E89 Facelift Roadster","index":174,"n_rows":10,"n_cols":4,"rows_kept":10,"cut":false,"hidden":false,"merged":[]}
[]
[]
["TSN/HSN","Motorauswahl für E89 Facelift Roadster","Home","Zurück / back"]
[]
["0005/BPN",{"$f":"HYPERLINK(\"files\\8007.\"&Herstellerauswahl!$C$4,\"BMW Z4 Roadster, 18i, E89 (LCI), 156 PS / 115 kW\")","v":"BMW Z4 Roadster, 18i, E89 (LCI), 156 PS / 115 kW"},{"$f":"HYPERLINK(\"files\\8007.\"&Herstellerauswahl!$C$4,\"Auswahl / Select 8007\")","v":"Auswahl / Select 8007"}]
["0005/BGW",{"$f":"HYPERLINK(\"files\\8007.\"&Herstellerauswahl!$C$4,\"BMW Z4 Roadster, 20i, E89 (LCI), 163 PS / 120 kW\")","v":"BMW Z4 Roadster, 20i, E89 (LCI), 163 PS / 120 kW"},{"$f":"HYPERLINK(\"files\\8007.\"&Herstellerauswahl!$C$4,\"Auswahl / Select 8007\")","v":"Auswahl / Select 8007"}]
["0005/BGX",{"$f":"HYPERLINK(\"files\\8007.\"&Herstellerauswahl!$C$4,\"BMW Z4 Roadster, 20i, E89 (LCI), 184 PS / 135 kW\")","v":"BMW Z4 Roadster, 20i, E89 (LCI), 184 PS / 135 kW"},{"$f":"HYPERLINK(\"files\\8007.\"&Herstellerauswahl!$C$4,\"Auswahl / Select 8007\")","v":"Auswahl / Select 8007"}]
["0005/BGY",{"$f":"HYPERLINK(\"files\\8007.\"&Herstellerauswahl!$C$4,\"BMW Z4 Roadster, 28i, E89 (LCI), 245 PS / 180 kW\")","v":"BMW Z4 Roadster, 28i, E89 (LCI), 245 PS / 180 kW"},{"$f":"HYPERLINK(\"files\\8007.\"&Herstellerauswahl!$C$4,\"Auswahl / Select 8007\")","v":"Auswahl / Select 8007"}]
["0005/AYN",{"$f":"HYPERLINK(\"files\\8007.\"&Herstellerauswahl!$C$4,\"BMW Z4 Roadster, 35i, E89 (LCI), 306 PS / 225 kW\")","v":"BMW Z4 Roadster, 35i, E89 (LCI), 306 PS / 225 kW"},{"$f":"HYPERLINK(\"files\\8007.\"&Herstellerauswahl!$C$4,\"Auswahl / Select 8007\")","v":"Auswahl / Select 8007"}]
["0005/AYO",{"$f":"HYPERLINK(\"files\\8007.\"&Herstellerauswahl!$C$4,\"BMW Z4 Roadster, 35is, E89 (LCI), 340 PS / 250 kW\")","v":"BMW Z4 Roadster, 35is, E89 (LCI), 340 PS / 250 kW"},{"$f":"HYPERLINK(\"files\\8007.\"&Herstellerauswahl!$C$4,\"Auswahl / Select 8007\")","v":"Auswahl / Select 8007"}]

{"sheet":"G29 Roadster","index":175,"n_rows":8,"n_cols":4,"rows_kept":8,"cut":false,"hidden":false,"merged":[]}
[]
[]
["TSN/HSN","Motorauswahl für G29 Roadster","Home","Zurück / back"]
[]
["0005/CTJ",{"$f":"HYPERLINK(\"files\\8008.\"&Herstellerauswahl!$C$4,\"BMW Z4 Roadster, 20i, G29, 163 PS / 120 kW\")","v":"BMW Z4 Roadster, 20i, G29, 163 PS / 120 kW"},{"$f":"HYPERLINK(\"files\\8008.\"&Herstellerauswahl!$C$4,\"Auswahl / Select 8008\")","v":"Auswahl / Select 8008"}]
["0005/CTG",{"$f":"HYPERLINK(\"files\\8008.\"&Herstellerauswahl!$C$4,\"BMW Z4 Roadster, 20i, G29, 197 PS / 145 kW\")","v":"BMW Z4 Roadster, 20i, G29, 197 PS / 145 kW"},{"$f":"HYPERLINK(\"files\\8008.\"&Herstellerauswahl!$C$4,\"Auswahl / Select 8008\")","v":"Auswahl / Select 8008"}]
["0005/CTH",{"$f":"HYPERLINK(\"files\\8008.\"&Herstellerauswahl!$C$4,\"BMW Z4 Roadster, 30i, G29, 258 PS / 190 kW\")","v":"BMW Z4 Roadster, 30i, G29, 258 PS / 190 kW"},{"$f":"HYPERLINK(\"files\\8008.\"&Herstellerauswahl!$C$4,\"Auswahl / Select 8008\")","v":"Auswahl / Select 8008"}]
["0005/CTI",{"$f":"HYPERLINK(\"files\\8008.\"&Herstellerauswahl!$C$4,\"BMW Z4 Roadster, M40i, G29, 340 PS / 250 kW\")","v":"BMW Z4 Roadster, M40i, G29, 340 PS / 250 kW"},{"$f":"HYPERLINK(\"files\\8008.\"&Herstellerauswahl!$C$4,\"Auswahl / Select 8008\")","v":"Auswahl / Select 8008"}]

{"sheet":"Mini","index":176,"n_rows":11,"n_cols":4,"rows_kept":11,"cut":false,"hidden":false,"merged":[]}
[]
[]
[null,"Modellauswahl für Mini","Home","Zurück / back"]
[]
[null,"Mini Clubman","Auswahl / Select"]
[null,"Mini","Auswahl / Select"]
[null,"Mini Cabrio","Auswahl / Select"]
[null,"Mini Countryman","Auswahl / Select"]
[null,"Mini Coupé","Auswahl / Select"]
[null,"Mini Roadster","Auswahl / Select"]
[null,"Mini Paceman","Auswahl / Select"]

{"sheet":"Mini Clubman","index":177,"n_rows":8,"n_cols":4,"rows_kept":8,"cut":false,"hidden":false,"merged":[]}
[]
[]
[null,"Typauswahl für Mini Clubman","Home","Zurück / back"]
[]
[null,"F54","Auswahl / Select"]
[null,"F54 Facelift","Auswahl / Select"]
[null,"R55","Auswahl / Select"]
[null,"R55 Facelift","Auswahl / Select"]

{"sheet":"F54","index":178,"n_rows":20,"n_cols":4,"rows_kept":20,"cut":false,"hidden":false,"merged":[]}
[]
[]
["TSN/HSN","Motorauswahl für F54","Home","Zurück / back"]
[]
["0005/CEO/CLE",{"$f":"HYPERLINK(\"files\\9035.\"&Herstellerauswahl!$C$4,\"Mini Clubman, One 1.5, F54, 102 PS / 75 kW\")","v":"Mini Clubman, One 1.5, F54, 102 PS / 75 kW"},{"$f":"HYPERLINK(\"files\\9035.\"&Herstellerauswahl!$C$4,\"Auswahl / Select 9035\")","v":"Auswahl / Select 9035"}]
["0005/CEU/CLI",{"$f":"HYPERLINK(\"files\\9035.\"&Herstellerauswahl!$C$4,\"Mini Clubman, One D 1.5, F54, 116 PS / 85 kW\")","v":"Mini Clubman, One D 1.5, F54, 116 PS / 85 kW"},{"$f":"HYPERLINK(\"files\\9035.\"&Herstellerauswahl!$C$4,\"Auswahl / Select 9035\")","v":"Auswahl / Select 9035"}]
["0005/CEP/CLF",{"$f":"HYPERLINK(\"files\\9035.\"&Herstellerauswahl!$C$4,\"Mini Clubman, Cooper 1.5, F54, 136 PS / 100 kW\")","v":"Mini Clubman, Cooper 1.5, F54, 136 PS / 100 kW"},{"$f":"HYPERLINK(\"files\\9035.\"&Herstellerauswahl!$C$4,\"Auswahl / Select 9035\")","v":"Auswahl / Select 9035"}]
["0005/CGB/CLK",{"$f":"HYPERLINK(\"files\\9035.\"&Herstellerauswahl!$C$4,\"Mini Clubman, Cooper D 2.0, F54, 136 PS / 100 kW\")","v":"Mini Clubman, Cooper D 2.0, F54, 136 PS / 100 kW"},{"$f":"HYPERLINK(\"files\\9035.\"&Herstellerauswahl!$C$4,\"Auswahl / Select 9035\")","v":"Auswahl / Select 9035"}]
["0005/CEV/CLJ",{"$f":"HYPERLINK(\"files\\9035.\"&Herstellerauswahl!$C$4,\"Mini Clubman, Cooper D 2.0, F54, 150 PS / 110 kW\")","v":"Mini Clubman, Cooper D 2.0, F54, 150 PS / 110 kW"},{"$f":"HYPERLINK(\"files\\9035.\"&Herstellerauswahl!$C$4,\"Auswahl / Select 9035\")","v":"Auswahl / Select 9035"}]
["0005/CEQ/CLH",{"$f":"HYPERLINK(\"files\\9035.\"&Herstellerauswahl!$C$4,\"Mini Clubman, Cooper S 2.0, F54, 163 PS / 120 kW\")","v":"Mini Clubman, Cooper S 2.0, F54, 163 PS / 120 kW"},{"$f":"HYPERLINK(\"files\\9035.\"&Herstellerauswahl!$C$4,\"Auswahl / Select 9035\")","v":"Auswahl / Select 9035"}]
["0005/CES/CLO",{"$f":"HYPERLINK(\"files\\9035.\"&Herstellerauswahl!$C$4,\"Mini Clubman, Cooper S 2.0 ALL4, F54, 163 PS / 120 kW\")","v":"Mini Clubman, Cooper S 2.0 ALL4, F54, 163 PS / 120 kW"},{"$f":"HYPERLINK(\"files\\9035.\"&Herstellerauswahl!$C$4,\"Auswahl / Select 9035\")","v":"Auswahl / Select 9035"}]
["0005/CER/CLG",{"$f":"HYPERLINK(\"files\\9035.\"&Herstellerauswahl!$C$4,\"Mini Clubman, Cooper S 2.0, F54, 192 PS / 141 kW\")","v":"Mini Clubman, Cooper S 2.0, F54, 192 PS / 141 kW"},{"$f":"HYPERLINK(\"files\\9035.\"&Herstellerauswahl!$C$4,\"Auswahl / Select 9035\")","v":"Auswahl / Select 9035"}]
["0005/CET/CLN",{"$f":"HYPERLINK(\"files\\9035.\"&Herstellerauswahl!$C$4,\"Mini Clubman, Cooper S 2.0 ALL4, F54, 192 PS / 141 kW\")","v":"Mini Clubman, Cooper S 2.0 ALL4, F54, 192 PS / 141 kW"},{"$f":"HYPERLINK(\"files\\9035.\"&Herstellerauswahl!$C$4,\"Auswahl / Select 9035\")","v":"Auswahl / Select 9035"}]
["0005/CLS",{"$f":"HYPERLINK(\"files\\9035.\"&Herstellerauswahl!$C$4,\"Mini Clubman, Cooper S 2.0, F54, 211 PS / 155 kW\")","v":"Mini Clubman, Cooper S 2.0, F54, 211 PS / 155 kW"},{"$f":"HYPERLINK(\"files\\9035.\"&Herstellerauswahl!$C$4,\"Auswahl / Select 9035\")","v":"Auswahl / Select 9035"}]
["0005/CLT",{"$f":"HYPERLINK(\"files\\9035.\"&Herstellerauswahl!$C$4,\"Mini Clubman, Cooper S 2.0 ALL4, F54, 211 PS / 155 kW\")","v":"Mini Clubman, Cooper S 2.0 ALL4, F54, 211 PS / 155 kW"},{"$f":"HYPERLINK(\"files\\9035.\"&Herstellerauswahl!$C$4,\"Auswahl / Select 9035\")","v":"Auswahl / Select 9035"}]
["0005/CEW/CLM",{"$f":"HYPERLINK(\"files\\9035.\"&Herstellerauswahl!$C$4,\"Mini Clubman, Cooper SD 2.0, F54, 163 PS / 120 kW\")","v":"Mini Clubman, Cooper SD 2.0, F54, 163 PS / 120 kW"},{"$f":"HYPERLINK(\"files\\9035.\"&Herstellerauswahl!$C$4,\"Auswahl / Select 9035\")","v":"Auswahl / Select 9035"}]
["0005/CEY/CLR",{"$f":"HYPERLINK(\"files\\9035.\"&Herstellerauswahl!$C$4,\"Mini Clubman, Cooper SD 2.0 ALL4, F54, 163 PS / 120 kW\")","v":"Mini Clubman, Cooper SD 2.0 ALL4, F54, 163 PS / 120 kW"},{"$f":"HYPERLINK(\"files\\9035.\"&Herstellerauswahl!$C$4,\"Auswahl / Select 9035\")","v":"Auswahl / Select 9035"}]
["0005/CEX/CLL",{"$f":"HYPERLINK(\"files\\9035.\"&Herstellerauswahl!$C$4,\"Mini Clubman, Cooper SD 2.0, F54, 190 PS / 140 kW\")","v":"Mini Clubman, Cooper SD 2.0, F54, 190 PS / 140 kW"},{"$f":"HYPERLINK(\"files\\9035.\"&Herstellerauswahl!$C$4,\"Auswahl / Select 9035\")","v":"Auswahl / Select 9035"}]
["0005/CEZ/CLQ",{"$f":"HYPERLINK(\"files\\9035.\"&Herstellerauswahl!$C$4,\"Mini Clubman, Cooper SD 2.0 ALL4, F54, 190 PS / 140 kW\")","v":"Mini Clubman, Cooper SD 2.0 ALL4, F54, 190 PS / 140 kW"},{"$f":"HYPERLINK(\"files\\9035.\"&Herstellerauswahl!$C$4,\"Auswahl / Select 9035\")","v":"Auswahl / Select 9035"}]
["0005/CLP",{"$f":"HYPERLINK(\"files\\9035.\"&Herstellerauswahl!$C$4,\"Mini Clubman, John Cooper Works 2.0 ALL4, F54, 231 PS / 170 kW\")","v":"Mini Clubman, John Cooper Works 2.0 ALL4, F54, 231 PS / 170 kW"},{"$f":"HYPERLINK(\"files\\9035.\"&Herstellerauswahl!$C$4,\"Auswahl / Select 9035\")","v":"Auswahl / Select 9035"}]

{"sheet":"F54 Facelift","index":179,"n_rows":17,"n_cols":4,"rows_kept":17,"cut":false,"hidden":false,"merged":[]}
[]
[]
["TSN/HSN","Motorauswahl für F54 Facelift","Home","Zurück / back"]
[]
["0005/CLE",{"$f":"HYPERLINK(\"files\\9035.\"&Herstellerauswahl!$C$4,\"Mini Clubman, One 1.5, F54 (LCI), 102 PS / 75 kW\")","v":"Mini Clubman, One 1.5, F54 (LCI), 102 PS / 75 kW"},{"$f":"HYPERLINK(\"files\\9035.\"&Herstellerauswahl!$C$4,\"Auswahl / Select 9035\")","v":"Auswahl / Select 9035"}]
["0005/CLI",{"$f":"HYPERLINK(\"files\\9035.\"&Herstellerauswahl!$C$4,\"Mini Clubman, One 1.5 D, F54 (LCI), 116 PS / 85 kW\")","v":"Mini Clubman, One 1.5 D, F54 (LCI), 116 PS / 85 kW"},{"$f":"HYPERLINK(\"files\\9035.\"&Herstellerauswahl!$C$4,\"Auswahl / Select 9035\")","v":"Auswahl / Select 9035"}]
["0005/CLF",{"$f":"HYPERLINK(\"files\\9035.\"&Herstellerauswahl!$C$4,\"Mini Clubman, Cooper 1.5, F54 (LCI), 136 PS / 100 kW\")","v":"Mini Clubman, Cooper 1.5, F54 (LCI), 136 PS / 100 kW"},{"$f":"HYPERLINK(\"files\\9035.\"&Herstellerauswahl!$C$4,\"Auswahl / Select 9035\")","v":"Auswahl / Select 9035"}]
["0005/CLK",{"$f":"HYPERLINK(\"files\\9035.\"&Herstellerauswahl!$C$4,\"Mini Clubman, Cooper 2.0 D, F54 (LCI), 136 PS / 100 kW\")","v":"Mini Clubman, Cooper 2.0 D, F54 (LCI), 136 PS / 100 kW"},{"$f":"HYPERLINK(\"files\\9035.\"&Herstellerauswahl!$C$4,\"Auswahl / Select 9035\")","v":"Auswahl / Select 9035"}]
["0005/CLJ",{"$f":"HYPERLINK(\"files\\9035.\"&Herstellerauswahl!$C$4,\"Mini Clubman, Cooper 2.0 D, F54 (LCI), 150 PS / 110 kW\")","v":"Mini Clubman, Cooper 2.0 D, F54 (LCI), 150 PS / 110 kW"},{"$f":"HYPERLINK(\"files\\9035.\"&Herstellerauswahl!$C$4,\"Auswahl / Select 9035\")","v":"Auswahl / Select 9035"}]
["0005/CLH",{"$f":"HYPERLINK(\"files\\9035.\"&Herstellerauswahl!$C$4,\"Mini Clubman, Cooper S 2.0, F54 (LCI), 163 PS / 120 kW\")","v":"Mini Clubman, Cooper S 2.0, F54 (LCI), 163 PS / 120 kW"},{"$f":"HYPERLINK(\"files\\9035.\"&Herstellerauswahl!$C$4,\"Auswahl / Select 9035\")","v":"Auswahl / Select 9035"}]
["0005/DDB",{"$f":"HYPERLINK(\"files\\9035.\"&Herstellerauswahl!$C$4,\"Mini Clubman, Cooper S 2.0, F54 (LCI), 178 PS / 131 kW\")","v":"Mini Clubman, Cooper S 2.0, F54 (LCI), 178 PS / 131 kW"},{"$f":"HYPERLINK(\"files\\9035.\"&Herstellerauswahl!$C$4,\"Auswahl / Select 9035\")","v":"Auswahl / Select 9035"}]
["0005/DDC",{"$f":"HYPERLINK(\"files\\9035.\"&Herstellerauswahl!$C$4,\"Mini Clubman, Cooper S 2.0 ALL4, F54 (LCI), 178 PS / 131 kW\")","v":"Mini Clubman, Cooper S 2.0 ALL4, F54 (LCI), 178 PS / 131 kW"},{"$f":"HYPERLINK(\"files\\9035.\"&Herstellerauswahl!$C$4,\"Auswahl / Select 9035\")","v":"Auswahl / Select 9035"}]
["0005/CLL",{"$f":"HYPERLINK(\"files\\9035.\"&Herstellerauswahl!$C$4,\"Mini Clubman, Cooper 2.0 SD, F54 (LCI), 190 PS / 140 kW\")","v":"Mini Clubman, Cooper 2.0 SD, F54 (LCI), 190 PS / 140 kW"},{"$f":"HYPERLINK(\"files\\9035.\"&Herstellerauswahl!$C$4,\"Auswahl / Select 9035\")","v":"Auswahl / Select 9035"}]
["0005/CLQ",{"$f":"HYPERLINK(\"files\\9035.\"&Herstellerauswahl!$C$4,\"Mini Clubman, Cooper 2.0 SD ALL4, F54 (LCI), 190 PS / 140 kW\")","v":"Mini Clubman, Cooper 2.0 SD ALL4, F54 (LCI), 190 PS / 140 kW"},{"$f":"HYPERLINK(\"files\\9035.\"&Herstellerauswahl!$C$4,\"Auswahl / Select 9035\")","v":"Auswahl / Select 9035"}]
["0005/CLG",{"$f":"HYPERLINK(\"files\\9035.\"&Herstellerauswahl!$C$4,\"Mini Clubman, Cooper S 2.0, F54 (LCI), 192 PS / 141 kW\")","v":"Mini Clubman, Cooper S 2.0, F54 (LCI), 192 PS / 141 kW"},{"$f":"HYPERLINK(\"files\\9035.\"&Herstellerauswahl!$C$4,\"Auswahl / Select 9035\")","v":"Auswahl / Select 9035"}]
["0005/CLN",{"$f":"HYPERLINK(\"files\\9035.\"&Herstellerauswahl!$C$4,\"Mini Clubman, Cooper S 2.0 ALL4, F54 (LCI), 192 PS / 141 kW\")","v":"Mini Clubman, Cooper S 2.0 ALL4, F54 (LCI), 192 PS / 141 kW"},{"$f":"HYPERLINK(\"files\\9035.\"&Herstellerauswahl!$C$4,\"Auswahl / Select 9035\")","v":"Auswahl / Select 9035"}]
["0005/CWH",{"$f":"HYPERLINK(\"files\\9035.\"&Herstellerauswahl!$C$4,\"Mini Clubman, John Cooper Works 2.0 ALL4, F54 (LCI), 306 PS / 225 kW\")","v":"Mini Clubman, John Cooper Works 2.0 ALL4, F54 (LCI), 306 PS / 225 kW"},{"$f":"HYPERLINK(\"files\\9035.\"&Herstellerauswahl!$C$4,\"Auswahl / Select 9035\")","v":"Auswahl / Select 9035"}]

{"sheet":"R55","index":180,"n_rows":15,"n_cols":4,"rows_kept":15,"cut":false,"hidden":false,"merged":[]}
[]
[]
["TSN/HSN","Motorauswahl für R55","Home","Zurück / back"]
[]
["0005/AOJ",{"$f":"HYPERLINK(\"files\\9010.\"&Herstellerauswahl!$C$4,\"Mini Clubman, One 1.4, R55, 95 PS / 70 kW\")","v":"Mini Clubman, One 1.4, R55, 95 PS / 70 kW"},{"$f":"HYPERLINK(\"files\\9010.\"&Herstellerauswahl!$C$4,\"Auswahl / Select 9010\")","v":"Auswahl / Select 9010"}]
["0005/ATJ",{"$f":"HYPERLINK(\"files\\9010.\"&Herstellerauswahl!$C$4,\"Mini Clubman, One 1.6, R55, 98 PS / 72 kW\")","v":"Mini Clubman, One 1.6, R55, 98 PS / 72 kW"},{"$f":"HYPERLINK(\"files\\9010.\"&Herstellerauswahl!$C$4,\"Auswahl / Select 9010\")","v":"Auswahl / Select 9010"}]
["0005/AJJ",{"$f":"HYPERLINK(\"files\\9010.\"&Herstellerauswahl!$C$4,\"Mini Clubman, One 1.6, R55, 98 PS / 72 kW\")","v":"Mini Clubman, One 1.6, R55, 98 PS / 72 kW"},{"$f":"HYPERLINK(\"files\\9010.\"&Herstellerauswahl!$C$4,\"Auswahl / Select 9010\")","v":"Auswahl / Select 9010"}]
["0005/ATK",{"$f":"HYPERLINK(\"files\\9010.\"&Herstellerauswahl!$C$4,\"Mini Clubman, One 1.6, R55, 122 PS / 90 kW\")","v":"Mini Clubman, One 1.6, R55, 122 PS / 90 kW"},{"$f":"HYPERLINK(\"files\\9010.\"&Herstellerauswahl!$C$4,\"Auswahl / Select 9010\")","v":"Auswahl / Select 9010"}]
["0005/AJH/ATL",{"$f":"HYPERLINK(\"files\\9010.\"&Herstellerauswahl!$C$4,\"Mini Clubman, One 1.6 D, R55, 109 PS / 80 kW\")","v":"Mini Clubman, One 1.6 D, R55, 109 PS / 80 kW"},{"$f":"HYPERLINK(\"files\\9010.\"&Herstellerauswahl!$C$4,\"Auswahl / Select 9010\")","v":"Auswahl / Select 9010"}]
["0005/AJL/ATP",{"$f":"HYPERLINK(\"files\\9010.\"&Herstellerauswahl!$C$4,\"Mini Clubman, Cooper 1.6, R55, 116 PS / 85 kW\")","v":"Mini Clubman, Cooper 1.6, R55, 116 PS / 85 kW"},{"$f":"HYPERLINK(\"files\\9010.\"&Herstellerauswahl!$C$4,\"Auswahl / Select 9010\")","v":"Auswahl / Select 9010"}]
["0005/AJK/ATQ",{"$f":"HYPERLINK(\"files\\9010.\"&Herstellerauswahl!$C$4,\"Mini Clubman, Cooper S, R55, 163 PS / 120 kW\")","v":"Mini Clubman, Cooper S, R55, 163 PS / 120 kW"},{"$f":"HYPERLINK(\"files\\9010.\"&Herstellerauswahl!$C$4,\"Auswahl / Select 9010\")","v":"Auswahl / Select 9010"}]
["0005/AJI",{"$f":"HYPERLINK(\"files\\9010.\"&Herstellerauswahl!$C$4,\"Mini Clubman, Cooper S, R55, 174 PS / 128 kW\")","v":"Mini Clubman, Cooper S, R55, 174 PS / 128 kW"},{"$f":"HYPERLINK(\"files\\9010.\"&Herstellerauswahl!$C$4,\"Auswahl / Select 9010\")","v":"Auswahl / Select 9010"}]
["0005/ATM",{"$f":"HYPERLINK(\"files\\9010.\"&Herstellerauswahl!$C$4,\"Mini Clubman, Cooper S, R55, 184 PS / 135 kW\")","v":"Mini Clubman, Cooper S, R55, 184 PS / 135 kW"},{"$f":"HYPERLINK(\"files\\9010.\"&Herstellerauswahl!$C$4,\"Auswahl / Select 9010\")","v":"Auswahl / Select 9010"}]
["0005/AOP",{"$f":"HYPERLINK(\"files\\9010.\"&Herstellerauswahl!$C$4,\"Mini Clubman, Cooper S, R55, 192 PS / 141 kW\")","v":"Mini Clubman, Cooper S, R55, 192 PS / 141 kW"},{"$f":"HYPERLINK(\"files\\9010.\"&Herstellerauswahl!$C$4,\"Auswahl / Select 9010\")","v":"Auswahl / Select 9010"}]
["0005/AMZ/ATO",{"$f":"HYPERLINK(\"files\\9010.\"&Herstellerauswahl!$C$4,\"Mini Clubman, Cooper S, R55, 211 PS / 155 kW\")","v":"Mini Clubman, Cooper S, R55, 211 PS / 155 kW"},{"$f":"HYPERLINK(\"files\\9010.\"&Herstellerauswahl!$C$4,\"Auswahl / Select 9010\")","v":"Auswahl / Select 9010"}]

{"sheet":"R55 Facelift","index":181,"n_rows":17,"n_cols":4,"rows_kept":17,"cut":false,"hidden":false,"merged":[]}
[]
[]
["TSN/HSN","Motorauswahl für R55 Facelift","Home","Zurück / back"]
[]
["0005/AZY",{"$f":"HYPERLINK(\"files\\9010.\"&Herstellerauswahl!$C$4,\"Mini Clubman, One 1.6 D, R55 (LCI), 90 PS / 66 kW\")","v":"Mini Clubman, One 1.6 D, R55 (LCI), 90 PS / 66 kW"},{"$f":"HYPERLINK(\"files\\9010.\"&Herstellerauswahl!$C$4,\"Auswahl / Select 9010\")","v":"Auswahl / Select 9010"}]
["0005/ATJ/BEW",{"$f":"HYPERLINK(\"files\\9010.\"&Herstellerauswahl!$C$4,\"Mini Clubman, One 1.6, R55 (LCI), 98 PS / 72 kW\")","v":"Mini Clubman, One 1.6, R55 (LCI), 98 PS / 72 kW"},{"$f":"HYPERLINK(\"files\\9010.\"&Herstellerauswahl!$C$4,\"Auswahl / Select 9010\")","v":"Auswahl / Select 9010"}]
["0005/AZZ/BFF",{"$f":"HYPERLINK(\"files\\9010.\"&Herstellerauswahl!$C$4,\"Mini Clubman, One 1.6 D, R55 (LCI), 112 PS / 82 kW\")","v":"Mini Clubman, One 1.6 D, R55 (LCI), 112 PS / 82 kW"},{"$f":"HYPERLINK(\"files\\9010.\"&Herstellerauswahl!$C$4,\"Auswahl / Select 9010\")","v":"Auswahl / Select 9010"}]
["0005/BCQ/BFG",{"$f":"HYPERLINK(\"files\\9010.\"&Herstellerauswahl!$C$4,\"Mini Clubman, One 2.0 D, R55 (LCI), 112 PS / 82 kW\")","v":"Mini Clubman, One 2.0 D, R55 (LCI), 112 PS / 82 kW"},{"$f":"HYPERLINK(\"files\\9010.\"&Herstellerauswahl!$C$4,\"Auswahl / Select 9010\")","v":"Auswahl / Select 9010"}]
["0005/BAO/BFB",{"$f":"HYPERLINK(\"files\\9010.\"&Herstellerauswahl!$C$4,\"Mini Clubman, One 1.6, R55 (LCI), 120 PS / 88 kW\")","v":"Mini Clubman, One 1.6, R55 (LCI), 120 PS / 88 kW"},{"$f":"HYPERLINK(\"files\\9010.\"&Herstellerauswahl!$C$4,\"Auswahl / Select 9010\")","v":"Auswahl / Select 9010"}]
["0005/ATK/BFD",{"$f":"HYPERLINK(\"files\\9010.\"&Herstellerauswahl!$C$4,\"Mini Clubman, One 1.6, R55 (LCI), 122 PS / 90 kW\")","v":"Mini Clubman, One 1.6, R55 (LCI), 122 PS / 90 kW"},{"$f":"HYPERLINK(\"files\\9010.\"&Herstellerauswahl!$C$4,\"Auswahl / Select 9010\")","v":"Auswahl / Select 9010"}]
["0005/BCR",{"$f":"HYPERLINK(\"files\\9010.\"&Herstellerauswahl!$C$4,\"Mini Clubman, One 2.0 D, R55 (LCI), 136 PS / 100 kW\")","v":"Mini Clubman, One 2.0 D, R55 (LCI), 136 PS / 100 kW"},{"$f":"HYPERLINK(\"files\\9010.\"&Herstellerauswahl!$C$4,\"Auswahl / Select 9010\")","v":"Auswahl / Select 9010"}]
["0005/ATP/BFC",{"$f":"HYPERLINK(\"files\\9010.\"&Herstellerauswahl!$C$4,\"Mini Clubman, Cooper 1.6, R55 (LCI), 116 PS / 85 kW\")","v":"Mini Clubman, Cooper 1.6, R55 (LCI), 116 PS / 85 kW"},{"$f":"HYPERLINK(\"files\\9010.\"&Herstellerauswahl!$C$4,\"Auswahl / Select 9010\")","v":"Auswahl / Select 9010"}]
["0005/BCS",{"$f":"HYPERLINK(\"files\\9010.\"&Herstellerauswahl!$C$4,\"Mini Clubman, Cooper SD 2.0, R55 (LCI), 143 PS / 105 kW\")","v":"Mini Clubman, Cooper SD 2.0, R55 (LCI), 143 PS / 105 kW"},{"$f":"HYPERLINK(\"files\\9010.\"&Herstellerauswahl!$C$4,\"Auswahl / Select 9010\")","v":"Auswahl / Select 9010"}]
["0005/ATQ",{"$f":"HYPERLINK(\"files\\9010.\"&Herstellerauswahl!$C$4,\"Mini Clubman, Cooper S, R55 (LCI), 163 PS / 120 kW\")","v":"Mini Clubman, Cooper S, R55 (LCI), 163 PS / 120 kW"},{"$f":"HYPERLINK(\"files\\9010.\"&Herstellerauswahl!$C$4,\"Auswahl / Select 9010\")","v":"Auswahl / Select 9010"}]
["0005/ATM",{"$f":"HYPERLINK(\"files\\9010.\"&Herstellerauswahl!$C$4,\"Mini Clubman, Cooper S, R55 (LCI), 184 PS / 135 kW\")","v":"Mini Clubman, Cooper S, R55 (LCI), 184 PS / 135 kW"},{"$f":"HYPERLINK(\"files\\9010.\"&Herstellerauswahl!$C$4,\"Auswahl / Select 9010\")","v":"Auswahl / Select 9010"}]
["0005/BBL",{"$f":"HYPERLINK(\"files\\9010.\"&Herstellerauswahl!$C$4,\"Mini Clubman, Cooper S, R55 (LCI), 200 PS / 147 kW\")","v":"Mini Clubman, Cooper S, R55 (LCI), 200 PS / 147 kW"},{"$f":"HYPERLINK(\"files\\9010.\"&Herstellerauswahl!$C$4,\"Auswahl / Select 9010\")","v":"Auswahl / Select 9010"}]
["0005/ATO",{"$f":"HYPERLINK(\"files\\9011.\"&Herstellerauswahl!$C$4,\"Mini Clubman, John Cooper Works, R55 (LCI), 211 PS / 155 kW\")","v":"Mini Clubman, John Cooper Works, R55 (LCI), 211 PS / 155 kW"},{"$f":"HYPERLINK(\"files\\9011.\"&Herstellerauswahl!$C$4,\"Auswahl / Select 9011\")","v":"Auswahl / Select 9011"}]

{"sheet":"Mini_1","index":182,"n_rows":13,"n_cols":4,"rows_kept":13,"cut":false,"hidden":false,"merged":[]}
[]
[]
[null,"Typauswahl für Mini","Home","Zurück / back"]
[]
[null,"F55 5-Türer","Auswahl / Select"]
[null,"F55 Facelift 5-Türer","Auswahl / Select"]
[null,"F56 3-Türer","Auswahl / Select"]
[null,"F56 Facelift 3-Türer","Auswahl / Select"]
[null,"R50 3-Türer","Auswahl / Select"]
[null,"R50  3-Türer","Auswahl / Select"]
[null,"R53 3-Türer","Auswahl / Select"]
[null,"R56 3-Türer","Auswahl / Select"]
[null,"R56 Facelift 3-Türer","Auswahl / Select"]

{"sheet":"F55 5-Türer","index":183,"n_rows":16,"n_cols":4,"rows_kept":16,"cut":false,"hidden":false,"merged":[]}
[]
[]
["TSN/HSN","Motorauswahl für F55 5-Türer","Home","Zurück / back"]
[]
["0005/BXB/CLU",{"$f":"HYPERLINK(\"files\\9032.\"&Herstellerauswahl!$C$4,\"Mini 5-Türer, One 1.2, F55, 75 PS / 55 kW\")","v":"Mini 5-Türer, One 1.2, F55, 75 PS / 55 kW"},{"$f":"HYPERLINK(\"files\\9032.\"&Herstellerauswahl!$C$4,\"Auswahl / Select 9032\")","v":"Auswahl / Select 9032"}]
["0005/CRQ",{"$f":"HYPERLINK(\"files\\9032.\"&Herstellerauswahl!$C$4,\"Mini 5-Türer, One 1.5, F55, 75 PS / 55 kW\")","v":"Mini 5-Türer, One 1.5, F55, 75 PS / 55 kW"},{"$f":"HYPERLINK(\"files\\9032.\"&Herstellerauswahl!$C$4,\"Auswahl / Select 9032\")","v":"Auswahl / Select 9032"}]
["0005/BXC/CLV",{"$f":"HYPERLINK(\"files\\9032.\"&Herstellerauswahl!$C$4,\"Mini 5-Türer, One, F55, 102 PS / 75 kW\")","v":"Mini 5-Türer, One, F55, 102 PS / 75 kW"},{"$f":"HYPERLINK(\"files\\9032.\"&Herstellerauswahl!$C$4,\"Auswahl / Select 9032\")","v":"Auswahl / Select 9032"}]
["0005/CRR",{"$f":"HYPERLINK(\"files\\9032.\"&Herstellerauswahl!$C$4,\"Mini 5-Türer, One 1.5, F55, 102 PS / 75 kW\")","v":"Mini 5-Türer, One 1.5, F55, 102 PS / 75 kW"},{"$f":"HYPERLINK(\"files\\9032.\"&Herstellerauswahl!$C$4,\"Auswahl / Select 9032\")","v":"Auswahl / Select 9032"}]
["0005/BXF/CLZ",{"$f":"HYPERLINK(\"files\\9032.\"&Herstellerauswahl!$C$4,\"Mini 5-Türer, One D, F55, 95 PS / 70 kW\")","v":"Mini 5-Türer, One D, F55, 95 PS / 70 kW"},{"$f":"HYPERLINK(\"files\\9032.\"&Herstellerauswahl!$C$4,\"Auswahl / Select 9032\")","v":"Auswahl / Select 9032"}]
["0005/BXD/CLW",{"$f":"HYPERLINK(\"files\\9032.\"&Herstellerauswahl!$C$4,\"Mini 5-Türer, Cooper, F55, 136 PS / 100 kW\")","v":"Mini 5-Türer, Cooper, F55, 136 PS / 100 kW"},{"$f":"HYPERLINK(\"files\\9032.\"&Herstellerauswahl!$C$4,\"Auswahl / Select 9032\")","v":"Auswahl / Select 9032"}]
["0005/BXG/CMA",{"$f":"HYPERLINK(\"files\\9032.\"&Herstellerauswahl!$C$4,\"Mini 5-Türer, Cooper D, F55, 116 PS / 85 kW\")","v":"Mini 5-Türer, Cooper D, F55, 116 PS / 85 kW"},{"$f":"HYPERLINK(\"files\\9032.\"&Herstellerauswahl!$C$4,\"Auswahl / Select 9032\")","v":"Auswahl / Select 9032"}]
["0005/BZJ/CLY",{"$f":"HYPERLINK(\"files\\9032.\"&Herstellerauswahl!$C$4,\"Mini 5-Türer, Cooper S, F55, 163 PS / 120 kW\")","v":"Mini 5-Türer, Cooper S, F55, 163 PS / 120 kW"},{"$f":"HYPERLINK(\"files\\9032.\"&Herstellerauswahl!$C$4,\"Auswahl / Select 9032\")","v":"Auswahl / Select 9032"}]
["0005/BXE/CLX",{"$f":"HYPERLINK(\"files\\9032.\"&Herstellerauswahl!$C$4,\"Mini 5-Türer, Cooper S, F55, 192 PS / 141 kW\")","v":"Mini 5-Türer, Cooper S, F55, 192 PS / 141 kW"},{"$f":"HYPERLINK(\"files\\9032.\"&Herstellerauswahl!$C$4,\"Auswahl / Select 9032\")","v":"Auswahl / Select 9032"}]
["0005/BZA/CMD",{"$f":"HYPERLINK(\"files\\9032.\"&Herstellerauswahl!$C$4,\"Mini 5-Türer, Cooper S, F55, 211 PS / 155 kW\")","v":"Mini 5-Türer, Cooper S, F55, 211 PS / 155 kW"},{"$f":"HYPERLINK(\"files\\9032.\"&Herstellerauswahl!$C$4,\"Auswahl / Select 9032\")","v":"Auswahl / Select 9032"}]
["0005/CBN/CMC",{"$f":"HYPERLINK(\"files\\9032.\"&Herstellerauswahl!$C$4,\"Mini 5-Türer, Cooper SD, F55, 163 PS / 120 kW\")","v":"Mini 5-Türer, Cooper SD, F55, 163 PS / 120 kW"},{"$f":"HYPERLINK(\"files\\9032.\"&Herstellerauswahl!$C$4,\"Auswahl / Select 9032\")","v":"Auswahl / Select 9032"}]
["0005/BXH/CMB",{"$f":"HYPERLINK(\"files\\9032.\"&Herstellerauswahl!$C$4,\"Mini 5-Türer, Cooper SD, F55, 170 PS / 125 kW\")","v":"Mini 5-Türer, Cooper SD, F55, 170 PS / 125 kW"},{"$f":"HYPERLINK(\"files\\9032.\"&Herstellerauswahl!$C$4,\"Auswahl / Select 9032\")","v":"Auswahl / Select 9032"}]

{"sheet":"F55 Facelift 5-Türer","index":184,"n_rows":12,"n_cols":4,"rows_kept":12,"cut":false,"hidden":false,"merged":[]}
[]
[]
["TSN/HSN","Motorauswahl für F55 Facelift 5-Türer","Home","Zurück / back"]
[]
["0005/CRQ",{"$f":"HYPERLINK(\"files\\9032.\"&Herstellerauswahl!$C$4,\"Mini 5-Türer, One 1.5, F55 (LCI), 75 PS / 55 kW\")","v":"Mini 5-Türer, One 1.5, F55 (LCI), 75 PS / 55 kW"},{"$f":"HYPERLINK(\"files\\9032.\"&Herstellerauswahl!$C$4,\"Auswahl / Select 9032\")","v":"Auswahl / Select 9032"}]
["0005/CRR",{"$f":"HYPERLINK(\"files\\9032.\"&Herstellerauswahl!$C$4,\"Mini 5-Türer, One 1.5, F55 (LCI), 102 PS / 75 kW\")","v":"Mini 5-Türer, One 1.5, F55 (LCI), 102 PS / 75 kW"},{"$f":"HYPERLINK(\"files\\9032.\"&Herstellerauswahl!$C$4,\"Auswahl / Select 9032\")","v":"Auswahl / Select 9032"}]
["0005/CLZ",{"$f":"HYPERLINK(\"files\\9032.\"&Herstellerauswahl!$C$4,\"Mini 5-Türer, One 1.5 D, F55 (LCI), 95 PS / 70 kW\")","v":"Mini 5-Türer, One 1.5 D, F55 (LCI), 95 PS / 70 kW"},{"$f":"HYPERLINK(\"files\\9032.\"&Herstellerauswahl!$C$4,\"Auswahl / Select 9032\")","v":"Auswahl / Select 9032"}]
["0005/CLY",{"$f":"HYPERLINK(\"files\\9032.\"&Herstellerauswahl!$C$4,\"Mini 5-Türer, Cooper S 2.0, F55 (LCI), 163 PS / 120 kW\")","v":"Mini 5-Türer, Cooper S 2.0, F55 (LCI), 163 PS / 120 kW"},{"$f":"HYPERLINK(\"files\\9032.\"&Herstellerauswahl!$C$4,\"Auswahl / Select 9032\")","v":"Auswahl / Select 9032"}]
["0005/DFJ",{"$f":"HYPERLINK(\"files\\9032.\"&Herstellerauswahl!$C$4,\"Mini 5-Türer, Cooper S 2.0, F55 (LCI), 178 PS / 131 kW\")","v":"Mini 5-Türer, Cooper S 2.0, F55 (LCI), 178 PS / 131 kW"},{"$f":"HYPERLINK(\"files\\9032.\"&Herstellerauswahl!$C$4,\"Auswahl / Select 9032\")","v":"Auswahl / Select 9032"}]
["0005/CLX",{"$f":"HYPERLINK(\"files\\9032.\"&Herstellerauswahl!$C$4,\"Mini 5-Türer, Cooper S 2.0, F55 (LCI), 192 PS / 141 kW\")","v":"Mini 5-Türer, Cooper S 2.0, F55 (LCI), 192 PS / 141 kW"},{"$f":"HYPERLINK(\"files\\9032.\"&Herstellerauswahl!$C$4,\"Auswahl / Select 9032\")","v":"Auswahl / Select 9032"}]
["0005/CMC",{"$f":"HYPERLINK(\"files\\9032.\"&Herstellerauswahl!$C$4,\"Mini 5-Türer, Cooper SD 2.0, F55 (LCI), 163 PS / 120 kW\")","v":"Mini 5-Türer, Cooper SD 2.0, F55 (LCI), 163 PS / 120 kW"},{"$f":"HYPERLINK(\"files\\9032.\"&Herstellerauswahl!$C$4,\"Auswahl / Select 9032\")","v":"Auswahl / Select 9032"}]
["0005/CMB",{"$f":"HYPERLINK(\"files\\9032.\"&Herstellerauswahl!$C$4,\"Mini 5-Türer, Cooper SD 2.0, F55 (LCI), 170 PS / 125 kW\")","v":"Mini 5-Türer, Cooper SD 2.0, F55 (LCI), 170 PS / 125 kW"},{"$f":"HYPERLINK(\"files\\9032.\"&Herstellerauswahl!$C$4,\"Auswahl / Select 9032\")","v":"Auswahl / Select 9032"}]

{"sheet":"F56 3-Türer","index":185,"n_rows":17,"n_cols":4,"rows_kept":17,"cut":false,"hidden":false,"merged":[]}
[]
[]
["TSN/HSN","Motorauswahl für F56 3-Türer","Home","Zurück / back"]
[]
["0005/BTN/CME",{"$f":"HYPERLINK(\"files\\9032.\"&Herstellerauswahl!$C$4,\"Mini 3-Türer, One 1.2, F56, 75 PS / 55 kW\")","v":"Mini 3-Türer, One 1.2, F56, 75 PS / 55 kW"},{"$f":"HYPERLINK(\"files\\9032.\"&Herstellerauswahl!$C$4,\"Auswahl / Select 9032\")","v":"Auswahl / Select 9032"}]
["0005/CRO",{"$f":"HYPERLINK(\"files\\9032.\"&Herstellerauswahl!$C$4,\"Mini 3-Türer, One 1.5, F56, 75 PS / 55 kW\")","v":"Mini 3-Türer, One 1.5, F56, 75 PS / 55 kW"},{"$f":"HYPERLINK(\"files\\9032.\"&Herstellerauswahl!$C$4,\"Auswahl / Select 9032\")","v":"Auswahl / Select 9032"}]
["0005/BTO/BXJ/CMF",{"$f":"HYPERLINK(\"files\\9032.\"&Herstellerauswahl!$C$4,\"Mini 3-Türer, One 1.2, F56, 102 PS / 75 kW\")","v":"Mini 3-Türer, One 1.2, F56, 102 PS / 75 kW"},{"$f":"HYPERLINK(\"files\\9032.\"&Herstellerauswahl!$C$4,\"Auswahl / Select 9032\")","v":"Auswahl / Select 9032"}]
["0005/CRO",{"$f":"HYPERLINK(\"files\\9032.\"&Herstellerauswahl!$C$4,\"Mini 3-Türer, One 1.5, F56, 102 PS / 75 kW\")","v":"Mini 3-Türer, One 1.5, F56, 102 PS / 75 kW"},{"$f":"HYPERLINK(\"files\\9032.\"&Herstellerauswahl!$C$4,\"Auswahl / Select 9032\")","v":"Auswahl / Select 9032"}]
["0005/BTT/BXN/CMJ",{"$f":"HYPERLINK(\"files\\9032.\"&Herstellerauswahl!$C$4,\"Mini 3-Türer, One D 1.5, F56, 95 PS / 70 kW\")","v":"Mini 3-Türer, One D 1.5, F56, 95 PS / 70 kW"},{"$f":"HYPERLINK(\"files\\9032.\"&Herstellerauswahl!$C$4,\"Auswahl / Select 9032\")","v":"Auswahl / Select 9032"}]
["0005/BTP/BXK/CMG",{"$f":"HYPERLINK(\"files\\9032.\"&Herstellerauswahl!$C$4,\"Mini 3-Türer, Cooper, F56, 136 PS / 100 kW\")","v":"Mini 3-Türer, Cooper, F56, 136 PS / 100 kW"},{"$f":"HYPERLINK(\"files\\9032.\"&Herstellerauswahl!$C$4,\"Auswahl / Select 9032\")","v":"Auswahl / Select 9032"}]
["0005/BTU/BXO/CMK",{"$f":"HYPERLINK(\"files\\9032.\"&Herstellerauswahl!$C$4,\"Mini 3-Türer, Cooper D, F56, 116 PS / 85 kW\")","v":"Mini 3-Türer, Cooper D, F56, 116 PS / 85 kW"},{"$f":"HYPERLINK(\"files\\9032.\"&Herstellerauswahl!$C$4,\"Auswahl / Select 9032\")","v":"Auswahl / Select 9032"}]
["0005/BTQ/BXL/CMI",{"$f":"HYPERLINK(\"files\\9032.\"&Herstellerauswahl!$C$4,\"Mini 3-Türer, Cooper S, F56, 163 PS / 120 kW\")","v":"Mini 3-Türer, Cooper S, F56, 163 PS / 120 kW"},{"$f":"HYPERLINK(\"files\\9032.\"&Herstellerauswahl!$C$4,\"Auswahl / Select 9032\")","v":"Auswahl / Select 9032"}]
["0005/BTR/BXM/CMH",{"$f":"HYPERLINK(\"files\\9032.\"&Herstellerauswahl!$C$4,\"Mini 3-Türer, Cooper S, F56, 192 PS / 141 kW\")","v":"Mini 3-Türer, Cooper S, F56, 192 PS / 141 kW"},{"$f":"HYPERLINK(\"files\\9032.\"&Herstellerauswahl!$C$4,\"Auswahl / Select 9032\")","v":"Auswahl / Select 9032"}]
["0005/BYZ/CMO",{"$f":"HYPERLINK(\"files\\9032.\"&Herstellerauswahl!$C$4,\"Mini 3-Türer, Cooper S, F56, 211 PS / 155 kW\")","v":"Mini 3-Türer, Cooper S, F56, 211 PS / 155 kW"},{"$f":"HYPERLINK(\"files\\9032.\"&Herstellerauswahl!$C$4,\"Auswahl / Select 9032\")","v":"Auswahl / Select 9032"}]
["0005/BTV/CMM",{"$f":"HYPERLINK(\"files\\9032.\"&Herstellerauswahl!$C$4,\"Mini 3-Türer, Cooper SD, F56, 163 PS / 120 kW\")","v":"Mini 3-Türer, Cooper SD, F56, 163 PS / 120 kW"},{"$f":"HYPERLINK(\"files\\9032.\"&Herstellerauswahl!$C$4,\"Auswahl / Select 9032\")","v":"Auswahl / Select 9032"}]
["0005/BTW/CML",{"$f":"HYPERLINK(\"files\\9032.\"&Herstellerauswahl!$C$4,\"Mini 3-Türer, Cooper SD, F56, 170 PS / 125 kW\")","v":"Mini 3-Türer, Cooper SD, F56, 170 PS / 125 kW"},{"$f":"HYPERLINK(\"files\\9032.\"&Herstellerauswahl!$C$4,\"Auswahl / Select 9032\")","v":"Auswahl / Select 9032"}]
["0005/CCR/CMN",{"$f":"HYPERLINK(\"files\\9034.\"&Herstellerauswahl!$C$4,\"Mini 3-Türer, John Cooper Works, F56, 231 PS / 170 kW\")","v":"Mini 3-Türer, John Cooper Works, F56, 231 PS / 170 kW"},{"$f":"HYPERLINK(\"files\\9034.\"&Herstellerauswahl!$C$4,\"Auswahl / Select 9034\")","v":"Auswahl / Select 9034"}]

{"sheet":"F56 Facelift 3-Türer","index":186,"n_rows":15,"n_cols":4,"rows_kept":15,"cut":false,"hidden":false,"merged":[]}
[]
[]
["TSN/HSN","Motorauswahl für F56 Facelift 3-Türer","Home","Zurück / back"]
[]
["0005/CRO",{"$f":"HYPERLINK(\"files\\9032.\"&Herstellerauswahl!$C$4,\"Mini 3-Türer, One 1.5, F56 (LCI), 75 PS / 55 kW\")","v":"Mini 3-Türer, One 1.5, F56 (LCI), 75 PS / 55 kW"},{"$f":"HYPERLINK(\"files\\9032.\"&Herstellerauswahl!$C$4,\"Auswahl / Select 9032\")","v":"Auswahl / Select 9032"}]
["0005/CRP",{"$f":"HYPERLINK(\"files\\9032.\"&Herstellerauswahl!$C$4,\"Mini 3-Türer, One 1.5, F56 (LCI), 102 PS / 75 kW\")","v":"Mini 3-Türer, One 1.5, F56 (LCI), 102 PS / 75 kW"},{"$f":"HYPERLINK(\"files\\9032.\"&Herstellerauswahl!$C$4,\"Auswahl / Select 9032\")","v":"Auswahl / Select 9032"}]
["0005/CMJ",{"$f":"HYPERLINK(\"files\\9032.\"&Herstellerauswahl!$C$4,\"Mini 3-Türer, One 1.5 D, F56 (LCI), 95 PS / 70 kW\")","v":"Mini 3-Türer, One 1.5 D, F56 (LCI), 95 PS / 70 kW"},{"$f":"HYPERLINK(\"files\\9032.\"&Herstellerauswahl!$C$4,\"Auswahl / Select 9032\")","v":"Auswahl / Select 9032"}]
["0005/CYC",{"$f":"HYPERLINK(\"files\\9032.\"&Herstellerauswahl!$C$4,\"Mini 3-Türer, Cooper SE, F56 (LCI), 102 PS / 75 kW\")","v":"Mini 3-Türer, Cooper SE, F56 (LCI), 102 PS / 75 kW"},{"$f":"HYPERLINK(\"files\\9032.\"&Herstellerauswahl!$C$4,\"Auswahl / Select 9032\")","v":"Auswahl / Select 9032"}]
["0005/CMI",{"$f":"HYPERLINK(\"files\\9032.\"&Herstellerauswahl!$C$4,\"Mini 3-Türer, Cooper S 2.0, F56 (LCI), 163 PS / 120 kW\")","v":"Mini 3-Türer, Cooper S 2.0, F56 (LCI), 163 PS / 120 kW"},{"$f":"HYPERLINK(\"files\\9032.\"&Herstellerauswahl!$C$4,\"Auswahl / Select 9032\")","v":"Auswahl / Select 9032"}]
["0005/DFI",{"$f":"HYPERLINK(\"files\\9032.\"&Herstellerauswahl!$C$4,\"Mini 3-Türer, Cooper S 2.0, F56 (LCI), 178 PS / 131 kW\")","v":"Mini 3-Türer, Cooper S 2.0, F56 (LCI), 178 PS / 131 kW"},{"$f":"HYPERLINK(\"files\\9032.\"&Herstellerauswahl!$C$4,\"Auswahl / Select 9032\")","v":"Auswahl / Select 9032"}]
["0005/CMH",{"$f":"HYPERLINK(\"files\\9032.\"&Herstellerauswahl!$C$4,\"Mini 3-Türer, Cooper S 2.0, F56 (LCI), 192 PS / 141 kW\")","v":"Mini 3-Türer, Cooper S 2.0, F56 (LCI), 192 PS / 141 kW"},{"$f":"HYPERLINK(\"files\\9032.\"&Herstellerauswahl!$C$4,\"Auswahl / Select 9032\")","v":"Auswahl / Select 9032"}]
["0005/CMM",{"$f":"HYPERLINK(\"files\\9032.\"&Herstellerauswahl!$C$4,\"Mini 3-Türer, Cooper SD 2.0, F56 (LCI), 163 PS / 120 kW\")","v":"Mini 3-Türer, Cooper SD 2.0, F56 (LCI), 163 PS / 120 kW"},{"$f":"HYPERLINK(\"files\\9032.\"&Herstellerauswahl!$C$4,\"Auswahl / Select 9032\")","v":"Auswahl / Select 9032"}]
["0005/CML",{"$f":"HYPERLINK(\"files\\9032.\"&Herstellerauswahl!$C$4,\"Mini 3-Türer, Cooper SD 2.0, F56 (LCI), 170 PS / 125 kW\")","v":"Mini 3-Türer, Cooper SD 2.0, F56 (LCI), 170 PS / 125 kW"},{"$f":"HYPERLINK(\"files\\9032.\"&Herstellerauswahl!$C$4,\"Auswahl / Select 9032\")","v":"Auswahl / Select 9032"}]
["0005/CMN",{"$f":"HYPERLINK(\"files\\9034.\"&Herstellerauswahl!$C$4,\"Mini 3-Türer, John Cooper Works 2.0, F56 (LCI), 231 PS / 170 kW\")","v":"Mini 3-Türer, John Cooper Works 2.0, F56 (LCI), 231 PS / 170 kW"},{"$f":"HYPERLINK(\"files\\9034.\"&Herstellerauswahl!$C$4,\"Auswahl / Select 9034\")","v":"Auswahl / Select 9034"}]
["0005/CYU","Mini 3-Türer, John Cooper Works GP, F56 (LCI), 306 PS / 225 kW"]

{"sheet":"R50 3-Türer","index":187,"n_rows":10,"n_cols":4,"rows_kept":10,"cut":false,"hidden":false,"merged":[]}
[]
[]
["TSN/HSN","Motorauswahl für R50 3-Türer","Home","Zurück / back"]
[]
["0005/749/776",{"$f":"HYPERLINK(\"files\\9004.\"&Herstellerauswahl!$C$4,\"Mini 3-Türer, One 1.4, R50, 75 PS / 55 kW\")","v":"Mini 3-Türer, One 1.4, R50, 75 PS / 55 kW"},{"$f":"HYPERLINK(\"files\\9004.\"&Herstellerauswahl!$C$4,\"Auswahl / Select 9004\")","v":"Auswahl / Select 9004"}]
["0005/772",{"$f":"HYPERLINK(\"files\\9004.\"&Herstellerauswahl!$C$4,\"Mini 3-Türer, One 1.4 D, R50, 75 PS / 55 kW\")","v":"Mini 3-Türer, One 1.4 D, R50, 75 PS / 55 kW"},{"$f":"HYPERLINK(\"files\\9004.\"&Herstellerauswahl!$C$4,\"Auswahl / Select 9004\")","v":"Auswahl / Select 9004"}]
["0005/869",{"$f":"HYPERLINK(\"files\\9004.\"&Herstellerauswahl!$C$4,\"Mini 3-Türer, One 1.4 D, R50, 88 PS / 65 kW\")","v":"Mini 3-Türer, One 1.4 D, R50, 88 PS / 65 kW"},{"$f":"HYPERLINK(\"files\\9004.\"&Herstellerauswahl!$C$4,\"Auswahl / Select 9004\")","v":"Auswahl / Select 9004"}]
["0005/718/775",{"$f":"HYPERLINK(\"files\\9004.\"&Herstellerauswahl!$C$4,\"Mini 3-Türer, One 1.6, R50, 90 PS / 66 kW\")","v":"Mini 3-Türer, One 1.6, R50, 90 PS / 66 kW"},{"$f":"HYPERLINK(\"files\\9004.\"&Herstellerauswahl!$C$4,\"Auswahl / Select 9004\")","v":"Auswahl / Select 9004"}]
["0005/719/773",{"$f":"HYPERLINK(\"files\\9004.\"&Herstellerauswahl!$C$4,\"Mini 3-Türer, Cooper, R50, 116 PS / 85 kW\")","v":"Mini 3-Türer, Cooper, R50, 116 PS / 85 kW"},{"$f":"HYPERLINK(\"files\\9004.\"&Herstellerauswahl!$C$4,\"Auswahl / Select 9004\")","v":"Auswahl / Select 9004"}]
["0005/719/773",{"$f":"HYPERLINK(\"files\\9004.\"&Herstellerauswahl!$C$4,\"Mini 3-Türer, Cooper S, R50, 116 PS / 85 kW\")","v":"Mini 3-Türer, Cooper S, R50, 116 PS / 85 kW"},{"$f":"HYPERLINK(\"files\\9004.\"&Herstellerauswahl!$C$4,\"Auswahl / Select 9004\")","v":"Auswahl / Select 9004"}]

{"sheet":"R53 3-Türer","index":188,"n_rows":7,"n_cols":4,"rows_kept":7,"cut":false,"hidden":false,"merged":[]}
[]
[]
["TSN/HSN","Motorauswahl für R53 3-Türer","Home","Zurück / back"]
[]
["0005/722/744",{"$f":"HYPERLINK(\"files\\9004.\"&Herstellerauswahl!$C$4,\"Mini 3-Türer, Cooper S, R53, 163 PS / 120 kW\")","v":"Mini 3-Türer, Cooper S, R53, 163 PS / 120 kW"},{"$f":"HYPERLINK(\"files\\9004.\"&Herstellerauswahl!$C$4,\"Auswahl / Select 9004\")","v":"Auswahl / Select 9004"}]
["0005/807",{"$f":"HYPERLINK(\"files\\9004.\"&Herstellerauswahl!$C$4,\"Mini 3-Türer, Cooper S, R53, 170 PS / 125 kW\")","v":"Mini 3-Türer, Cooper S, R53, 170 PS / 125 kW"},{"$f":"HYPERLINK(\"files\\9004.\"&Herstellerauswahl!$C$4,\"Auswahl / Select 9004\")","v":"Auswahl / Select 9004"}]
["0005/848",{"$f":"HYPERLINK(\"files\\9004.\"&Herstellerauswahl!$C$4,\"Mini 3-Türer, Cooper S, R53, 211 PS / 155 kW\")","v":"Mini 3-Türer, Cooper S, R53, 211 PS / 155 kW"},{"$f":"HYPERLINK(\"files\\9004.\"&Herstellerauswahl!$C$4,\"Auswahl / Select 9004\")","v":"Auswahl / Select 9004"}]

{"sheet":"R56 3-Türer","index":189,"n_rows":23,"n_cols":4,"rows_kept":23,"cut":false,"hidden":false,"merged":[]}
[]
[]
["TSN/HSN","Motorauswahl für R56 3-Türer","Home","Zurück / back"]
[]
["0005/AOB",{"$f":"HYPERLINK(\"files\\9007.\"&Herstellerauswahl!$C$4,\"Mini 3-Türer, One 1.4, R56, 75 PS / 55 kW\")","v":"Mini 3-Türer, One 1.4, R56, 75 PS / 55 kW"},{"$f":"HYPERLINK(\"files\\9007.\"&Herstellerauswahl!$C$4,\"Auswahl / Select 9007\")","v":"Auswahl / Select 9007"}]
["0005/AZM",{"$f":"HYPERLINK(\"files\\9007.\"&Herstellerauswahl!$C$4,\"Mini 3-Türer, One 1.6, R56, 75 PS / 55 kW\")","v":"Mini 3-Türer, One 1.6, R56, 75 PS / 55 kW"},{"$f":"HYPERLINK(\"files\\9007.\"&Herstellerauswahl!$C$4,\"Auswahl / Select 9007\")","v":"Auswahl / Select 9007"}]
["0005/APR/AUF",{"$f":"HYPERLINK(\"files\\9007.\"&Herstellerauswahl!$C$4,\"Mini 3-Türer, One D 1.6, R56, 90 PS / 66 kW\")","v":"Mini 3-Türer, One D 1.6, R56, 90 PS / 66 kW"},{"$f":"HYPERLINK(\"files\\9007.\"&Herstellerauswahl!$C$4,\"Auswahl / Select 9007\")","v":"Auswahl / Select 9007"}]
["0005/AUF",{"$f":"HYPERLINK(\"files\\9007.\"&Herstellerauswahl!$C$4,\"Mini 3-Türer, One D 1.6, R56, 90 PS / 66 kW\")","v":"Mini 3-Türer, One D 1.6, R56, 90 PS / 66 kW"},{"$f":"HYPERLINK(\"files\\9007.\"&Herstellerauswahl!$C$4,\"Auswahl / Select 9007\")","v":"Auswahl / Select 9007"}]
["0005/AHS",{"$f":"HYPERLINK(\"files\\9007.\"&Herstellerauswahl!$C$4,\"Mini 3-Türer, One 1.4, R56, 95 PS / 70 kW\")","v":"Mini 3-Türer, One 1.4, R56, 95 PS / 70 kW"},{"$f":"HYPERLINK(\"files\\9007.\"&Herstellerauswahl!$C$4,\"Auswahl / Select 9007\")","v":"Auswahl / Select 9007"}]
["0005/AUD",{"$f":"HYPERLINK(\"files\\9007.\"&Herstellerauswahl!$C$4,\"Mini 3-Türer, One 1.6, R56, 98 PS / 72 kW\")","v":"Mini 3-Türer, One 1.6, R56, 98 PS / 72 kW"},{"$f":"HYPERLINK(\"files\\9007.\"&Herstellerauswahl!$C$4,\"Auswahl / Select 9007\")","v":"Auswahl / Select 9007"}]
["0005/BCK",{"$f":"HYPERLINK(\"files\\9007.\"&Herstellerauswahl!$C$4,\"Mini 3-Türer, One 2.0, R56, 112 PS / 82 kW\")","v":"Mini 3-Türer, One 2.0, R56, 112 PS / 82 kW"},{"$f":"HYPERLINK(\"files\\9007.\"&Herstellerauswahl!$C$4,\"Auswahl / Select 9007\")","v":"Auswahl / Select 9007"}]
["0005/AHT/AUG",{"$f":"HYPERLINK(\"files\\9007.\"&Herstellerauswahl!$C$4,\"Mini 3-Türer, Cooper D 1.6, R56, 109 PS / 80 kW\")","v":"Mini 3-Türer, Cooper D 1.6, R56, 109 PS / 80 kW"},{"$f":"HYPERLINK(\"files\\9007.\"&Herstellerauswahl!$C$4,\"Auswahl / Select 9007\")","v":"Auswahl / Select 9007"}]
["0005/BAA",{"$f":"HYPERLINK(\"files\\9007.\"&Herstellerauswahl!$C$4,\"Mini 3-Türer, Cooper D 1.6, R56, 112 PS / 82 kW\")","v":"Mini 3-Türer, Cooper D 1.6, R56, 112 PS / 82 kW"},{"$f":"HYPERLINK(\"files\\9007.\"&Herstellerauswahl!$C$4,\"Auswahl / Select 9007\")","v":"Auswahl / Select 9007"}]
["0005/AGI/ATX",{"$f":"HYPERLINK(\"files\\9007.\"&Herstellerauswahl!$C$4,\"Mini 3-Türer, Cooper 1.6, R56, 116 PS / 85 kW\")","v":"Mini 3-Türer, Cooper 1.6, R56, 116 PS / 85 kW"},{"$f":"HYPERLINK(\"files\\9007.\"&Herstellerauswahl!$C$4,\"Auswahl / Select 9007\")","v":"Auswahl / Select 9007"}]
["0005/894",{"$f":"HYPERLINK(\"files\\9007.\"&Herstellerauswahl!$C$4,\"Mini 3-Türer, Cooper 1.6, R56, 116 PS / 85 kW\")","v":"Mini 3-Türer, Cooper 1.6, R56, 116 PS / 85 kW"},{"$f":"HYPERLINK(\"files\\9007.\"&Herstellerauswahl!$C$4,\"Auswahl / Select 9007\")","v":"Auswahl / Select 9007"}]
["0005/AFD/BAP",{"$f":"HYPERLINK(\"files\\9007.\"&Herstellerauswahl!$C$4,\"Mini 3-Türer, Cooper 1.6, R56, 120 PS / 88 kW\")","v":"Mini 3-Türer, Cooper 1.6, R56, 120 PS / 88 kW"},{"$f":"HYPERLINK(\"files\\9007.\"&Herstellerauswahl!$C$4,\"Auswahl / Select 9007\")","v":"Auswahl / Select 9007"}]
["0005/ATY",{"$f":"HYPERLINK(\"files\\9007.\"&Herstellerauswahl!$C$4,\"Mini 3-Türer, Cooper 1.6, R56, 122 PS / 90 kW\")","v":"Mini 3-Türer, Cooper 1.6, R56, 122 PS / 90 kW"},{"$f":"HYPERLINK(\"files\\9007.\"&Herstellerauswahl!$C$4,\"Auswahl / Select 9007\")","v":"Auswahl / Select 9007"}]
["0005/BCL",{"$f":"HYPERLINK(\"files\\9007.\"&Herstellerauswahl!$C$4,\"Mini 3-Türer, Cooper D 2.0, R56, 136 PS / 100 kW\")","v":"Mini 3-Türer, Cooper D 2.0, R56, 136 PS / 100 kW"},{"$f":"HYPERLINK(\"files\\9007.\"&Herstellerauswahl!$C$4,\"Auswahl / Select 9007\")","v":"Auswahl / Select 9007"}]
["0005/BCM",{"$f":"HYPERLINK(\"files\\9007.\"&Herstellerauswahl!$C$4,\"Mini 3-Türer, Cooper D 2.0, R56, 143 PS / 105 kW\")","v":"Mini 3-Türer, Cooper D 2.0, R56, 143 PS / 105 kW"},{"$f":"HYPERLINK(\"files\\9007.\"&Herstellerauswahl!$C$4,\"Auswahl / Select 9007\")","v":"Auswahl / Select 9007"}]
["0005/AFE",{"$f":"HYPERLINK(\"files\\9007.\"&Herstellerauswahl!$C$4,\"Mini 3-Türer, Cooper S 1.6, R56, 163 PS / 120 kW\")","v":"Mini 3-Türer, Cooper S 1.6, R56, 163 PS / 120 kW"},{"$f":"HYPERLINK(\"files\\9007.\"&Herstellerauswahl!$C$4,\"Auswahl / Select 9007\")","v":"Auswahl / Select 9007"}]
["0005/AFC",{"$f":"HYPERLINK(\"files\\9007.\"&Herstellerauswahl!$C$4,\"Mini 3-Türer, Cooper S 1.6, R56, 174 PS / 128 kW\")","v":"Mini 3-Türer, Cooper S 1.6, R56, 174 PS / 128 kW"},{"$f":"HYPERLINK(\"files\\9007.\"&Herstellerauswahl!$C$4,\"Auswahl / Select 9007\")","v":"Auswahl / Select 9007"}]
["0005/ALZ",{"$f":"HYPERLINK(\"files\\9007.\"&Herstellerauswahl!$C$4,\"Mini 3-Türer, Cooper S 1.6, R56, 192 PS / 141 kW\")","v":"Mini 3-Türer, Cooper S 1.6, R56, 192 PS / 141 kW"},{"$f":"HYPERLINK(\"files\\9007.\"&Herstellerauswahl!$C$4,\"Auswahl / Select 9007\")","v":"Auswahl / Select 9007"}]
["0005/AMY",{"$f":"HYPERLINK(\"files\\9007.\"&Herstellerauswahl!$C$4,\"Mini 3-Türer, Cooper S 1.6, R56, 211 PS / 155 kW\")","v":"Mini 3-Türer, Cooper S 1.6, R56, 211 PS / 155 kW"},{"$f":"HYPERLINK(\"files\\9007.\"&Herstellerauswahl!$C$4,\"Auswahl / Select 9007\")","v":"Auswahl / Select 9007"}]

{"sheet":"R56 Facelift 3-Türer","index":190,"n_rows":9,"n_cols":4,"rows_kept":9,"cut":false,"hidden":false,"merged":[]}
[]
[]
["TSN/HSN","Motorauswahl für R56 Facelift 3-Türer","Home","Zurück / back"]
[]
["0005/ATZ",{"$f":"HYPERLINK(\"files\\9007.\"&Herstellerauswahl!$C$4,\"Mini 3-Türer, Cooper S 1.6, R56 (LCI), 163 PS / 120 kW\")","v":"Mini 3-Türer, Cooper S 1.6, R56 (LCI), 163 PS / 120 kW"},{"$f":"HYPERLINK(\"files\\9007.\"&Herstellerauswahl!$C$4,\"Auswahl / Select 9007\")","v":"Auswahl / Select 9007"}]
["0005/AUA",{"$f":"HYPERLINK(\"files\\9007.\"&Herstellerauswahl!$C$4,\"Mini 3-Türer, Cooper S 1.6, R56 (LCI), 184 PS / 135 kW\")","v":"Mini 3-Türer, Cooper S 1.6, R56 (LCI), 184 PS / 135 kW"},{"$f":"HYPERLINK(\"files\\9007.\"&Herstellerauswahl!$C$4,\"Auswahl / Select 9007\")","v":"Auswahl / Select 9007"}]
["0005/BBN",{"$f":"HYPERLINK(\"files\\9007.\"&Herstellerauswahl!$C$4,\"Mini 3-Türer, Cooper S, R56 (LCI), 200 PS / 147 kW\")","v":"Mini 3-Türer, Cooper S, R56 (LCI), 200 PS / 147 kW"},{"$f":"HYPERLINK(\"files\\9007.\"&Herstellerauswahl!$C$4,\"Auswahl / Select 9007\")","v":"Auswahl / Select 9007"}]
["0005/AUC",{"$f":"HYPERLINK(\"files\\9023.\"&Herstellerauswahl!$C$4,\"Mini 3-Türer, John Cooper Works, R56 (LCI), 211 PS / 155 kW\")","v":"Mini 3-Türer, John Cooper Works, R56 (LCI), 211 PS / 155 kW"},{"$f":"HYPERLINK(\"files\\9023.\"&Herstellerauswahl!$C$4,\"Auswahl / Select 9023\")","v":"Auswahl / Select 9023"}]
["0005/BMV",{"$f":"HYPERLINK(\"files\\9023.\"&Herstellerauswahl!$C$4,\"Mini 3-Türer, John Cooper Works GP 1.6, R56 (LCI), 218 PS / 160 kW\")","v":"Mini 3-Türer, John Cooper Works GP 1.6, R56 (LCI), 218 PS / 160 kW"},{"$f":"HYPERLINK(\"files\\9023.\"&Herstellerauswahl!$C$4,\"Auswahl / Select 9023\")","v":"Auswahl / Select 9023"}]

{"sheet":"Mini Cabrio","index":191,"n_rows":9,"n_cols":4,"rows_kept":9,"cut":false,"hidden":false,"merged":[]}
[]
[]
[null,"Typauswahl für Mini Cabrio","Home","Zurück / back"]
[]
[null,"F57","Auswahl / Select"]
[null,"F57 Facelift","Auswahl / Select"]
[null,"R52","Auswahl / Select"]
[null,"R57","Auswahl / Select"]
[null,"R57 Facelift","Auswahl / Select"]

{"sheet":"F57","index":192,"n_rows":14,"n_cols":4,"rows_kept":14,"cut":false,"hidden":false,"merged":[]}
[]
[]
["TSN/HSN","Motorauswahl für F57","Home","Zurück / back"]
[]
["0005/CFH/CMQ",{"$f":"HYPERLINK(\"files\\9032.\"&Herstellerauswahl!$C$4,\"Mini Cabrio, One 1.2, F57, 102 PS / 75 kW\")","v":"Mini Cabrio, One 1.2, F57, 102 PS / 75 kW"},{"$f":"HYPERLINK(\"files\\9032.\"&Herstellerauswahl!$C$4,\"Auswahl / Select 9032\")","v":"Auswahl / Select 9032"}]
["0005/CRN",{"$f":"HYPERLINK(\"files\\9032.\"&Herstellerauswahl!$C$4,\"Mini Cabrio, One 1.5, F57, 102 PS / 75 kW\")","v":"Mini Cabrio, One 1.5, F57, 102 PS / 75 kW"},{"$f":"HYPERLINK(\"files\\9032.\"&Herstellerauswahl!$C$4,\"Auswahl / Select 9032\")","v":"Auswahl / Select 9032"}]
["0005/CFN/CMV",{"$f":"HYPERLINK(\"files\\9032.\"&Herstellerauswahl!$C$4,\"Mini Cabrio, Cooper D 1.5, F57, 116 PS / 85 kW\")","v":"Mini Cabrio, Cooper D 1.5, F57, 116 PS / 85 kW"},{"$f":"HYPERLINK(\"files\\9032.\"&Herstellerauswahl!$C$4,\"Auswahl / Select 9032\")","v":"Auswahl / Select 9032"}]
["0005/CFI/CMR",{"$f":"HYPERLINK(\"files\\9032.\"&Herstellerauswahl!$C$4,\"Mini Cabrio, Cooper 1.5, F57, 136 PS / 100 kW\")","v":"Mini Cabrio, Cooper 1.5, F57, 136 PS / 100 kW"},{"$f":"HYPERLINK(\"files\\9032.\"&Herstellerauswahl!$C$4,\"Auswahl / Select 9032\")","v":"Auswahl / Select 9032"}]
["0005/CFK/CMT",{"$f":"HYPERLINK(\"files\\9032.\"&Herstellerauswahl!$C$4,\"Mini Cabrio, Cooper S 2.0, F57, 163 PS / 120 kW\")","v":"Mini Cabrio, Cooper S 2.0, F57, 163 PS / 120 kW"},{"$f":"HYPERLINK(\"files\\9032.\"&Herstellerauswahl!$C$4,\"Auswahl / Select 9032\")","v":"Auswahl / Select 9032"}]
["0005/CFJ/CMS",{"$f":"HYPERLINK(\"files\\9032.\"&Herstellerauswahl!$C$4,\"Mini Cabrio, Cooper S 2.0, F57, 192 PS / 141 kW\")","v":"Mini Cabrio, Cooper S 2.0, F57, 192 PS / 141 kW"},{"$f":"HYPERLINK(\"files\\9032.\"&Herstellerauswahl!$C$4,\"Auswahl / Select 9032\")","v":"Auswahl / Select 9032"}]
["0005/CFL/CMU",{"$f":"HYPERLINK(\"files\\9032.\"&Herstellerauswahl!$C$4,\"Mini Cabrio, Cooper S 2.0, F57, 211 PS / 155 kW\")","v":"Mini Cabrio, Cooper S 2.0, F57, 211 PS / 155 kW"},{"$f":"HYPERLINK(\"files\\9032.\"&Herstellerauswahl!$C$4,\"Auswahl / Select 9032\")","v":"Auswahl / Select 9032"}]
["0005/CFP/CMX",{"$f":"HYPERLINK(\"files\\9032.\"&Herstellerauswahl!$C$4,\"Mini Cabrio, Cooper SD 2.0, F57, 163 PS / 120 kW\")","v":"Mini Cabrio, Cooper SD 2.0, F57, 163 PS / 120 kW"},{"$f":"HYPERLINK(\"files\\9032.\"&Herstellerauswahl!$C$4,\"Auswahl / Select 9032\")","v":"Auswahl / Select 9032"}]
["0005/CFO/CMW",{"$f":"HYPERLINK(\"files\\9032.\"&Herstellerauswahl!$C$4,\"Mini Cabrio, Cooper SD 2.0, F57, 170 PS / 125 kW\")","v":"Mini Cabrio, Cooper SD 2.0, F57, 170 PS / 125 kW"},{"$f":"HYPERLINK(\"files\\9032.\"&Herstellerauswahl!$C$4,\"Auswahl / Select 9032\")","v":"Auswahl / Select 9032"}]
["0005/CFM/CMP",{"$f":"HYPERLINK(\"files\\9034.\"&Herstellerauswahl!$C$4,\"Mini Cabrio, John Cooper Works 2.0, F57, 231 PS / 170 kW\")","v":"Mini Cabrio, John Cooper Works 2.0, F57, 231 PS / 170 kW"},{"$f":"HYPERLINK(\"files\\9034.\"&Herstellerauswahl!$C$4,\"Auswahl / Select 9034\")","v":"Auswahl / Select 9034"}]

{"sheet":"F57 Facelift","index":193,"n_rows":11,"n_cols":4,"rows_kept":11,"cut":false,"hidden":false,"merged":[]}
[]
[]
["TSN/HSN","Motorauswahl für F57 Facelift","Home","Zurück / back"]
[]
["0005/CRN",{"$f":"HYPERLINK(\"files\\9032.\"&Herstellerauswahl!$C$4,\"Mini Cabrio, One 1.5, F57 (LCI), 102 PS / 75 kW\")","v":"Mini Cabrio, One 1.5, F57 (LCI), 102 PS / 75 kW"},{"$f":"HYPERLINK(\"files\\9032.\"&Herstellerauswahl!$C$4,\"Auswahl / Select 9032\")","v":"Auswahl / Select 9032"}]
["0005/CMT",{"$f":"HYPERLINK(\"files\\9032.\"&Herstellerauswahl!$C$4,\"Mini Cabrio, Cooper S 2.0, F57 (LCI), 163 PS / 120 kW\")","v":"Mini Cabrio, Cooper S 2.0, F57 (LCI), 163 PS / 120 kW"},{"$f":"HYPERLINK(\"files\\9032.\"&Herstellerauswahl!$C$4,\"Auswahl / Select 9032\")","v":"Auswahl / Select 9032"}]
["0005/DFK",{"$f":"HYPERLINK(\"files\\9032.\"&Herstellerauswahl!$C$4,\"Mini Cabrio, Cooper S, F57 (LCI), 178 PS / 131 kW\")","v":"Mini Cabrio, Cooper S, F57 (LCI), 178 PS / 131 kW"},{"$f":"HYPERLINK(\"files\\9032.\"&Herstellerauswahl!$C$4,\"Auswahl / Select 9032\")","v":"Auswahl / Select 9032"}]
["0005/CMS",{"$f":"HYPERLINK(\"files\\9032.\"&Herstellerauswahl!$C$4,\"Mini Cabrio, Cooper S 2.0, F57 (LCI), 192 PS / 141 kW\")","v":"Mini Cabrio, Cooper S 2.0, F57 (LCI), 192 PS / 141 kW"},{"$f":"HYPERLINK(\"files\\9032.\"&Herstellerauswahl!$C$4,\"Auswahl / Select 9032\")","v":"Auswahl / Select 9032"}]
["0005/CMX",{"$f":"HYPERLINK(\"files\\9032.\"&Herstellerauswahl!$C$4,\"Mini Cabrio, Cooper SD 2.0, F57 (LCI), 163 PS / 120 kW\")","v":"Mini Cabrio, Cooper SD 2.0, F57 (LCI), 163 PS / 120 kW"},{"$f":"HYPERLINK(\"files\\9032.\"&Herstellerauswahl!$C$4,\"Auswahl / Select 9032\")","v":"Auswahl / Select 9032"}]
["0005/CMW",{"$f":"HYPERLINK(\"files\\9032.\"&Herstellerauswahl!$C$4,\"Mini Cabrio, Cooper SD 2.0, F57 (LCI), 170 PS / 125 kW\")","v":"Mini Cabrio, Cooper SD 2.0, F57 (LCI), 170 PS / 125 kW"},{"$f":"HYPERLINK(\"files\\9032.\"&Herstellerauswahl!$C$4,\"Auswahl / Select 9032\")","v":"Auswahl / Select 9032"}]
["0005/CMP",{"$f":"HYPERLINK(\"files\\9034.\"&Herstellerauswahl!$C$4,\"Mini Cabrio, John Cooper Works 2.0, F57 (LCI), 231 PS / 170 kW\")","v":"Mini Cabrio, John Cooper Works 2.0, F57 (LCI), 231 PS / 170 kW"},{"$f":"HYPERLINK(\"files\\9034.\"&Herstellerauswahl!$C$4,\"Auswahl / Select 9034\")","v":"Auswahl / Select 9034"}]

{"sheet":"R52","index":194,"n_rows":10,"n_cols":4,"rows_kept":10,"cut":false,"hidden":false,"merged":[]}
[]
[]
["TSN/HSN","Motorauswahl für R52","Home","Zurück / back"]
[]
["0005/803",{"$f":"HYPERLINK(\"files\\9004.\"&Herstellerauswahl!$C$4,\"Mini Cabrio, One, R52, 90 PS / 66 kW\")","v":"Mini Cabrio, One, R52, 90 PS / 66 kW"},{"$f":"HYPERLINK(\"files\\9004.\"&Herstellerauswahl!$C$4,\"Auswahl / Select 9004\")","v":"Auswahl / Select 9004"}]
["0005/801",{"$f":"HYPERLINK(\"files\\9004.\"&Herstellerauswahl!$C$4,\"Mini Cabrio, Cooper, R52, 116 PS / 85 kW\")","v":"Mini Cabrio, Cooper, R52, 116 PS / 85 kW"},{"$f":"HYPERLINK(\"files\\9004.\"&Herstellerauswahl!$C$4,\"Auswahl / Select 9004\")","v":"Auswahl / Select 9004"}]
["0005/AFY",{"$f":"HYPERLINK(\"files\\9004.\"&Herstellerauswahl!$C$4,\"Mini Cabrio, Cooper, R52, 116 PS / 85 kW\")","v":"Mini Cabrio, Cooper, R52, 116 PS / 85 kW"},{"$f":"HYPERLINK(\"files\\9004.\"&Herstellerauswahl!$C$4,\"Auswahl / Select 9004\")","v":"Auswahl / Select 9004"}]
["0005/816",{"$f":"HYPERLINK(\"files\\9004.\"&Herstellerauswahl!$C$4,\"Mini Cabrio, Cooper S, R52, 163 PS / 120 kW\")","v":"Mini Cabrio, Cooper S, R52, 163 PS / 120 kW"},{"$f":"HYPERLINK(\"files\\9004.\"&Herstellerauswahl!$C$4,\"Auswahl / Select 9004\")","v":"Auswahl / Select 9004"}]
["0005/802",{"$f":"HYPERLINK(\"files\\9004.\"&Herstellerauswahl!$C$4,\"Mini Cabrio, Cooper S, R52, 170 PS / 125 kW\")","v":"Mini Cabrio, Cooper S, R52, 170 PS / 125 kW"},{"$f":"HYPERLINK(\"files\\9004.\"&Herstellerauswahl!$C$4,\"Auswahl / Select 9004\")","v":"Auswahl / Select 9004"}]
["0005/847",{"$f":"HYPERLINK(\"files\\9004.\"&Herstellerauswahl!$C$4,\"Mini Cabrio, Cooper S, R52, 211 PS / 155 kW\")","v":"Mini Cabrio, Cooper S, R52, 211 PS / 155 kW"},{"$f":"HYPERLINK(\"files\\9004.\"&Herstellerauswahl!$C$4,\"Auswahl / Select 9004\")","v":"Auswahl / Select 9004"}]

{"sheet":"R57","index":195,"n_rows":13,"n_cols":4,"rows_kept":13,"cut":false,"hidden":false,"merged":[]}
[]
[]
["TSN/HSN","Motorauswahl für R57","Home","Zurück / back"]
[]
["0005/AZL",{"$f":"HYPERLINK(\"files\\9026.\"&Herstellerauswahl!$C$4,\"Mini Cabrio, One, R57, 98 PS / 72 kW\")","v":"Mini Cabrio, One, R57, 98 PS / 72 kW"},{"$f":"HYPERLINK(\"files\\9026.\"&Herstellerauswahl!$C$4,\"Auswahl / Select 9026\")","v":"Auswahl / Select 9026"}]
["0005/ANW/ATR",{"$f":"HYPERLINK(\"files\\9026.\"&Herstellerauswahl!$C$4,\"Mini Cabrio, Cooper 1.6, R57, 116 PS / 85 kW\")","v":"Mini Cabrio, Cooper 1.6, R57, 116 PS / 85 kW"},{"$f":"HYPERLINK(\"files\\9026.\"&Herstellerauswahl!$C$4,\"Auswahl / Select 9026\")","v":"Auswahl / Select 9026"}]
["0005/ANU",{"$f":"HYPERLINK(\"files\\9026.\"&Herstellerauswahl!$C$4,\"Mini Cabrio, Cooper 1.6, R57, 120 PS / 88 kW\")","v":"Mini Cabrio, Cooper 1.6, R57, 120 PS / 88 kW"},{"$f":"HYPERLINK(\"files\\9026.\"&Herstellerauswahl!$C$4,\"Auswahl / Select 9026\")","v":"Auswahl / Select 9026"}]
["0005/ATS",{"$f":"HYPERLINK(\"files\\9026.\"&Herstellerauswahl!$C$4,\"Mini Cabrio, Cooper 1.6, R57, 122 PS / 90 kW\")","v":"Mini Cabrio, Cooper 1.6, R57, 122 PS / 90 kW"},{"$f":"HYPERLINK(\"files\\9026.\"&Herstellerauswahl!$C$4,\"Auswahl / Select 9026\")","v":"Auswahl / Select 9026"}]
["0005/ANX/ATT",{"$f":"HYPERLINK(\"files\\9026.\"&Herstellerauswahl!$C$4,\"Mini Cabrio, Cooper S, R57, 163 PS / 120 kW\")","v":"Mini Cabrio, Cooper S, R57, 163 PS / 120 kW"},{"$f":"HYPERLINK(\"files\\9026.\"&Herstellerauswahl!$C$4,\"Auswahl / Select 9026\")","v":"Auswahl / Select 9026"}]
["0005/ANV",{"$f":"HYPERLINK(\"files\\9026.\"&Herstellerauswahl!$C$4,\"Mini Cabrio, Cooper S, R57, 174 PS / 128 kW\")","v":"Mini Cabrio, Cooper S, R57, 174 PS / 128 kW"},{"$f":"HYPERLINK(\"files\\9026.\"&Herstellerauswahl!$C$4,\"Auswahl / Select 9026\")","v":"Auswahl / Select 9026"}]
["0005/ATU",{"$f":"HYPERLINK(\"files\\9026.\"&Herstellerauswahl!$C$4,\"Mini Cabrio, Cooper S, R57, 184 PS / 135 kW\")","v":"Mini Cabrio, Cooper S, R57, 184 PS / 135 kW"},{"$f":"HYPERLINK(\"files\\9026.\"&Herstellerauswahl!$C$4,\"Auswahl / Select 9026\")","v":"Auswahl / Select 9026"}]
["0005/AOO",{"$f":"HYPERLINK(\"files\\9026.\"&Herstellerauswahl!$C$4,\"Mini Cabrio, Cooper S, R57, 192 PS / 141 kW\")","v":"Mini Cabrio, Cooper S, R57, 192 PS / 141 kW"},{"$f":"HYPERLINK(\"files\\9026.\"&Herstellerauswahl!$C$4,\"Auswahl / Select 9026\")","v":"Auswahl / Select 9026"}]
["0005/AOK/ATW",{"$f":"HYPERLINK(\"files\\9026.\"&Herstellerauswahl!$C$4,\"Mini Cabrio, Cooper S, R57, 211 PS / 155 kW\")","v":"Mini Cabrio, Cooper S, R57, 211 PS / 155 kW"},{"$f":"HYPERLINK(\"files\\9026.\"&Herstellerauswahl!$C$4,\"Auswahl / Select 9026\")","v":"Auswahl / Select 9026"}]

{"sheet":"R57 Facelift","index":196,"n_rows":16,"n_cols":4,"rows_kept":16,"cut":false,"hidden":false,"merged":[]}
[]
[]
["TSN/HSN","Motorauswahl für R57 Facelift","Home","Zurück / back"]
[]
["0005/AZL",{"$f":"HYPERLINK(\"files\\9026.\"&Herstellerauswahl!$C$4,\"Mini Cabrio, One, R57 (LCI), 98 PS / 72 kW\")","v":"Mini Cabrio, One, R57 (LCI), 98 PS / 72 kW"},{"$f":"HYPERLINK(\"files\\9026.\"&Herstellerauswahl!$C$4,\"Auswahl / Select 9026\")","v":"Auswahl / Select 9026"}]
["0005/BAM",{"$f":"HYPERLINK(\"files\\9026.\"&Herstellerauswahl!$C$4,\"Mini Cabrio, One D 1.6, R57 (LCI), 112 PS / 82 kW\")","v":"Mini Cabrio, One D 1.6, R57 (LCI), 112 PS / 82 kW"},{"$f":"HYPERLINK(\"files\\9026.\"&Herstellerauswahl!$C$4,\"Auswahl / Select 9026\")","v":"Auswahl / Select 9026"}]
["0005/BCN",{"$f":"HYPERLINK(\"files\\9026.\"&Herstellerauswahl!$C$4,\"Mini Cabrio, One D 2.0, R57 (LCI), 112 PS / 82 kW\")","v":"Mini Cabrio, One D 2.0, R57 (LCI), 112 PS / 82 kW"},{"$f":"HYPERLINK(\"files\\9026.\"&Herstellerauswahl!$C$4,\"Auswahl / Select 9026\")","v":"Auswahl / Select 9026"}]
["0005/ATR",{"$f":"HYPERLINK(\"files\\9026.\"&Herstellerauswahl!$C$4,\"Mini Cabrio, Cooper 1.6, R57 (LCI), 116 PS / 85 kW\")","v":"Mini Cabrio, Cooper 1.6, R57 (LCI), 116 PS / 85 kW"},{"$f":"HYPERLINK(\"files\\9026.\"&Herstellerauswahl!$C$4,\"Auswahl / Select 9026\")","v":"Auswahl / Select 9026"}]
["0005/BAN",{"$f":"HYPERLINK(\"files\\9026.\"&Herstellerauswahl!$C$4,\"Mini Cabrio, Cooper 1.6, R57 (LCI), 120 PS / 88 kW\")","v":"Mini Cabrio, Cooper 1.6, R57 (LCI), 120 PS / 88 kW"},{"$f":"HYPERLINK(\"files\\9026.\"&Herstellerauswahl!$C$4,\"Auswahl / Select 9026\")","v":"Auswahl / Select 9026"}]
["0005/ATS",{"$f":"HYPERLINK(\"files\\9026.\"&Herstellerauswahl!$C$4,\"Mini Cabrio, Cooper 1.6, R57 (LCI), 122 PS / 90 kW\")","v":"Mini Cabrio, Cooper 1.6, R57 (LCI), 122 PS / 90 kW"},{"$f":"HYPERLINK(\"files\\9026.\"&Herstellerauswahl!$C$4,\"Auswahl / Select 9026\")","v":"Auswahl / Select 9026"}]
["0005/BCO",{"$f":"HYPERLINK(\"files\\9026.\"&Herstellerauswahl!$C$4,\"Mini Cabrio, Cooper D 2.0, R57 (LCI), 136 PS / 100 kW\")","v":"Mini Cabrio, Cooper D 2.0, R57 (LCI), 136 PS / 100 kW"},{"$f":"HYPERLINK(\"files\\9026.\"&Herstellerauswahl!$C$4,\"Auswahl / Select 9026\")","v":"Auswahl / Select 9026"}]
["0005/BCP",{"$f":"HYPERLINK(\"files\\9026.\"&Herstellerauswahl!$C$4,\"Mini Cabrio, Cooper SD 2.0, R57 (LCI), 143 PS / 105 kW\")","v":"Mini Cabrio, Cooper SD 2.0, R57 (LCI), 143 PS / 105 kW"},{"$f":"HYPERLINK(\"files\\9026.\"&Herstellerauswahl!$C$4,\"Auswahl / Select 9026\")","v":"Auswahl / Select 9026"}]
["0005/ATT",{"$f":"HYPERLINK(\"files\\9026.\"&Herstellerauswahl!$C$4,\"Mini Cabrio, Cooper S 2.0, R57 (LCI), 163 PS / 120 kW\")","v":"Mini Cabrio, Cooper S 2.0, R57 (LCI), 163 PS / 120 kW"},{"$f":"HYPERLINK(\"files\\9026.\"&Herstellerauswahl!$C$4,\"Auswahl / Select 9026\")","v":"Auswahl / Select 9026"}]
["0005/ATU",{"$f":"HYPERLINK(\"files\\9026.\"&Herstellerauswahl!$C$4,\"Mini Cabrio, Cooper S, R57 (LCI), 184 PS / 135 kW\")","v":"Mini Cabrio, Cooper S, R57 (LCI), 184 PS / 135 kW"},{"$f":"HYPERLINK(\"files\\9026.\"&Herstellerauswahl!$C$4,\"Auswahl / Select 9026\")","v":"Auswahl / Select 9026"}]
["0005/BBM",{"$f":"HYPERLINK(\"files\\9026.\"&Herstellerauswahl!$C$4,\"Mini Cabrio, Cooper S, R57 (LCI), 200 PS / 147 kW\")","v":"Mini Cabrio, Cooper S, R57 (LCI), 200 PS / 147 kW"},{"$f":"HYPERLINK(\"files\\9026.\"&Herstellerauswahl!$C$4,\"Auswahl / Select 9026\")","v":"Auswahl / Select 9026"}]
["0005/ATW",{"$f":"HYPERLINK(\"files\\9014.\"&Herstellerauswahl!$C$4,\"Mini Cabrio, John Cooper Works, R57 (LCI), 211 PS / 155 kW\")","v":"Mini Cabrio, John Cooper Works, R57 (LCI), 211 PS / 155 kW"},{"$f":"HYPERLINK(\"files\\9014.\"&Herstellerauswahl!$C$4,\"Auswahl / Select 9014\")","v":"Auswahl / Select 9014"}]

{"sheet":"Mini Countryman","index":197,"n_rows":8,"n_cols":4,"rows_kept":8,"cut":false,"hidden":false,"merged":[]}
[]
[]
[null,"Typauswahl für Mini Countryman","Home","Zurück / back"]
[]
[null,"F60","Auswahl / Select"]
[null,"F60 Facelift","Auswahl / Select"]
[null,"R60","Auswahl / Select"]
[null,"R60 Facelift","Auswahl / Select"]

{"sheet":"F60","index":198,"n_rows":25,"n_cols":4,"rows_kept":25,"cut":false,"hidden":false,"merged":[]}
[]
[]
["TSN/HSN","Motorauswahl für F60","Home","Zurück / back"]
[]
["0005/CPC",{"$f":"HYPERLINK(\"files\\9060.\"&Herstellerauswahl!$C$4,\"Mini Countryman, One 1.5, F60, 102 PS / 75 kW\")","v":"Mini Countryman, One 1.5, F60, 102 PS / 75 kW"},{"$f":"HYPERLINK(\"files\\9060.\"&Herstellerauswahl!$C$4,\"Auswahl / Select 9060\")","v":"Auswahl / Select 9060"}]
["0005/CPD",{"$f":"HYPERLINK(\"files\\9060.\"&Herstellerauswahl!$C$4,\"Mini Countryman, One 1.5 D, F60, 116 PS / 85 kW\")","v":"Mini Countryman, One 1.5 D, F60, 116 PS / 85 kW"},{"$f":"HYPERLINK(\"files\\9060.\"&Herstellerauswahl!$C$4,\"Auswahl / Select 9060\")","v":"Auswahl / Select 9060"}]
["0005/CMY",{"$f":"HYPERLINK(\"files\\9060.\"&Herstellerauswahl!$C$4,\"Mini Countryman, Cooper 1.5, F60, 136 PS / 100 kW\")","v":"Mini Countryman, Cooper 1.5, F60, 136 PS / 100 kW"},{"$f":"HYPERLINK(\"files\\9060.\"&Herstellerauswahl!$C$4,\"Auswahl / Select 9060\")","v":"Auswahl / Select 9060"}]
["0005/CNF",{"$f":"HYPERLINK(\"files\\9060.\"&Herstellerauswahl!$C$4,\"Mini Countryman, Cooper 1.5  ALL4, F60, 136 PS / 100 kW\")","v":"Mini Countryman, Cooper 1.5  ALL4, F60, 136 PS / 100 kW"},{"$f":"HYPERLINK(\"files\\9060.\"&Herstellerauswahl!$C$4,\"Auswahl / Select 9060\")","v":"Auswahl / Select 9060"}]
["0005/CNC",{"$f":"HYPERLINK(\"files\\9060.\"&Herstellerauswahl!$C$4,\"Mini Countryman, Cooper D 2.0, F60, 136 PS / 100 kW\")","v":"Mini Countryman, Cooper D 2.0, F60, 136 PS / 100 kW"},{"$f":"HYPERLINK(\"files\\9060.\"&Herstellerauswahl!$C$4,\"Auswahl / Select 9060\")","v":"Auswahl / Select 9060"}]
["0005/CNK",{"$f":"HYPERLINK(\"files\\9060.\"&Herstellerauswahl!$C$4,\"Mini Countryman, Cooper D 2.0 ALL4, F60, 136 PS / 100 kW\")","v":"Mini Countryman, Cooper D 2.0 ALL4, F60, 136 PS / 100 kW"},{"$f":"HYPERLINK(\"files\\9060.\"&Herstellerauswahl!$C$4,\"Auswahl / Select 9060\")","v":"Auswahl / Select 9060"}]
["0005/CNB",{"$f":"HYPERLINK(\"files\\9060.\"&Herstellerauswahl!$C$4,\"Mini Countryman, Cooper D 2.0, F60, 150 PS / 110 kW\")","v":"Mini Countryman, Cooper D 2.0, F60, 150 PS / 110 kW"},{"$f":"HYPERLINK(\"files\\9060.\"&Herstellerauswahl!$C$4,\"Auswahl / Select 9060\")","v":"Auswahl / Select 9060"}]
["0005/CNI",{"$f":"HYPERLINK(\"files\\9060.\"&Herstellerauswahl!$C$4,\"Mini Countryman, Cooper D 2.0 ALL4, F60, 150 PS / 110 kW\")","v":"Mini Countryman, Cooper D 2.0 ALL4, F60, 150 PS / 110 kW"},{"$f":"HYPERLINK(\"files\\9060.\"&Herstellerauswahl!$C$4,\"Auswahl / Select 9060\")","v":"Auswahl / Select 9060"}]
["0005/CNA",{"$f":"HYPERLINK(\"files\\9060.\"&Herstellerauswahl!$C$4,\"Mini Countryman, Cooper S 2.0, F60, 163 PS / 120 kW\")","v":"Mini Countryman, Cooper S 2.0, F60, 163 PS / 120 kW"},{"$f":"HYPERLINK(\"files\\9060.\"&Herstellerauswahl!$C$4,\"Auswahl / Select 9060\")","v":"Auswahl / Select 9060"}]
["0005/CNH",{"$f":"HYPERLINK(\"files\\9060.\"&Herstellerauswahl!$C$4,\"Mini Countryman, Cooper S 2.0 ALL4, F60, 163 PS / 120 kW\")","v":"Mini Countryman, Cooper S 2.0 ALL4, F60, 163 PS / 120 kW"},{"$f":"HYPERLINK(\"files\\9060.\"&Herstellerauswahl!$C$4,\"Auswahl / Select 9060\")","v":"Auswahl / Select 9060"}]
["0005/CMZ",{"$f":"HYPERLINK(\"files\\9060.\"&Herstellerauswahl!$C$4,\"Mini Countryman, Cooper S 2.0, F60, 192 PS / 141 kW\")","v":"Mini Countryman, Cooper S 2.0, F60, 192 PS / 141 kW"},{"$f":"HYPERLINK(\"files\\9060.\"&Herstellerauswahl!$C$4,\"Auswahl / Select 9060\")","v":"Auswahl / Select 9060"}]
["0005/CNG",{"$f":"HYPERLINK(\"files\\9060.\"&Herstellerauswahl!$C$4,\"Mini Countryman, Cooper S 2.0 ALL4, F60, 192 PS / 141 kW\")","v":"Mini Countryman, Cooper S 2.0 ALL4, F60, 192 PS / 141 kW"},{"$f":"HYPERLINK(\"files\\9060.\"&Herstellerauswahl!$C$4,\"Auswahl / Select 9060\")","v":"Auswahl / Select 9060"}]
["0005/CNM",{"$f":"HYPERLINK(\"files\\9060.\"&Herstellerauswahl!$C$4,\"Mini Countryman, Cooper S 2.0, F60, 211 PS / 155 kW\")","v":"Mini Countryman, Cooper S 2.0, F60, 211 PS / 155 kW"},{"$f":"HYPERLINK(\"files\\9060.\"&Herstellerauswahl!$C$4,\"Auswahl / Select 9060\")","v":"Auswahl / Select 9060"}]
["0005/CNN",{"$f":"HYPERLINK(\"files\\9060.\"&Herstellerauswahl!$C$4,\"Mini Countryman, Cooper S 2.0 ALL4, F60, 211 PS / 155 kW\")","v":"Mini Countryman, Cooper S 2.0 ALL4, F60, 211 PS / 155 kW"},{"$f":"HYPERLINK(\"files\\9060.\"&Herstellerauswahl!$C$4,\"Auswahl / Select 9060\")","v":"Auswahl / Select 9060"}]
["0005/CND",{"$f":"HYPERLINK(\"files\\9060.\"&Herstellerauswahl!$C$4,\"Mini Countryman, Cooper SD 2.0, F60, 163 PS / 120 kW\")","v":"Mini Countryman, Cooper SD 2.0, F60, 163 PS / 120 kW"},{"$f":"HYPERLINK(\"files\\9060.\"&Herstellerauswahl!$C$4,\"Auswahl / Select 9060\")","v":"Auswahl / Select 9060"}]
["0005/CNL",{"$f":"HYPERLINK(\"files\\9060.\"&Herstellerauswahl!$C$4,\"Mini Countryman, Cooper SD 2.0 ALL4, F60, 163 PS / 120 kW\")","v":"Mini Countryman, Cooper SD 2.0 ALL4, F60, 163 PS / 120 kW"},{"$f":"HYPERLINK(\"files\\9060.\"&Herstellerauswahl!$C$4,\"Auswahl / Select 9060\")","v":"Auswahl / Select 9060"}]
["0005/CNE",{"$f":"HYPERLINK(\"files\\9060.\"&Herstellerauswahl!$C$4,\"Mini Countryman, Cooper SD 2.0, F60, 190 PS / 140 kW\")","v":"Mini Countryman, Cooper SD 2.0, F60, 190 PS / 140 kW"},{"$f":"HYPERLINK(\"files\\9060.\"&Herstellerauswahl!$C$4,\"Auswahl / Select 9060\")","v":"Auswahl / Select 9060"}]
["0005/CNJ",{"$f":"HYPERLINK(\"files\\9060.\"&Herstellerauswahl!$C$4,\"Mini Countryman, Cooper SD 2.0 ALL4, F60, 190 PS / 140 kW\")","v":"Mini Countryman, Cooper SD 2.0 ALL4, F60, 190 PS / 140 kW"},{"$f":"HYPERLINK(\"files\\9060.\"&Herstellerauswahl!$C$4,\"Auswahl / Select 9060\")","v":"Auswahl / Select 9060"}]
["0005/CON",{"$f":"HYPERLINK(\"files\\9060.\"&Herstellerauswahl!$C$4,\"Mini Countryman, Cooper SE 1.5 ALL4, F60, 136 PS / 100 kW\")","v":"Mini Countryman, Cooper SE 1.5 ALL4, F60, 136 PS / 100 kW"},{"$f":"HYPERLINK(\"files\\9060.\"&Herstellerauswahl!$C$4,\"Auswahl / Select 9060\")","v":"Auswahl / Select 9060"}]
["0005/COM",{"$f":"HYPERLINK(\"files\\9061.\"&Herstellerauswahl!$C$4,\"Mini Countryman, John Cooper Works ALL4, F60, 231 PS / 170 kW\")","v":"Mini Countryman, John Cooper Works ALL4, F60, 231 PS / 170 kW"},{"$f":"HYPERLINK(\"files\\9061.\"&Herstellerauswahl!$C$4,\"Auswahl / Select 9061\")","v":"Auswahl / Select 9061"}]
["0005/CWI",{"$f":"HYPERLINK(\"files\\9061.\"&Herstellerauswahl!$C$4,\"Mini Countryman, John Cooper Works ALL4, F60, 306 PS / 225 kW\")","v":"Mini Countryman, John Cooper Works ALL4, F60, 306 PS / 225 kW"},{"$f":"HYPERLINK(\"files\\9061.\"&Herstellerauswahl!$C$4,\"Auswahl / Select 9061\")","v":"Auswahl / Select 9061"}]

{"sheet":"F60 Facelift","index":199,"n_rows":16,"n_cols":4,"rows_kept":16,"cut":false,"hidden":false,"merged":[]}
[]
[]
["TSN/HSN","Motorauswahl für F60 Facelift","Home","Zurück / back"]
[]
["0005/CPD",{"$f":"HYPERLINK(\"files\\9060.\"&Herstellerauswahl!$C$4,\"Mini Countryman, One 1.5 D, F60 (LCI), 116 PS / 85 kW\")","v":"Mini Countryman, One 1.5 D, F60 (LCI), 116 PS / 85 kW"},{"$f":"HYPERLINK(\"files\\9060.\"&Herstellerauswahl!$C$4,\"Auswahl / Select 9060\")","v":"Auswahl / Select 9060"}]
["0005/CMY",{"$f":"HYPERLINK(\"files\\9060.\"&Herstellerauswahl!$C$4,\"Mini Countryman, Cooper 1.5, F60 (LCI), 136 PS / 100 kW\")","v":"Mini Countryman, Cooper 1.5, F60 (LCI), 136 PS / 100 kW"},{"$f":"HYPERLINK(\"files\\9060.\"&Herstellerauswahl!$C$4,\"Auswahl / Select 9060\")","v":"Auswahl / Select 9060"}]
["0005/CNF",{"$f":"HYPERLINK(\"files\\9060.\"&Herstellerauswahl!$C$4,\"Mini Countryman, Cooper 1.5 ALL4, F60 (LCI), 136 PS / 100 kW\")","v":"Mini Countryman, Cooper 1.5 ALL4, F60 (LCI), 136 PS / 100 kW"},{"$f":"HYPERLINK(\"files\\9060.\"&Herstellerauswahl!$C$4,\"Auswahl / Select 9060\")","v":"Auswahl / Select 9060"}]
["0005/CNC",{"$f":"HYPERLINK(\"files\\9060.\"&Herstellerauswahl!$C$4,\"Mini Countryman, Cooper D 2.0, F60 (LCI), 136 PS / 100 kW\")","v":"Mini Countryman, Cooper D 2.0, F60 (LCI), 136 PS / 100 kW"},{"$f":"HYPERLINK(\"files\\9060.\"&Herstellerauswahl!$C$4,\"Auswahl / Select 9060\")","v":"Auswahl / Select 9060"}]
["0005/CNB",{"$f":"HYPERLINK(\"files\\9060.\"&Herstellerauswahl!$C$4,\"Mini Countryman, Cooper D 2.0, F60 (LCI), 150 PS / 110 kW\")","v":"Mini Countryman, Cooper D 2.0, F60 (LCI), 150 PS / 110 kW"},{"$f":"HYPERLINK(\"files\\9060.\"&Herstellerauswahl!$C$4,\"Auswahl / Select 9060\")","v":"Auswahl / Select 9060"}]
["0005/CNI",{"$f":"HYPERLINK(\"files\\9060.\"&Herstellerauswahl!$C$4,\"Mini Countryman, Cooper D 2.0 ALL4, F60 (LCI), 150 PS / 110 kW\")","v":"Mini Countryman, Cooper D 2.0 ALL4, F60 (LCI), 150 PS / 110 kW"},{"$f":"HYPERLINK(\"files\\9060.\"&Herstellerauswahl!$C$4,\"Auswahl / Select 9060\")","v":"Auswahl / Select 9060"}]
["0005/CNA",{"$f":"HYPERLINK(\"files\\9060.\"&Herstellerauswahl!$C$4,\"Mini Countryman, Cooper S 2.0, F60 (LCI), 163 PS / 120 kW\")","v":"Mini Countryman, Cooper S 2.0, F60 (LCI), 163 PS / 120 kW"},{"$f":"HYPERLINK(\"files\\9060.\"&Herstellerauswahl!$C$4,\"Auswahl / Select 9060\")","v":"Auswahl / Select 9060"}]
["0005/DBI",{"$f":"HYPERLINK(\"files\\9060.\"&Herstellerauswahl!$C$4,\"Mini Countryman, Cooper S, F60 (LCI), 178 PS / 131 kW\")","v":"Mini Countryman, Cooper S, F60 (LCI), 178 PS / 131 kW"},{"$f":"HYPERLINK(\"files\\9060.\"&Herstellerauswahl!$C$4,\"Auswahl / Select 9060\")","v":"Auswahl / Select 9060"}]
["0005/DBJ",{"$f":"HYPERLINK(\"files\\9060.\"&Herstellerauswahl!$C$4,\"Mini Countryman, Cooper S ALL4, F60 (LCI), 178 PS / 131 kW\")","v":"Mini Countryman, Cooper S ALL4, F60 (LCI), 178 PS / 131 kW"},{"$f":"HYPERLINK(\"files\\9060.\"&Herstellerauswahl!$C$4,\"Auswahl / Select 9060\")","v":"Auswahl / Select 9060"}]
["0005/CNE",{"$f":"HYPERLINK(\"files\\9060.\"&Herstellerauswahl!$C$4,\"Mini Countryman, Cooper SD 2.0, F60 (LCI), 190 PS / 140 kW\")","v":"Mini Countryman, Cooper SD 2.0, F60 (LCI), 190 PS / 140 kW"},{"$f":"HYPERLINK(\"files\\9060.\"&Herstellerauswahl!$C$4,\"Auswahl / Select 9060\")","v":"Auswahl / Select 9060"}]
["0005/CNJ",{"$f":"HYPERLINK(\"files\\9060.\"&Herstellerauswahl!$C$4,\"Mini Countryman, Cooper SD 2.0 ALL4, F60 (LCI), 190 PS / 140 kW\")","v":"Mini Countryman, Cooper SD 2.0 ALL4, F60 (LCI), 190 PS / 140 kW"},{"$f":"HYPERLINK(\"files\\9060.\"&Herstellerauswahl!$C$4,\"Auswahl / Select 9060\")","v":"Auswahl / Select 9060"}]
["0005/DBK",{"$f":"HYPERLINK(\"files\\9060.\"&Herstellerauswahl!$C$4,\"Mini Countryman, Cooper SE ALL4, F60 (LCI), 125 PS / 92 kW\")","v":"Mini Countryman, Cooper SE ALL4, F60 (LCI), 125 PS / 92 kW"},{"$f":"HYPERLINK(\"files\\9060.\"&Herstellerauswahl!$C$4,\"Auswahl / Select 9060\")","v":"Auswahl / Select 9060"}]

{"sheet":"R60","index":200,"n_rows":21,"n_cols":4,"rows_kept":21,"cut":false,"hidden":false,"merged":[]}
[]
[]
["TSN/HSN","Motorauswahl für R60","Home","Zurück / back"]
[]
["0005/BBV/BFI",{"$f":"HYPERLINK(\"files\\9001.\"&Herstellerauswahl!$C$4,\"Mini Countryman, One D, R60, 90 PS / 66 kW\")","v":"Mini Countryman, One D, R60, 90 PS / 66 kW"},{"$f":"HYPERLINK(\"files\\9001.\"&Herstellerauswahl!$C$4,\"Auswahl / Select 9001\")","v":"Auswahl / Select 9001"}]
["0005/BBS/BEW",{"$f":"HYPERLINK(\"files\\9001.\"&Herstellerauswahl!$C$4,\"Mini Countryman, One, R60, 98 PS / 72 kW\")","v":"Mini Countryman, One, R60, 98 PS / 72 kW"},{"$f":"HYPERLINK(\"files\\9001.\"&Herstellerauswahl!$C$4,\"Auswahl / Select 9001\")","v":"Auswahl / Select 9001"}]
["0005/BBY/BFF",{"$f":"HYPERLINK(\"files\\9001.\"&Herstellerauswahl!$C$4,\"Mini Countryman, Cooper D, R60, 112 PS / 82 kW\")","v":"Mini Countryman, Cooper D, R60, 112 PS / 82 kW"},{"$f":"HYPERLINK(\"files\\9001.\"&Herstellerauswahl!$C$4,\"Auswahl / Select 9001\")","v":"Auswahl / Select 9001"}]
["0005/BCE",{"$f":"HYPERLINK(\"files\\9001.\"&Herstellerauswahl!$C$4,\"Mini Countryman, Cooper D 2.0, R60, 112 PS / 82 kW\")","v":"Mini Countryman, Cooper D 2.0, R60, 112 PS / 82 kW"},{"$f":"HYPERLINK(\"files\\9001.\"&Herstellerauswahl!$C$4,\"Auswahl / Select 9001\")","v":"Auswahl / Select 9001"}]
["0005/BFG",{"$f":"HYPERLINK(\"files\\9001.\"&Herstellerauswahl!$C$4,\"Mini Countryman, Cooper D 2.0, R60, 112 PS / 82 kW\")","v":"Mini Countryman, Cooper D 2.0, R60, 112 PS / 82 kW"},{"$f":"HYPERLINK(\"files\\9001.\"&Herstellerauswahl!$C$4,\"Auswahl / Select 9001\")","v":"Auswahl / Select 9001"}]
["0005/BBT/BEY",{"$f":"HYPERLINK(\"files\\9001.\"&Herstellerauswahl!$C$4,\"Mini Countryman, Cooper D ALL4, R60, 112 PS / 82 kW\")","v":"Mini Countryman, Cooper D ALL4, R60, 112 PS / 82 kW"},{"$f":"HYPERLINK(\"files\\9001.\"&Herstellerauswahl!$C$4,\"Auswahl / Select 9001\")","v":"Auswahl / Select 9001"}]
["0005/BCJ/BFE",{"$f":"HYPERLINK(\"files\\9001.\"&Herstellerauswahl!$C$4,\"Mini Countryman, Cooper 2.0 D ALL4, R60, 112 PS / 82 kW\")","v":"Mini Countryman, Cooper 2.0 D ALL4, R60, 112 PS / 82 kW"},{"$f":"HYPERLINK(\"files\\9001.\"&Herstellerauswahl!$C$4,\"Auswahl / Select 9001\")","v":"Auswahl / Select 9001"}]
["0005/BBR/BFB",{"$f":"HYPERLINK(\"files\\9001.\"&Herstellerauswahl!$C$4,\"Mini Countryman, Cooper 1.6, R60, 120 PS / 88 kW\")","v":"Mini Countryman, Cooper 1.6, R60, 120 PS / 88 kW"},{"$f":"HYPERLINK(\"files\\9001.\"&Herstellerauswahl!$C$4,\"Auswahl / Select 9001\")","v":"Auswahl / Select 9001"}]
["0005/BBP/BFD",{"$f":"HYPERLINK(\"files\\9001.\"&Herstellerauswahl!$C$4,\"Mini Countryman, Cooper 1.6, R60, 122 PS / 90 kW\")","v":"Mini Countryman, Cooper 1.6, R60, 122 PS / 90 kW"},{"$f":"HYPERLINK(\"files\\9001.\"&Herstellerauswahl!$C$4,\"Auswahl / Select 9001\")","v":"Auswahl / Select 9001"}]
["0005/BCF/BFA",{"$f":"HYPERLINK(\"files\\9001.\"&Herstellerauswahl!$C$4,\"Mini Countryman, Cooper D 2.0, R60, 136 PS / 100 kW\")","v":"Mini Countryman, Cooper D 2.0, R60, 136 PS / 100 kW"},{"$f":"HYPERLINK(\"files\\9001.\"&Herstellerauswahl!$C$4,\"Auswahl / Select 9001\")","v":"Auswahl / Select 9001"}]
["0005/BCH",{"$f":"HYPERLINK(\"files\\9001.\"&Herstellerauswahl!$C$4,\"Mini Countryman, Cooper D 2.0 ALL4, R60, 136 PS / 100 kW\")","v":"Mini Countryman, Cooper D 2.0 ALL4, R60, 136 PS / 100 kW"},{"$f":"HYPERLINK(\"files\\9001.\"&Herstellerauswahl!$C$4,\"Auswahl / Select 9001\")","v":"Auswahl / Select 9001"}]
["0005/BCG/BEX",{"$f":"HYPERLINK(\"files\\9001.\"&Herstellerauswahl!$C$4,\"Mini Countryman, Cooper D 2.0, R60, 143 PS / 105 kW\")","v":"Mini Countryman, Cooper D 2.0, R60, 143 PS / 105 kW"},{"$f":"HYPERLINK(\"files\\9001.\"&Herstellerauswahl!$C$4,\"Auswahl / Select 9001\")","v":"Auswahl / Select 9001"}]
["0005/BCI",{"$f":"HYPERLINK(\"files\\9001.\"&Herstellerauswahl!$C$4,\"Mini Countryman, Cooper D 2.0 ALL4, R60, 143 PS / 105 kW\")","v":"Mini Countryman, Cooper D 2.0 ALL4, R60, 143 PS / 105 kW"},{"$f":"HYPERLINK(\"files\\9001.\"&Herstellerauswahl!$C$4,\"Auswahl / Select 9001\")","v":"Auswahl / Select 9001"}]
["0005/BBX/BFH",{"$f":"HYPERLINK(\"files\\9001.\"&Herstellerauswahl!$C$4,\"Mini Countryman, Cooper, R60, 163 PS / 120 kW\")","v":"Mini Countryman, Cooper, R60, 163 PS / 120 kW"},{"$f":"HYPERLINK(\"files\\9001.\"&Herstellerauswahl!$C$4,\"Auswahl / Select 9001\")","v":"Auswahl / Select 9001"}]
["0005/BBU",{"$f":"HYPERLINK(\"files\\9001.\"&Herstellerauswahl!$C$4,\"Mini Countryman, Cooper ALL4, R60, 163 PS / 120 kW\")","v":"Mini Countryman, Cooper ALL4, R60, 163 PS / 120 kW"},{"$f":"HYPERLINK(\"files\\9001.\"&Herstellerauswahl!$C$4,\"Auswahl / Select 9001\")","v":"Auswahl / Select 9001"}]
["0005/BBO/BEZ",{"$f":"HYPERLINK(\"files\\9001.\"&Herstellerauswahl!$C$4,\"Mini Countryman, Cooper S, R60, 184 PS / 135 kW\")","v":"Mini Countryman, Cooper S, R60, 184 PS / 135 kW"},{"$f":"HYPERLINK(\"files\\9001.\"&Herstellerauswahl!$C$4,\"Auswahl / Select 9001\")","v":"Auswahl / Select 9001"}]
["0005/BBQ",{"$f":"HYPERLINK(\"files\\9001.\"&Herstellerauswahl!$C$4,\"Mini Countryman, Cooper S ALL4, R60, 184 PS / 135 kW\")","v":"Mini Countryman, Cooper S ALL4, R60, 184 PS / 135 kW"},{"$f":"HYPERLINK(\"files\\9001.\"&Herstellerauswahl!$C$4,\"Auswahl / Select 9001\")","v":"Auswahl / Select 9001"}]

{"sheet":"R60 Facelift","index":201,"n_rows":26,"n_cols":4,"rows_kept":26,"cut":false,"hidden":false,"merged":[]}
[]
[]
["TSN/HSN","Motorauswahl für R60 Facelift","Home","Zurück / back"]
[]
["0005/BBV/BFI",{"$f":"HYPERLINK(\"files\\9001.\"&Herstellerauswahl!$C$4,\"Mini Countryman, One D, R60 (LCI), 90 PS / 66 kW\")","v":"Mini Countryman, One D, R60 (LCI), 90 PS / 66 kW"},{"$f":"HYPERLINK(\"files\\9001.\"&Herstellerauswahl!$C$4,\"Auswahl / Select 9001\")","v":"Auswahl / Select 9001"}]
["0005/BBS/BEW",{"$f":"HYPERLINK(\"files\\9001.\"&Herstellerauswahl!$C$4,\"Mini Countryman, One, R60 (LCI), 98 PS / 72 kW\")","v":"Mini Countryman, One, R60 (LCI), 98 PS / 72 kW"},{"$f":"HYPERLINK(\"files\\9001.\"&Herstellerauswahl!$C$4,\"Auswahl / Select 9001\")","v":"Auswahl / Select 9001"}]
["0005/BBY/BFF",{"$f":"HYPERLINK(\"files\\9001.\"&Herstellerauswahl!$C$4,\"Mini Countryman, Cooper D, R60 (LCI), 112 PS / 82 kW\")","v":"Mini Countryman, Cooper D, R60 (LCI), 112 PS / 82 kW"},{"$f":"HYPERLINK(\"files\\9001.\"&Herstellerauswahl!$C$4,\"Auswahl / Select 9001\")","v":"Auswahl / Select 9001"}]
["0005/BCE/BFG",{"$f":"HYPERLINK(\"files\\9001.\"&Herstellerauswahl!$C$4,\"Mini Countryman, Cooper 2.0 D, R60 (LCI), 112 PS / 82 kW\")","v":"Mini Countryman, Cooper 2.0 D, R60 (LCI), 112 PS / 82 kW"},{"$f":"HYPERLINK(\"files\\9001.\"&Herstellerauswahl!$C$4,\"Auswahl / Select 9001\")","v":"Auswahl / Select 9001"}]
["0005/BBT/BEY",{"$f":"HYPERLINK(\"files\\9001.\"&Herstellerauswahl!$C$4,\"Mini Countryman, Cooper D ALL4, R60 (LCI), 112 PS / 82 kW\")","v":"Mini Countryman, Cooper D ALL4, R60 (LCI), 112 PS / 82 kW"},{"$f":"HYPERLINK(\"files\\9001.\"&Herstellerauswahl!$C$4,\"Auswahl / Select 9001\")","v":"Auswahl / Select 9001"}]
["0005/BCJ/BFE",{"$f":"HYPERLINK(\"files\\9001.\"&Herstellerauswahl!$C$4,\"Mini Countryman, Cooper D 2.0 ALL4, R60 (LCI), 112 PS / 82 kW\")","v":"Mini Countryman, Cooper D 2.0 ALL4, R60 (LCI), 112 PS / 82 kW"},{"$f":"HYPERLINK(\"files\\9001.\"&Herstellerauswahl!$C$4,\"Auswahl / Select 9001\")","v":"Auswahl / Select 9001"}]
["0005/BBW/BFC",{"$f":"HYPERLINK(\"files\\9001.\"&Herstellerauswahl!$C$4,\"Mini Countryman, Cooper 1.6, R60 (LCI), 116 PS / 85 kW\")","v":"Mini Countryman, Cooper 1.6, R60 (LCI), 116 PS / 85 kW"},{"$f":"HYPERLINK(\"files\\9001.\"&Herstellerauswahl!$C$4,\"Auswahl / Select 9001\")","v":"Auswahl / Select 9001"}]
["0005/BBR/BFB",{"$f":"HYPERLINK(\"files\\9001.\"&Herstellerauswahl!$C$4,\"Mini Countryman, Cooper 1.6, R60 (LCI), 120 PS / 88 kW\")","v":"Mini Countryman, Cooper 1.6, R60 (LCI), 120 PS / 88 kW"},{"$f":"HYPERLINK(\"files\\9001.\"&Herstellerauswahl!$C$4,\"Auswahl / Select 9001\")","v":"Auswahl / Select 9001"}]
["0005/BQI",{"$f":"HYPERLINK(\"files\\9001.\"&Herstellerauswahl!$C$4,\"Mini Countryman, Cooper 1.6 ALL4, R60 (LCI), 120 PS / 88 kW\")","v":"Mini Countryman, Cooper 1.6 ALL4, R60 (LCI), 120 PS / 88 kW"},{"$f":"HYPERLINK(\"files\\9001.\"&Herstellerauswahl!$C$4,\"Auswahl / Select 9001\")","v":"Auswahl / Select 9001"}]
["0005/BBP/BFD",{"$f":"HYPERLINK(\"files\\9001.\"&Herstellerauswahl!$C$4,\"Mini Countryman, Cooper 1.6, R60 (LCI), 122 PS / 90 kW\")","v":"Mini Countryman, Cooper 1.6, R60 (LCI), 122 PS / 90 kW"},{"$f":"HYPERLINK(\"files\\9001.\"&Herstellerauswahl!$C$4,\"Auswahl / Select 9001\")","v":"Auswahl / Select 9001"}]
["0005/BQH",{"$f":"HYPERLINK(\"files\\9001.\"&Herstellerauswahl!$C$4,\"Mini Countryman, Cooper 1.6 ALL4, R60 (LCI), 122 PS / 90 kW\")","v":"Mini Countryman, Cooper 1.6 ALL4, R60 (LCI), 122 PS / 90 kW"},{"$f":"HYPERLINK(\"files\\9001.\"&Herstellerauswahl!$C$4,\"Auswahl / Select 9001\")","v":"Auswahl / Select 9001"}]
["0005/BCF/BFA",{"$f":"HYPERLINK(\"files\\9001.\"&Herstellerauswahl!$C$4,\"Mini Countryman, Cooper D 2.0, R60 (LCI), 136 PS / 100 kW\")","v":"Mini Countryman, Cooper D 2.0, R60 (LCI), 136 PS / 100 kW"},{"$f":"HYPERLINK(\"files\\9001.\"&Herstellerauswahl!$C$4,\"Auswahl / Select 9001\")","v":"Auswahl / Select 9001"}]
["0005/BCH",{"$f":"HYPERLINK(\"files\\9001.\"&Herstellerauswahl!$C$4,\"Mini Countryman, Cooper D 2.0 ALL4, R60 (LCI), 136 PS / 100 kW\")","v":"Mini Countryman, Cooper D 2.0 ALL4, R60 (LCI), 136 PS / 100 kW"},{"$f":"HYPERLINK(\"files\\9001.\"&Herstellerauswahl!$C$4,\"Auswahl / Select 9001\")","v":"Auswahl / Select 9001"}]
["0005/BCG/BEX",{"$f":"HYPERLINK(\"files\\9001.\"&Herstellerauswahl!$C$4,\"Mini Countryman, Cooper D 2.0, R60 (LCI), 143 PS / 105 kW\")","v":"Mini Countryman, Cooper D 2.0, R60 (LCI), 143 PS / 105 kW"},{"$f":"HYPERLINK(\"files\\9001.\"&Herstellerauswahl!$C$4,\"Auswahl / Select 9001\")","v":"Auswahl / Select 9001"}]
["0005/BCI",{"$f":"HYPERLINK(\"files\\9001.\"&Herstellerauswahl!$C$4,\"Mini Countryman, Cooper D ALL4, R60 (LCI), 143 PS / 105 kW\")","v":"Mini Countryman, Cooper D ALL4, R60 (LCI), 143 PS / 105 kW"},{"$f":"HYPERLINK(\"files\\9001.\"&Herstellerauswahl!$C$4,\"Auswahl / Select 9001\")","v":"Auswahl / Select 9001"}]
["0005/BBX/BFH",{"$f":"HYPERLINK(\"files\\9001.\"&Herstellerauswahl!$C$4,\"Mini Countryman, Cooper, R60 (LCI), 163 PS / 120 kW\")","v":"Mini Countryman, Cooper, R60 (LCI), 163 PS / 120 kW"},{"$f":"HYPERLINK(\"files\\9001.\"&Herstellerauswahl!$C$4,\"Auswahl / Select 9001\")","v":"Auswahl / Select 9001"}]
["0005/BBU",{"$f":"HYPERLINK(\"files\\9001.\"&Herstellerauswahl!$C$4,\"Mini Countryman, Cooper ALL4, R60 (LCI), 163 PS / 120 kW\")","v":"Mini Countryman, Cooper ALL4, R60 (LCI), 163 PS / 120 kW"},{"$f":"HYPERLINK(\"files\\9001.\"&Herstellerauswahl!$C$4,\"Auswahl / Select 9001\")","v":"Auswahl / Select 9001"}]
["0005/BBO/BEZ",{"$f":"HYPERLINK(\"files\\9001.\"&Herstellerauswahl!$C$4,\"Mini Countryman, Cooper S, R60 (LCI), 184 PS / 135 kW\")","v":"Mini Countryman, Cooper S, R60 (LCI), 184 PS / 135 kW"},{"$f":"HYPERLINK(\"files\\9001.\"&Herstellerauswahl!$C$4,\"Auswahl / Select 9001\")","v":"Auswahl / Select 9001"}]
["0005/BBQ",{"$f":"HYPERLINK(\"files\\9001.\"&Herstellerauswahl!$C$4,\"Mini Countryman, Cooper S ALL4, R60 (LCI), 184 PS / 135 kW\")","v":"Mini Countryman, Cooper S ALL4, R60 (LCI), 184 PS / 135 kW"},{"$f":"HYPERLINK(\"files\\9001.\"&Herstellerauswahl!$C$4,\"Auswahl / Select 9001\")","v":"Auswahl / Select 9001"}]
["0005/BWX",{"$f":"HYPERLINK(\"files\\9001.\"&Herstellerauswahl!$C$4,\"Mini Countryman, Cooper S, R60 (LCI), 190 PS / 140 kW\")","v":"Mini Countryman, Cooper S, R60 (LCI), 190 PS / 140 kW"},{"$f":"HYPERLINK(\"files\\9001.\"&Herstellerauswahl!$C$4,\"Auswahl / Select 9001\")","v":"Auswahl / Select 9001"}]
["0005/BWY",{"$f":"HYPERLINK(\"files\\9001.\"&Herstellerauswahl!$C$4,\"Mini Countryman, Cooper S ALL4, R60 (LCI), 190 PS / 140 kW\")","v":"Mini Countryman, Cooper S ALL4, R60 (LCI), 190 PS / 140 kW"},{"$f":"HYPERLINK(\"files\\9001.\"&Herstellerauswahl!$C$4,\"Auswahl / Select 9001\")","v":"Auswahl / Select 9001"}]
["0005/BMD",{"$f":"HYPERLINK(\"files\\9030.\"&Herstellerauswahl!$C$4,\"Mini Countryman, John Cooper Works ALL4, R60 (LCI), 218 PS / 160 kW\")","v":"Mini Countryman, John Cooper Works ALL4, R60 (LCI), 218 PS / 160 kW"},{"$f":"HYPERLINK(\"files\\9030.\"&Herstellerauswahl!$C$4,\"Auswahl / Select 9030\")","v":"Auswahl / Select 9030"}]

{"sheet":"Mini Coupé","index":202,"n_rows":5,"n_cols":4,"rows_kept":5,"cut":false,"hidden":false,"merged":[]}
[]
[]
[null,"Typauswahl für Mini Coupé","Home","Zurück / back"]
[]
[null,"R58","Auswahl / Select"]

{"sheet":"R58","index":203,"n_rows":13,"n_cols":4,"rows_kept":13,"cut":false,"hidden":false,"merged":[]}
[]
[]
["TSN/HSN","Motorauswahl für R58","Home","Zurück / back"]
[]
["0005/BEF",{"$f":"HYPERLINK(\"files\\9019.\"&Herstellerauswahl!$C$4,\"Mini Coupé, One 1.6, R58, 116 PS / 85 kW\")","v":"Mini Coupé, One 1.6, R58, 116 PS / 85 kW"},{"$f":"HYPERLINK(\"files\\9019.\"&Herstellerauswahl!$C$4,\"Auswahl / Select 9019\")","v":"Auswahl / Select 9019"}]
["0005/BEG",{"$f":"HYPERLINK(\"files\\9019.\"&Herstellerauswahl!$C$4,\"Mini Coupé, One 1.6, R58, 120 PS / 88 kW\")","v":"Mini Coupé, One 1.6, R58, 120 PS / 88 kW"},{"$f":"HYPERLINK(\"files\\9019.\"&Herstellerauswahl!$C$4,\"Auswahl / Select 9019\")","v":"Auswahl / Select 9019"}]
["0005/BEH",{"$f":"HYPERLINK(\"files\\9019.\"&Herstellerauswahl!$C$4,\"Mini Coupé, Cooper, R58, 122 PS / 90 kW\")","v":"Mini Coupé, Cooper, R58, 122 PS / 90 kW"},{"$f":"HYPERLINK(\"files\\9019.\"&Herstellerauswahl!$C$4,\"Auswahl / Select 9019\")","v":"Auswahl / Select 9019"}]
["0005/BEL",{"$f":"HYPERLINK(\"files\\9019.\"&Herstellerauswahl!$C$4,\"Mini Coupé, Cooper SD, R58, 136 PS / 100 kW\")","v":"Mini Coupé, Cooper SD, R58, 136 PS / 100 kW"},{"$f":"HYPERLINK(\"files\\9019.\"&Herstellerauswahl!$C$4,\"Auswahl / Select 9019\")","v":"Auswahl / Select 9019"}]
["0005/BEM",{"$f":"HYPERLINK(\"files\\9019.\"&Herstellerauswahl!$C$4,\"Mini Coupé, Cooper SD, R58, 143 PS / 105 kW\")","v":"Mini Coupé, Cooper SD, R58, 143 PS / 105 kW"},{"$f":"HYPERLINK(\"files\\9019.\"&Herstellerauswahl!$C$4,\"Auswahl / Select 9019\")","v":"Auswahl / Select 9019"}]
["0005/BEI",{"$f":"HYPERLINK(\"files\\9019.\"&Herstellerauswahl!$C$4,\"Mini Coupé, One 1.6, R58, 163 PS / 120 kW\")","v":"Mini Coupé, One 1.6, R58, 163 PS / 120 kW"},{"$f":"HYPERLINK(\"files\\9019.\"&Herstellerauswahl!$C$4,\"Auswahl / Select 9019\")","v":"Auswahl / Select 9019"}]
["0005/BEJ",{"$f":"HYPERLINK(\"files\\9019.\"&Herstellerauswahl!$C$4,\"Mini Coupé, Cooper S, R58, 184 PS / 135 kW\")","v":"Mini Coupé, Cooper S, R58, 184 PS / 135 kW"},{"$f":"HYPERLINK(\"files\\9019.\"&Herstellerauswahl!$C$4,\"Auswahl / Select 9019\")","v":"Auswahl / Select 9019"}]
["0005/BEK",{"$f":"HYPERLINK(\"files\\9019.\"&Herstellerauswahl!$C$4,\"Mini Coupé, Cooper S 1.6, R58, 200 PS / 147 kW\")","v":"Mini Coupé, Cooper S 1.6, R58, 200 PS / 147 kW"},{"$f":"HYPERLINK(\"files\\9019.\"&Herstellerauswahl!$C$4,\"Auswahl / Select 9019\")","v":"Auswahl / Select 9019"}]
["0005/BEE",{"$f":"HYPERLINK(\"files\\9018.\"&Herstellerauswahl!$C$4,\"Mini Coupé, John Cooper Works, R58, 211 PS / 155 kW\")","v":"Mini Coupé, John Cooper Works, R58, 211 PS / 155 kW"},{"$f":"HYPERLINK(\"files\\9018.\"&Herstellerauswahl!$C$4,\"Auswahl / Select 9018\")","v":"Auswahl / Select 9018"}]

{"sheet":"Mini Roadster","index":204,"n_rows":5,"n_cols":4,"rows_kept":5,"cut":false,"hidden":false,"merged":[]}
[]
[]
[null,"Typauswahl für Mini Roadster","Home","Zurück / back"]
[]
[null,"R59","Auswahl / Select"]

{"sheet":"R59","index":205,"n_rows":13,"n_cols":4,"rows_kept":13,"cut":false,"hidden":false,"merged":[]}
[]
[]
["TSN/HSN","Motorauswahl für R59","Home","Zurück / back"]
[]
["0005/ATR",{"$f":"HYPERLINK(\"files\\9019.\"&Herstellerauswahl!$C$4,\"Mini Roadster, Cooper 1.6, R59, 116 PS / 85 kW\")","v":"Mini Roadster, Cooper 1.6, R59, 116 PS / 85 kW"},{"$f":"HYPERLINK(\"files\\9019.\"&Herstellerauswahl!$C$4,\"Auswahl / Select 9019\")","v":"Auswahl / Select 9019"}]
["0005/BAN",{"$f":"HYPERLINK(\"files\\9019.\"&Herstellerauswahl!$C$4,\"Mini Roadster, Cooper 1.6, R59, 120 PS / 88 kW\")","v":"Mini Roadster, Cooper 1.6, R59, 120 PS / 88 kW"},{"$f":"HYPERLINK(\"files\\9019.\"&Herstellerauswahl!$C$4,\"Auswahl / Select 9019\")","v":"Auswahl / Select 9019"}]
["0005/ATS",{"$f":"HYPERLINK(\"files\\9019.\"&Herstellerauswahl!$C$4,\"Mini Roadster, Cooper 1.6, R59, 122 PS / 90 kW\")","v":"Mini Roadster, Cooper 1.6, R59, 122 PS / 90 kW"},{"$f":"HYPERLINK(\"files\\9019.\"&Herstellerauswahl!$C$4,\"Auswahl / Select 9019\")","v":"Auswahl / Select 9019"}]
["0005/BCO",{"$f":"HYPERLINK(\"files\\9019.\"&Herstellerauswahl!$C$4,\"Mini Roadster, Cooper SD 2.0, R59, 136 PS / 100 kW\")","v":"Mini Roadster, Cooper SD 2.0, R59, 136 PS / 100 kW"},{"$f":"HYPERLINK(\"files\\9019.\"&Herstellerauswahl!$C$4,\"Auswahl / Select 9019\")","v":"Auswahl / Select 9019"}]
["0005/BCP",{"$f":"HYPERLINK(\"files\\9019.\"&Herstellerauswahl!$C$4,\"Mini Roadster, Cooper SD 2.0, R59, 143 PS / 105 kW\")","v":"Mini Roadster, Cooper SD 2.0, R59, 143 PS / 105 kW"},{"$f":"HYPERLINK(\"files\\9019.\"&Herstellerauswahl!$C$4,\"Auswahl / Select 9019\")","v":"Auswahl / Select 9019"}]
["0005/ATT",{"$f":"HYPERLINK(\"files\\9019.\"&Herstellerauswahl!$C$4,\"Mini Roadster, Cooper S, R59, 163 PS / 120 kW\")","v":"Mini Roadster, Cooper S, R59, 163 PS / 120 kW"},{"$f":"HYPERLINK(\"files\\9019.\"&Herstellerauswahl!$C$4,\"Auswahl / Select 9019\")","v":"Auswahl / Select 9019"}]
["0005/ATU",{"$f":"HYPERLINK(\"files\\9019.\"&Herstellerauswahl!$C$4,\"Mini Roadster, Cooper S, R59, 184 PS / 135 kW\")","v":"Mini Roadster, Cooper S, R59, 184 PS / 135 kW"},{"$f":"HYPERLINK(\"files\\9019.\"&Herstellerauswahl!$C$4,\"Auswahl / Select 9019\")","v":"Auswahl / Select 9019"}]
["0005/BBM",{"$f":"HYPERLINK(\"files\\9019.\"&Herstellerauswahl!$C$4,\"Mini Roadster, Cooper S, R59, 200 PS / 147 kW\")","v":"Mini Roadster, Cooper S, R59, 200 PS / 147 kW"},{"$f":"HYPERLINK(\"files\\9019.\"&Herstellerauswahl!$C$4,\"Auswahl / Select 9019\")","v":"Auswahl / Select 9019"}]
["0005/ATW",{"$f":"HYPERLINK(\"files\\9018.\"&Herstellerauswahl!$C$4,\"Mini Roadster, John Cooper Works, R59, 211 PS / 155 kW\")","v":"Mini Roadster, John Cooper Works, R59, 211 PS / 155 kW"},{"$f":"HYPERLINK(\"files\\9018.\"&Herstellerauswahl!$C$4,\"Auswahl / Select 9018\")","v":"Auswahl / Select 9018"}]

{"sheet":"Mini Paceman","index":206,"n_rows":5,"n_cols":4,"rows_kept":5,"cut":false,"hidden":false,"merged":[]}
[]
[]
[null,"Typauswahl für Mini Paceman","Home","Zurück / back"]
[]
[null,"R61","Auswahl / Select"]

{"sheet":"R61","index":207,"n_rows":22,"n_cols":4,"rows_kept":22,"cut":false,"hidden":false,"merged":[]}
[]
[]
["TSN/HSN","Motorauswahl für R61","Home","Zurück / back"]
[]
["0005/BNG/BNH",{"$f":"HYPERLINK(\"files\\9001.\"&Herstellerauswahl!$C$4,\"Mini Paceman, Cooper D, R61, 112 PS / 82 kW\")","v":"Mini Paceman, Cooper D, R61, 112 PS / 82 kW"},{"$f":"HYPERLINK(\"files\\9001.\"&Herstellerauswahl!$C$4,\"Auswahl / Select 9001\")","v":"Auswahl / Select 9001"}]
["0005/BNK/BNL",{"$f":"HYPERLINK(\"files\\9001.\"&Herstellerauswahl!$C$4,\"Mini Paceman, Cooper D ALL4, R61, 112 PS / 82 kW\")","v":"Mini Paceman, Cooper D ALL4, R61, 112 PS / 82 kW"},{"$f":"HYPERLINK(\"files\\9001.\"&Herstellerauswahl!$C$4,\"Auswahl / Select 9001\")","v":"Auswahl / Select 9001"}]
["0005/BNN",{"$f":"HYPERLINK(\"files\\9001.\"&Herstellerauswahl!$C$4,\"Mini Paceman, Cooper, R61, 116 PS / 85 kW\")","v":"Mini Paceman, Cooper, R61, 116 PS / 85 kW"},{"$f":"HYPERLINK(\"files\\9001.\"&Herstellerauswahl!$C$4,\"Auswahl / Select 9001\")","v":"Auswahl / Select 9001"}]
["0005/BNS",{"$f":"HYPERLINK(\"files\\9001.\"&Herstellerauswahl!$C$4,\"Mini Paceman, Cooper, R61, 120 PS / 88 kW\")","v":"Mini Paceman, Cooper, R61, 120 PS / 88 kW"},{"$f":"HYPERLINK(\"files\\9001.\"&Herstellerauswahl!$C$4,\"Auswahl / Select 9001\")","v":"Auswahl / Select 9001"}]
["0005/BQK",{"$f":"HYPERLINK(\"files\\9001.\"&Herstellerauswahl!$C$4,\"Mini Paceman, Cooper ALL4, R61, 120 PS / 88 kW\")","v":"Mini Paceman, Cooper ALL4, R61, 120 PS / 88 kW"},{"$f":"HYPERLINK(\"files\\9001.\"&Herstellerauswahl!$C$4,\"Auswahl / Select 9001\")","v":"Auswahl / Select 9001"}]
["0005/BNE",{"$f":"HYPERLINK(\"files\\9001.\"&Herstellerauswahl!$C$4,\"Mini Paceman, Cooper, R61, 122 PS / 90 kW\")","v":"Mini Paceman, Cooper, R61, 122 PS / 90 kW"},{"$f":"HYPERLINK(\"files\\9001.\"&Herstellerauswahl!$C$4,\"Auswahl / Select 9001\")","v":"Auswahl / Select 9001"}]
["0005/BQJ",{"$f":"HYPERLINK(\"files\\9001.\"&Herstellerauswahl!$C$4,\"Mini Paceman, Cooper 1.6 ALL4, R61, 122 PS / 90 kW\")","v":"Mini Paceman, Cooper 1.6 ALL4, R61, 122 PS / 90 kW"},{"$f":"HYPERLINK(\"files\\9001.\"&Herstellerauswahl!$C$4,\"Auswahl / Select 9001\")","v":"Auswahl / Select 9001"}]
["0005/BNP",{"$f":"HYPERLINK(\"files\\9001.\"&Herstellerauswahl!$C$4,\"Mini Paceman, Cooper SD, R61, 136 PS / 100 kW\")","v":"Mini Paceman, Cooper SD, R61, 136 PS / 100 kW"},{"$f":"HYPERLINK(\"files\\9001.\"&Herstellerauswahl!$C$4,\"Auswahl / Select 9001\")","v":"Auswahl / Select 9001"}]
["0005/BNR",{"$f":"HYPERLINK(\"files\\9001.\"&Herstellerauswahl!$C$4,\"Mini Paceman, Cooper SD ALL4, R61, 136 PS / 100 kW\")","v":"Mini Paceman, Cooper SD ALL4, R61, 136 PS / 100 kW"},{"$f":"HYPERLINK(\"files\\9001.\"&Herstellerauswahl!$C$4,\"Auswahl / Select 9001\")","v":"Auswahl / Select 9001"}]
["0005/BNI",{"$f":"HYPERLINK(\"files\\9001.\"&Herstellerauswahl!$C$4,\"Mini Paceman, Cooper SD, R61, 143 PS / 105 kW\")","v":"Mini Paceman, Cooper SD, R61, 143 PS / 105 kW"},{"$f":"HYPERLINK(\"files\\9001.\"&Herstellerauswahl!$C$4,\"Auswahl / Select 9001\")","v":"Auswahl / Select 9001"}]
["0005/BNM",{"$f":"HYPERLINK(\"files\\9001.\"&Herstellerauswahl!$C$4,\"Mini Paceman, Cooper SD ALL4, R61, 143 PS / 105 kW\")","v":"Mini Paceman, Cooper SD ALL4, R61, 143 PS / 105 kW"},{"$f":"HYPERLINK(\"files\\9001.\"&Herstellerauswahl!$C$4,\"Auswahl / Select 9001\")","v":"Auswahl / Select 9001"}]
["0005/BNO",{"$f":"HYPERLINK(\"files\\9001.\"&Herstellerauswahl!$C$4,\"Mini Paceman, Cooper S, R61, 163 PS / 120 kW\")","v":"Mini Paceman, Cooper S, R61, 163 PS / 120 kW"},{"$f":"HYPERLINK(\"files\\9001.\"&Herstellerauswahl!$C$4,\"Auswahl / Select 9001\")","v":"Auswahl / Select 9001"}]
["0005/BNQ",{"$f":"HYPERLINK(\"files\\9001.\"&Herstellerauswahl!$C$4,\"Mini Paceman, Cooper S ALL4, R61, 163 PS / 120 kW\")","v":"Mini Paceman, Cooper S ALL4, R61, 163 PS / 120 kW"},{"$f":"HYPERLINK(\"files\\9001.\"&Herstellerauswahl!$C$4,\"Auswahl / Select 9001\")","v":"Auswahl / Select 9001"}]
["0005/BNF",{"$f":"HYPERLINK(\"files\\9001.\"&Herstellerauswahl!$C$4,\"Mini Paceman, Cooper S, R61, 184 PS / 135 kW\")","v":"Mini Paceman, Cooper S, R61, 184 PS / 135 kW"},{"$f":"HYPERLINK(\"files\\9001.\"&Herstellerauswahl!$C$4,\"Auswahl / Select 9001\")","v":"Auswahl / Select 9001"}]
["0005/BNJ",{"$f":"HYPERLINK(\"files\\9001.\"&Herstellerauswahl!$C$4,\"Mini Paceman, Cooper S ALL4, R61, 184 PS / 135 kW\")","v":"Mini Paceman, Cooper S ALL4, R61, 184 PS / 135 kW"},{"$f":"HYPERLINK(\"files\\9001.\"&Herstellerauswahl!$C$4,\"Auswahl / Select 9001\")","v":"Auswahl / Select 9001"}]
["0005/BWZ",{"$f":"HYPERLINK(\"files\\9001.\"&Herstellerauswahl!$C$4,\"Mini Paceman, Cooper S, R61, 190 PS / 140 kW\")","v":"Mini Paceman, Cooper S, R61, 190 PS / 140 kW"},{"$f":"HYPERLINK(\"files\\9001.\"&Herstellerauswahl!$C$4,\"Auswahl / Select 9001\")","v":"Auswahl / Select 9001"}]
["0005/BXA",{"$f":"HYPERLINK(\"files\\9001.\"&Herstellerauswahl!$C$4,\"Mini Paceman, Cooper S ALL4, R61, 190 PS / 140 kW\")","v":"Mini Paceman, Cooper S ALL4, R61, 190 PS / 140 kW"},{"$f":"HYPERLINK(\"files\\9001.\"&Herstellerauswahl!$C$4,\"Auswahl / Select 9001\")","v":"Auswahl / Select 9001"}]
["0005/BPS",{"$f":"HYPERLINK(\"files\\9030.\"&Herstellerauswahl!$C$4,\"Mini Paceman, John Cooper Works ALL4, R61, 218 PS / 160 kW\")","v":"Mini Paceman, John Cooper Works ALL4, R61, 218 PS / 160 kW"},{"$f":"HYPERLINK(\"files\\9030.\"&Herstellerauswahl!$C$4,\"Auswahl / Select 9030\")","v":"Auswahl / Select 9030"}]